Workbook

Sheet CMVs
A1: ID | B1: Process Group | C1: 23.1.0 | D1: 22.1.1 | E1: 22.1.0 | F1: 21.1.2 | G1: 21.1.1 | H1: 21.1.0 | I1: 20.1.2 | J1: 20.1.1 | K1: 20.1.0 | M1: Total Deltas | N1: Value 23.1.0 | O1: Delta | P1: Value 22.1.1 | Q1: Delta | R1: Value 22.1.0 | S1: Delta | T1: Value 21.1.2 | U1: Delta | V1: Value 21.1.1 | W1: Delta | X1: Value 21.1.0 | Y1: Delta | Z1: Value 20.1.2 | AA1: Delta | AB1: Value 20.1.1 | AC1: Delta | AD1: Value 20.1.0
A2: 1 | B2: 2-Model Machining | C2: 100 | D2: 90 | E2: 80 | F2: 70 | G2: 70 | H2: 70 | I2: 60 | J2: 60 | K2: 60 | M2: =M1 -> Total Deltas | N2: =_xlfn.CONCAT("CMV ",C2, " (23.1.0) Value") -> CMV 100 (23.1.0) Value | O2: =IF(C2=D2,"Same CMV",_xlfn.CONCAT("Delta from CMV ",D2, " to CMV ", C2)) -> Delta from CMV 90 to CMV 100 | P2: =_xlfn.CONCAT("CMV ",D2, " (22.1.1) Value") -> CMV 90 (22.1.1) Value | Q2: =IF(D2=E2,"Same CMV",_xlfn.CONCAT("Delta from CMV ",E2, " to CMV ", D2)) -> Delta from CMV 80 to CMV 90 | R2: =_xlfn.CONCAT("CMV ",E2, " (22.1.0) Value") -> CMV 80 (22.1.0) Value | S2: =IF(E2=F2,"Same CMV",_xlfn.CONCAT("Delta from CMV ",F2, " to CMV ", E2)) -> Delta from CMV 70 to CMV 80 | T2: =_xlfn.CONCAT("CMV ",F2, " (21.1.2) Value") -> CMV 70 (21.1.2) Value | U2: =IF(F2=G2,"Same CMV",_xlfn.CONCAT("Delta from CMV ",G2, " to CMV ", F2)) -> Same CMV | V2: =_xlfn.CONCAT("CMV ",G2, " (21.1.1) Value") -> CMV 70 (21.1.1) Value | W2: =IF(G2=H2,"Same CMV",_xlfn.CONCAT("Delta from CMV ",H2, " to CMV ", G2)) -> Same CMV | X2: =_xlfn.CONCAT("CMV ",H2, " (21.1.0) Value") -> CMV 70 (21.1.0) Value | Y2: =IF(H2=I2,"Same CMV",_xlfn.CONCAT("Delta from CMV ",I2, " to CMV ", H2)) -> Delta from CMV 60 to CMV 70 | Z2: =_xlfn.CONCAT("CMV ",I2, " (20.1.2) Value") -> CMV 60 (20.1.2) Value | AA2: =IF(I2=J2,"Same CMV",_xlfn.CONCAT("Delta from CMV ",J2, " to CMV ", I2)) -> Same CMV | AB2: =_xlfn.CONCAT("CMV ",J2, " (20.1.1) Value") -> CMV 60 (20.1.1) Value | AC2: =IF(J2=K2,"Same CMV",_xlfn.CONCAT("Delta from CMV ",K2, " to CMV ", J2)) -> Same CMV | AD2: =_xlfn.CONCAT("CMV ",K2, " (20.1.0) Value") -> CMV 60 (20.1.0) Value
A3: 2 | B3: Additive Manufacturing | C3: 130 | D3: 120 | E3: 110 | F3: 100 | G3: 100 | H3: 90 | I3: 80 | J3: 80 | K3: 70 | M3: =M2 -> Total Deltas | N3: =_xlfn.CONCAT("CMV ",C3, " (23.1.0) Value") -> CMV 130 (23.1.0) Value | O3: =IF(C3=D3,"Same CMV",_xlfn.CONCAT("Delta from CMV ",D3, " to CMV ", C3)) -> Delta from CMV 120 to CMV 130 | P3: =_xlfn.CONCAT("CMV ",D3, " (22.1.1) Value") -> CMV 120 (22.1.1) Value | Q3: =IF(D3=E3,"Same CMV",_xlfn.CONCAT("Delta from CMV ",E3, " to CMV ", D3)) -> Delta from CMV 110 to CMV 120 | R3: =_xlfn.CONCAT("CMV ",E3, " (22.1.0) Value") -> CMV 110 (22.1.0) Value | S3: =IF(E3=F3,"Same CMV",_xlfn.CONCAT("Delta from CMV ",F3, " to CMV ", E3)) -> Delta from CMV 100 to CMV 110 | T3: =_xlfn.CONCAT("CMV ",F3, " (21.1.2) Value") -> CMV 100 (21.1.2) Value | U3: =IF(F3=G3,"Same CMV",_xlfn.CONCAT("Delta from CMV ",G3, " to CMV ", F3)) -> Same CMV | V3: =_xlfn.CONCAT("CMV ",G3, " (21.1.1) Value") -> CMV 100 (21.1.1) Value | W3: =IF(G3=H3,"Same CMV",_xlfn.CONCAT("Delta from CMV ",H3, " to CMV ", G3)) -> Delta from CMV 90 to CMV 100 | X3: =_xlfn.CONCAT("CMV ",H3, " (21.1.0) Value") -> CMV 90 (21.1.0) Value | Y3: =IF(H3=I3,"Same CMV",_xlfn.CONCAT("Delta from CMV ",I3, " to CMV ", H3)) -> Delta from CMV 80 to CMV 90 | Z3: =_xlfn.CONCAT("CMV ",I3, " (20.1.2) Value") -> CMV 80 (20.1.2) Value | AA3: =IF(I3=J3,"Same CMV",_xlfn.CONCAT("Delta from CMV ",J3, " to CMV ", I3)) -> Same CMV | AB3: =_xlfn.CONCAT("CMV ",J3, " (20.1.1) Value") -> CMV 80 (20.1.1) Value | AC3: =IF(J3=K3,"Same CMV",_xlfn.CONCAT("Delta from CMV ",K3, " to CMV ", J3)) -> Delta from CMV 70 to CMV 80 | AD3: =_xlfn.CONCAT("CMV ",K3, " (20.1.0) Value") -> CMV 70 (20.1.0) Value
A4: 3 | B4: Assembly | C4: 190 | D4: 180 | E4: 170 | F4: 160 | G4: 160 | H4: 150 | I4: 140 | J4: 140 | K4: 130 | M4: =M3 -> Total Deltas | N4: =_xlfn.CONCAT("CMV ",C4, " (23.1.0) Value") -> CMV 190 (23.1.0) Value | O4: =IF(C4=D4,"Same CMV",_xlfn.CONCAT("Delta from CMV ",D4, " to CMV ", C4)) -> Delta from CMV 180 to CMV 190 | P4: =_xlfn.CONCAT("CMV ",D4, " (22.1.1) Value") -> CMV 180 (22.1.1) Value | Q4: =IF(D4=E4,"Same CMV",_xlfn.CONCAT("Delta from CMV ",E4, " to CMV ", D4)) -> Delta from CMV 170 to CMV 180 | R4: =_xlfn.CONCAT("CMV ",E4, " (22.1.0) Value") -> CMV 170 (22.1.0) Value | S4: =IF(E4=F4,"Same CMV",_xlfn.CONCAT("Delta from CMV ",F4, " to CMV ", E4)) -> Delta from CMV 160 to CMV 170 | T4: =_xlfn.CONCAT("CMV ",F4, " (21.1.2) Value") -> CMV 160 (21.1.2) Value | U4: =IF(F4=G4,"Same CMV",_xlfn.CONCAT("Delta from CMV ",G4, " to CMV ", F4)) -> Same CMV | V4: =_xlfn.CONCAT("CMV ",G4, " (21.1.1) Value") -> CMV 160 (21.1.1) Value | W4: =IF(G4=H4,"Same CMV",_xlfn.CONCAT("Delta from CMV ",H4, " to CMV ", G4)) -> Delta from CMV 150 to CMV 160 | X4: =_xlfn.CONCAT("CMV ",H4, " (21.1.0) Value") -> CMV 150 (21.1.0) Value | Y4: =IF(H4=I4,"Same CMV",_xlfn.CONCAT("Delta from CMV ",I4, " to CMV ", H4)) -> Delta from CMV 140 to CMV 150 | Z4: =_xlfn.CONCAT("CMV ",I4, " (20.1.2) Value") -> CMV 140 (20.1.2) Value | AA4: =IF(I4=J4,"Same CMV",_xlfn.CONCAT("Delta from CMV ",J4, " to CMV ", I4)) -> Same CMV | AB4: =_xlfn.CONCAT("CMV ",J4, " (20.1.1) Value") -> CMV 140 (20.1.1) Value | AC4: =IF(J4=K4,"Same CMV",_xlfn.CONCAT("Delta from CMV ",K4, " to CMV ", J4)) -> Delta from CMV 130 to CMV 140 | AD4: =_xlfn.CONCAT("CMV ",K4, " (20.1.0) Value") -> CMV 130 (20.1.0) Value
A5: 4 | B5: Assembly Molding | C5: 100 | D5: 90 | E5: 80 | F5: 70 | G5: 70 | H5: 60 | I5: 50 | J5: 50 | K5: 40 | M5: =M4 -> Total Deltas | N5: =_xlfn.CONCAT("CMV ",C5, " (23.1.0) Value") -> CMV 100 (23.1.0) Value | O5: =IF(C5=D5,"Same CMV",_xlfn.CONCAT("Delta from CMV ",D5, " to CMV ", C5)) -> Delta from CMV 90 to CMV 100 | P5: =_xlfn.CONCAT("CMV ",D5, " (22.1.1) Value") -> CMV 90 (22.1.1) Value | Q5: =IF(D5=E5,"Same CMV",_xlfn.CONCAT("Delta from CMV ",E5, " to CMV ", D5)) -> Delta from CMV 80 to CMV 90 | R5: =_xlfn.CONCAT("CMV ",E5, " (22.1.0) Value") -> CMV 80 (22.1.0) Value | S5: =IF(E5=F5,"Same CMV",_xlfn.CONCAT("Delta from CMV ",F5, " to CMV ", E5)) -> Delta from CMV 70 to CMV 80 | T5: =_xlfn.CONCAT("CMV ",F5, " (21.1.2) Value") -> CMV 70 (21.1.2) Value | U5: =IF(F5=G5,"Same CMV",_xlfn.CONCAT("Delta from CMV ",G5, " to CMV ", F5)) -> Same CMV | V5: =_xlfn.CONCAT("CMV ",G5, " (21.1.1) Value") -> CMV 70 (21.1.1) Value | W5: =IF(G5=H5,"Same CMV",_xlfn.CONCAT("Delta from CMV ",H5, " to CMV ", G5)) -> Delta from CMV 60 to CMV 70 | X5: =_xlfn.CONCAT("CMV ",H5, " (21.1.0) Value") -> CMV 60 (21.1.0) Value | Y5: =IF(H5=I5,"Same CMV",_xlfn.CONCAT("Delta from CMV ",I5, " to CMV ", H5)) -> Delta from CMV 50 to CMV 60 | Z5: =_xlfn.CONCAT("CMV ",I5, " (20.1.2) Value") -> CMV 50 (20.1.2) Value | AA5: =IF(I5=J5,"Same CMV",_xlfn.CONCAT("Delta from CMV ",J5, " to CMV ", I5)) -> Same CMV | AB5: =_xlfn.CONCAT("CMV ",J5, " (20.1.1) Value") -> CMV 50 (20.1.1) Value | AC5: =IF(J5=K5,"Same CMV",_xlfn.CONCAT("Delta from CMV ",K5, " to CMV ", J5)) -> Delta from CMV 40 to CMV 50 | AD5: =_xlfn.CONCAT("CMV ",K5, " (20.1.0) Value") -> CMV 40 (20.1.0) Value
A6: 5 | B6: Assembly Plastic Molding | C6: 50 | D6: 40 | E6: 30 | F6: 20 | G6: 20 | H6: 10 | I6: 5 | J6: 0 | K6: 0 | M6: =M5 -> Total Deltas | N6: =_xlfn.CONCAT("CMV ",C6, " (23.1.0) Value") -> CMV 50 (23.1.0) Value | O6: =IF(C6=D6,"Same CMV",_xlfn.CONCAT("Delta from CMV ",D6, " to CMV ", C6)) -> Delta from CMV 40 to CMV 50 | P6: =_xlfn.CONCAT("CMV ",D6, " (22.1.1) Value") -> CMV 40 (22.1.1) Value | Q6: =IF(D6=E6,"Same CMV",_xlfn.CONCAT("Delta from CMV ",E6, " to CMV ", D6)) -> Delta from CMV 30 to CMV 40 | R6: =_xlfn.CONCAT("CMV ",E6, " (22.1.0) Value") -> CMV 30 (22.1.0) Value | S6: =IF(E6=F6,"Same CMV",_xlfn.CONCAT("Delta from CMV ",F6, " to CMV ", E6)) -> Delta from CMV 20 to CMV 30 | T6: =_xlfn.CONCAT("CMV ",F6, " (21.1.2) Value") -> CMV 20 (21.1.2) Value | U6: =IF(F6=G6,"Same CMV",_xlfn.CONCAT("Delta from CMV ",G6, " to CMV ", F6)) -> Same CMV | V6: =_xlfn.CONCAT("CMV ",G6, " (21.1.1) Value") -> CMV 20 (21.1.1) Value | W6: =IF(G6=H6,"Same CMV",_xlfn.CONCAT("Delta from CMV ",H6, " to CMV ", G6)) -> Delta from CMV 10 to CMV 20 | X6: =_xlfn.CONCAT("CMV ",H6, " (21.1.0) Value") -> CMV 10 (21.1.0) Value | Y6: =IF(H6=I6,"Same CMV",_xlfn.CONCAT("Delta from CMV ",I6, " to CMV ", H6)) -> Delta from CMV 5 to CMV 10 | Z6: =_xlfn.CONCAT("CMV ",I6, " (20.1.2) Value") -> CMV 5 (20.1.2) Value | AA6: =IF(I6=J6,"Same CMV",_xlfn.CONCAT("Delta from CMV ",J6, " to CMV ", I6)) -> Delta from CMV 0 to CMV 5 | AB6: =_xlfn.CONCAT("CMV ",J6, " (20.1.1) Value") -> CMV 0 (20.1.1) Value | AC6: =IF(J6=K6,"Same CMV",_xlfn.CONCAT("Delta from CMV ",K6, " to CMV ", J6)) -> Same CMV | AD6: =_xlfn.CONCAT("CMV ",K6, " (20.1.0) Value") -> CMV 0 (20.1.0) Value
A7: 6 | B7: Bar & Tube Fab | C7: 210 | D7: 200 | E7: 190 | F7: 180 | G7: 180 | H7: 170 | I7: 160 | J7: 160 | K7: 150 | M7: =M6 -> Total Deltas | N7: =_xlfn.CONCAT("CMV ",C7, " (23.1.0) Value") -> CMV 210 (23.1.0) Value | O7: =IF(C7=D7,"Same CMV",_xlfn.CONCAT("Delta from CMV ",D7, " to CMV ", C7)) -> Delta from CMV 200 to CMV 210 | P7: =_xlfn.CONCAT("CMV ",D7, " (22.1.1) Value") -> CMV 200 (22.1.1) Value | Q7: =IF(D7=E7,"Same CMV",_xlfn.CONCAT("Delta from CMV ",E7, " to CMV ", D7)) -> Delta from CMV 190 to CMV 200 | R7: =_xlfn.CONCAT("CMV ",E7, " (22.1.0) Value") -> CMV 190 (22.1.0) Value | S7: =IF(E7=F7,"Same CMV",_xlfn.CONCAT("Delta from CMV ",F7, " to CMV ", E7)) -> Delta from CMV 180 to CMV 190 | T7: =_xlfn.CONCAT("CMV ",F7, " (21.1.2) Value") -> CMV 180 (21.1.2) Value | U7: =IF(F7=G7,"Same CMV",_xlfn.CONCAT("Delta from CMV ",G7, " to CMV ", F7)) -> Same CMV | V7: =_xlfn.CONCAT("CMV ",G7, " (21.1.1) Value") -> CMV 180 (21.1.1) Value | W7: =IF(G7=H7,"Same CMV",_xlfn.CONCAT("Delta from CMV ",H7, " to CMV ", G7)) -> Delta from CMV 170 to CMV 180 | X7: =_xlfn.CONCAT("CMV ",H7, " (21.1.0) Value") -> CMV 170 (21.1.0) Value | Y7: =IF(H7=I7,"Same CMV",_xlfn.CONCAT("Delta from CMV ",I7, " to CMV ", H7)) -> Delta from CMV 160 to CMV 170 | Z7: =_xlfn.CONCAT("CMV ",I7, " (20.1.2) Value") -> CMV 160 (20.1.2) Value | AA7: =IF(I7=J7,"Same CMV",_xlfn.CONCAT("Delta from CMV ",J7, " to CMV ", I7)) -> Same CMV | AB7: =_xlfn.CONCAT("CMV ",J7, " (20.1.1) Value") -> CMV 160 (20.1.1) Value | AC7: =IF(J7=K7,"Same CMV",_xlfn.CONCAT("Delta from CMV ",K7, " to CMV ", J7)) -> Delta from CMV 150 to CMV 160 | AD7: =_xlfn.CONCAT("CMV ",K7, " (20.1.0) Value") -> CMV 150 (20.1.0) Value
A8: 7 | B8: Casting | C8: 100 | D8: 100 | E8: 100 | F8: 90 | G8: 90 | H8: 90 | I8: 90 | J8: 90 | K8: 90 | M8: =M7 -> Total Deltas | N8: =_xlfn.CONCAT("CMV ",C8, " (23.1.0) Value") -> CMV 100 (23.1.0) Value | O8: =IF(C8=D8,"Same CMV",_xlfn.CONCAT("Delta from CMV ",D8, " to CMV ", C8)) -> Same CMV | P8: =_xlfn.CONCAT("CMV ",D8, " (22.1.1) Value") -> CMV 100 (22.1.1) Value | Q8: =IF(D8=E8,"Same CMV",_xlfn.CONCAT("Delta from CMV ",E8, " to CMV ", D8)) -> Same CMV | R8: =_xlfn.CONCAT("CMV ",E8, " (22.1.0) Value") -> CMV 100 (22.1.0) Value | S8: =IF(E8=F8,"Same CMV",_xlfn.CONCAT("Delta from CMV ",F8, " to CMV ", E8)) -> Delta from CMV 90 to CMV 100 | T8: =_xlfn.CONCAT("CMV ",F8, " (21.1.2) Value") -> CMV 90 (21.1.2) Value | U8: =IF(F8=G8,"Same CMV",_xlfn.CONCAT("Delta from CMV ",G8, " to CMV ", F8)) -> Same CMV | V8: =_xlfn.CONCAT("CMV ",G8, " (21.1.1) Value") -> CMV 90 (21.1.1) Value | W8: =IF(G8=H8,"Same CMV",_xlfn.CONCAT("Delta from CMV ",H8, " to CMV ", G8)) -> Same CMV | X8: =_xlfn.CONCAT("CMV ",H8, " (21.1.0) Value") -> CMV 90 (21.1.0) Value | Y8: =IF(H8=I8,"Same CMV",_xlfn.CONCAT("Delta from CMV ",I8, " to CMV ", H8)) -> Same CMV | Z8: =_xlfn.CONCAT("CMV ",I8, " (20.1.2) Value") -> CMV 90 (20.1.2) Value | AA8: =IF(I8=J8,"Same CMV",_xlfn.CONCAT("Delta from CMV ",J8, " to CMV ", I8)) -> Same CMV | AB8: =_xlfn.CONCAT("CMV ",J8, " (20.1.1) Value") -> CMV 90 (20.1.1) Value | AC8: =IF(J8=K8,"Same CMV",_xlfn.CONCAT("Delta from CMV ",K8, " to CMV ", J8)) -> Same CMV | AD8: =_xlfn.CONCAT("CMV ",K8, " (20.1.0) Value") -> CMV 90 (20.1.0) Value
A9: 8 | B9: Casting - Die | C9: 140 | D9: 130 | E9: 120 | F9: 110 | G9: 110 | H9: 100 | I9: 90 | J9: 90 | K9: 80 | M9: =M8 -> Total Deltas | N9: =_xlfn.CONCAT("CMV ",C9, " (23.1.0) Value") -> CMV 140 (23.1.0) Value | O9: =IF(C9=D9,"Same CMV",_xlfn.CONCAT("Delta from CMV ",D9, " to CMV ", C9)) -> Delta from CMV 130 to CMV 140 | P9: =_xlfn.CONCAT("CMV ",D9, " (22.1.1) Value") -> CMV 130 (22.1.1) Value | Q9: =IF(D9=E9,"Same CMV",_xlfn.CONCAT("Delta from CMV ",E9, " to CMV ", D9)) -> Delta from CMV 120 to CMV 130 | R9: =_xlfn.CONCAT("CMV ",E9, " (22.1.0) Value") -> CMV 120 (22.1.0) Value | S9: =IF(E9=F9,"Same CMV",_xlfn.CONCAT("Delta from CMV ",F9, " to CMV ", E9)) -> Delta from CMV 110 to CMV 120 | T9: =_xlfn.CONCAT("CMV ",F9, " (21.1.2) Value") -> CMV 110 (21.1.2) Value | U9: =IF(F9=G9,"Same CMV",_xlfn.CONCAT("Delta from CMV ",G9, " to CMV ", F9)) -> Same CMV | V9: =_xlfn.CONCAT("CMV ",G9, " (21.1.1) Value") -> CMV 110 (21.1.1) Value | W9: =IF(G9=H9,"Same CMV",_xlfn.CONCAT("Delta from CMV ",H9, " to CMV ", G9)) -> Delta from CMV 100 to CMV 110 | X9: =_xlfn.CONCAT("CMV ",H9, " (21.1.0) Value") -> CMV 100 (21.1.0) Value | Y9: =IF(H9=I9,"Same CMV",_xlfn.CONCAT("Delta from CMV ",I9, " to CMV ", H9)) -> Delta from CMV 90 to CMV 100 | Z9: =_xlfn.CONCAT("CMV ",I9, " (20.1.2) Value") -> CMV 90 (20.1.2) Value | AA9: =IF(I9=J9,"Same CMV",_xlfn.CONCAT("Delta from CMV ",J9, " to CMV ", I9)) -> Same CMV | AB9: =_xlfn.CONCAT("CMV ",J9, " (20.1.1) Value") -> CMV 90 (20.1.1) Value | AC9: =IF(J9=K9,"Same CMV",_xlfn.CONCAT("Delta from CMV ",K9, " to CMV ", J9)) -> Delta from CMV 80 to CMV 90 | AD9: =_xlfn.CONCAT("CMV ",K9, " (20.1.0) Value") -> CMV 80 (20.1.0) Value
A10: 9 | B10: Casting - Investment | C10: 60 | D10: 50 | E10: 40 | F10: 30 | G10: 30 | H10: 20 | I10: 10 | J10: 10 | K10: 0 | M10: =M9 -> Total Deltas | N10: =_xlfn.CONCAT("CMV ",C10, " (23.1.0) Value") -> CMV 60 (23.1.0) Value | O10: =IF(C10=D10,"Same CMV",_xlfn.CONCAT("Delta from CMV ",D10, " to CMV ", C10)) -> Delta from CMV 50 to CMV 60 | P10: =_xlfn.CONCAT("CMV ",D10, " (22.1.1) Value") -> CMV 50 (22.1.1) Value | Q10: =IF(D10=E10,"Same CMV",_xlfn.CONCAT("Delta from CMV ",E10, " to CMV ", D10)) -> Delta from CMV 40 to CMV 50 | R10: =_xlfn.CONCAT("CMV ",E10, " (22.1.0) Value") -> CMV 40 (22.1.0) Value | S10: =IF(E10=F10,"Same CMV",_xlfn.CONCAT("Delta from CMV ",F10, " to CMV ", E10)) -> Delta from CMV 30 to CMV 40 | T10: =_xlfn.CONCAT("CMV ",F10, " (21.1.2) Value") -> CMV 30 (21.1.2) Value | U10: =IF(F10=G10,"Same CMV",_xlfn.CONCAT("Delta from CMV ",G10, " to CMV ", F10)) -> Same CMV | V10: =_xlfn.CONCAT("CMV ",G10, " (21.1.1) Value") -> CMV 30 (21.1.1) Value | W10: =IF(G10=H10,"Same CMV",_xlfn.CONCAT("Delta from CMV ",H10, " to CMV ", G10)) -> Delta from CMV 20 to CMV 30 | X10: =_xlfn.CONCAT("CMV ",H10, " (21.1.0) Value") -> CMV 20 (21.1.0) Value | Y10: =IF(H10=I10,"Same CMV",_xlfn.CONCAT("Delta from CMV ",I10, " to CMV ", H10)) -> Delta from CMV 10 to CMV 20 | Z10: =_xlfn.CONCAT("CMV ",I10, " (20.1.2) Value") -> CMV 10 (20.1.2) Value | AA10: =IF(I10=J10,"Same CMV",_xlfn.CONCAT("Delta from CMV ",J10, " to CMV ", I10)) -> Same CMV | AB10: =_xlfn.CONCAT("CMV ",J10, " (20.1.1) Value") -> CMV 10 (20.1.1) Value | AC10: =IF(J10=K10,"Same CMV",_xlfn.CONCAT("Delta from CMV ",K10, " to CMV ", J10)) -> Delta from CMV 0 to CMV 10 | AD10: =_xlfn.CONCAT("CMV ",K10, " (20.1.0) Value") -> CMV 0 (20.1.0) Value
A11: 10 | B11: Casting - Sand | C11: 140 | D11: 130 | E11: 120 | F11: 110 | G11: 110 | H11: 100 | I11: 90 | J11: 90 | K11: 80 | M11: =M10 -> Total Deltas | N11: =_xlfn.CONCAT("CMV ",C11, " (23.1.0) Value") -> CMV 140 (23.1.0) Value | O11: =IF(C11=D11,"Same CMV",_xlfn.CONCAT("Delta from CMV ",D11, " to CMV ", C11)) -> Delta from CMV 130 to CMV 140 | P11: =_xlfn.CONCAT("CMV ",D11, " (22.1.1) Value") -> CMV 130 (22.1.1) Value | Q11: =IF(D11=E11,"Same CMV",_xlfn.CONCAT("Delta from CMV ",E11, " to CMV ", D11)) -> Delta from CMV 120 to CMV 130 | R11: =_xlfn.CONCAT("CMV ",E11, " (22.1.0) Value") -> CMV 120 (22.1.0) Value | S11: =IF(E11=F11,"Same CMV",_xlfn.CONCAT("Delta from CMV ",F11, " to CMV ", E11)) -> Delta from CMV 110 to CMV 120 | T11: =_xlfn.CONCAT("CMV ",F11, " (21.1.2) Value") -> CMV 110 (21.1.2) Value | U11: =IF(F11=G11,"Same CMV",_xlfn.CONCAT("Delta from CMV ",G11, " to CMV ", F11)) -> Same CMV | V11: =_xlfn.CONCAT("CMV ",G11, " (21.1.1) Value") -> CMV 110 (21.1.1) Value | W11: =IF(G11=H11,"Same CMV",_xlfn.CONCAT("Delta from CMV ",H11, " to CMV ", G11)) -> Delta from CMV 100 to CMV 110 | X11: =_xlfn.CONCAT("CMV ",H11, " (21.1.0) Value") -> CMV 100 (21.1.0) Value | Y11: =IF(H11=I11,"Same CMV",_xlfn.CONCAT("Delta from CMV ",I11, " to CMV ", H11)) -> Delta from CMV 90 to CMV 100 | Z11: =_xlfn.CONCAT("CMV ",I11, " (20.1.2) Value") -> CMV 90 (20.1.2) Value | AA11: =IF(I11=J11,"Same CMV",_xlfn.CONCAT("Delta from CMV ",J11, " to CMV ", I11)) -> Same CMV | AB11: =_xlfn.CONCAT("CMV ",J11, " (20.1.1) Value") -> CMV 90 (20.1.1) Value | AC11: =IF(J11=K11,"Same CMV",_xlfn.CONCAT("Delta from CMV ",K11, " to CMV ", J11)) -> Delta from CMV 80 to CMV 90 | AD11: =_xlfn.CONCAT("CMV ",K11, " (20.1.0) Value") -> CMV 80 (20.1.0) Value
A12: 11 | B12: Composites | C12: 60 | D12: 60 | E12: 50 | F12: 40 | G12: 40 | H12: 40 | I12: 30 | J12: 30 | K12: 20 | M12: =M11 -> Total Deltas | N12: =_xlfn.CONCAT("CMV ",C12, " (23.1.0) Value") -> CMV 60 (23.1.0) Value | O12: =IF(C12=D12,"Same CMV",_xlfn.CONCAT("Delta from CMV ",D12, " to CMV ", C12)) -> Same CMV | P12: =_xlfn.CONCAT("CMV ",D12, " (22.1.1) Value") -> CMV 60 (22.1.1) Value | Q12: =IF(D12=E12,"Same CMV",_xlfn.CONCAT("Delta from CMV ",E12, " to CMV ", D12)) -> Delta from CMV 50 to CMV 60 | R12: =_xlfn.CONCAT("CMV ",E12, " (22.1.0) Value") -> CMV 50 (22.1.0) Value | S12: =IF(E12=F12,"Same CMV",_xlfn.CONCAT("Delta from CMV ",F12, " to CMV ", E12)) -> Delta from CMV 40 to CMV 50 | T12: =_xlfn.CONCAT("CMV ",F12, " (21.1.2) Value") -> CMV 40 (21.1.2) Value | U12: =IF(F12=G12,"Same CMV",_xlfn.CONCAT("Delta from CMV ",G12, " to CMV ", F12)) -> Same CMV | V12: =_xlfn.CONCAT("CMV ",G12, " (21.1.1) Value") -> CMV 40 (21.1.1) Value | W12: =IF(G12=H12,"Same CMV",_xlfn.CONCAT("Delta from CMV ",H12, " to CMV ", G12)) -> Same CMV | X12: =_xlfn.CONCAT("CMV ",H12, " (21.1.0) Value") -> CMV 40 (21.1.0) Value | Y12: =IF(H12=I12,"Same CMV",_xlfn.CONCAT("Delta from CMV ",I12, " to CMV ", H12)) -> Delta from CMV 30 to CMV 40 | Z12: =_xlfn.CONCAT("CMV ",I12, " (20.1.2) Value") -> CMV 30 (20.1.2) Value | AA12: =IF(I12=J12,"Same CMV",_xlfn.CONCAT("Delta from CMV ",J12, " to CMV ", I12)) -> Same CMV | AB12: =_xlfn.CONCAT("CMV ",J12, " (20.1.1) Value") -> CMV 30 (20.1.1) Value | AC12: =IF(J12=K12,"Same CMV",_xlfn.CONCAT("Delta from CMV ",K12, " to CMV ", J12)) -> Delta from CMV 20 to CMV 30 | AD12: =_xlfn.CONCAT("CMV ",K12, " (20.1.0) Value") -> CMV 20 (20.1.0) Value
A13: 12 | B13: Forging | C13: 190 | D13: 180 | E13: 170 | F13: 160 | G13: 160 | H13: 150 | I13: 140 | J13: 140 | K13: 130 | M13: =M12 -> Total Deltas | N13: =_xlfn.CONCAT("CMV ",C13, " (23.1.0) Value") -> CMV 190 (23.1.0) Value | O13: =IF(C13=D13,"Same CMV",_xlfn.CONCAT("Delta from CMV ",D13, " to CMV ", C13)) -> Delta from CMV 180 to CMV 190 | P13: =_xlfn.CONCAT("CMV ",D13, " (22.1.1) Value") -> CMV 180 (22.1.1) Value | Q13: =IF(D13=E13,"Same CMV",_xlfn.CONCAT("Delta from CMV ",E13, " to CMV ", D13)) -> Delta from CMV 170 to CMV 180 | R13: =_xlfn.CONCAT("CMV ",E13, " (22.1.0) Value") -> CMV 170 (22.1.0) Value | S13: =IF(E13=F13,"Same CMV",_xlfn.CONCAT("Delta from CMV ",F13, " to CMV ", E13)) -> Delta from CMV 160 to CMV 170 | T13: =_xlfn.CONCAT("CMV ",F13, " (21.1.2) Value") -> CMV 160 (21.1.2) Value | U13: =IF(F13=G13,"Same CMV",_xlfn.CONCAT("Delta from CMV ",G13, " to CMV ", F13)) -> Same CMV | V13: =_xlfn.CONCAT("CMV ",G13, " (21.1.1) Value") -> CMV 160 (21.1.1) Value | W13: =IF(G13=H13,"Same CMV",_xlfn.CONCAT("Delta from CMV ",H13, " to CMV ", G13)) -> Delta from CMV 150 to CMV 160 | X13: =_xlfn.CONCAT("CMV ",H13, " (21.1.0) Value") -> CMV 150 (21.1.0) Value | Y13: =IF(H13=I13,"Same CMV",_xlfn.CONCAT("Delta from CMV ",I13, " to CMV ", H13)) -> Delta from CMV 140 to CMV 150 | Z13: =_xlfn.CONCAT("CMV ",I13, " (20.1.2) Value") -> CMV 140 (20.1.2) Value | AA13: =IF(I13=J13,"Same CMV",_xlfn.CONCAT("Delta from CMV ",J13, " to CMV ", I13)) -> Same CMV | AB13: =_xlfn.CONCAT("CMV ",J13, " (20.1.1) Value") -> CMV 140 (20.1.1) Value | AC13: =IF(J13=K13,"Same CMV",_xlfn.CONCAT("Delta from CMV ",K13, " to CMV ", J13)) -> Delta from CMV 130 to CMV 140 | AD13: =_xlfn.CONCAT("CMV ",K13, " (20.1.0) Value") -> CMV 130 (20.1.0) Value
A14: 13 | B14: Heat Treatment | C14: 140 | D14: 130 | E14: 120 | F14: 110 | G14: 110 | H14: 100 | I14: 100 | J14: 100 | K14: 100 | M14: =M13 -> Total Deltas | N14: =_xlfn.CONCAT("CMV ",C14, " (23.1.0) Value") -> CMV 140 (23.1.0) Value | O14: =IF(C14=D14,"Same CMV",_xlfn.CONCAT("Delta from CMV ",D14, " to CMV ", C14)) -> Delta from CMV 130 to CMV 140 | P14: =_xlfn.CONCAT("CMV ",D14, " (22.1.1) Value") -> CMV 130 (22.1.1) Value | Q14: =IF(D14=E14,"Same CMV",_xlfn.CONCAT("Delta from CMV ",E14, " to CMV ", D14)) -> Delta from CMV 120 to CMV 130 | R14: =_xlfn.CONCAT("CMV ",E14, " (22.1.0) Value") -> CMV 120 (22.1.0) Value | S14: =IF(E14=F14,"Same CMV",_xlfn.CONCAT("Delta from CMV ",F14, " to CMV ", E14)) -> Delta from CMV 110 to CMV 120 | T14: =_xlfn.CONCAT("CMV ",F14, " (21.1.2) Value") -> CMV 110 (21.1.2) Value | U14: =IF(F14=G14,"Same CMV",_xlfn.CONCAT("Delta from CMV ",G14, " to CMV ", F14)) -> Same CMV | V14: =_xlfn.CONCAT("CMV ",G14, " (21.1.1) Value") -> CMV 110 (21.1.1) Value | W14: =IF(G14=H14,"Same CMV",_xlfn.CONCAT("Delta from CMV ",H14, " to CMV ", G14)) -> Delta from CMV 100 to CMV 110 | X14: =_xlfn.CONCAT("CMV ",H14, " (21.1.0) Value") -> CMV 100 (21.1.0) Value | Y14: =IF(H14=I14,"Same CMV",_xlfn.CONCAT("Delta from CMV ",I14, " to CMV ", H14)) -> Same CMV | Z14: =_xlfn.CONCAT("CMV ",I14, " (20.1.2) Value") -> CMV 100 (20.1.2) Value | AA14: =IF(I14=J14,"Same CMV",_xlfn.CONCAT("Delta from CMV ",J14, " to CMV ", I14)) -> Same CMV | AB14: =_xlfn.CONCAT("CMV ",J14, " (20.1.1) Value") -> CMV 100 (20.1.1) Value | AC14: =IF(J14=K14,"Same CMV",_xlfn.CONCAT("Delta from CMV ",K14, " to CMV ", J14)) -> Same CMV | AD14: =_xlfn.CONCAT("CMV ",K14, " (20.1.0) Value") -> CMV 100 (20.1.0) Value
A15: 14 | B15: Injection Molding | C15: NA | D15: NA | E15: NA | F15: NA | G15: NA | H15: NA | I15: NA | J15: NA | K15: NA | M15: =M14 -> Total Deltas | N15: =_xlfn.CONCAT("CMV ",C15, " (23.1.0) Value") -> CMV NA (23.1.0) Value | O15: =IF(C15=D15,"Same CMV",_xlfn.CONCAT("Delta from CMV ",D15, " to CMV ", C15)) -> Same CMV | P15: =_xlfn.CONCAT("CMV ",D15, " (22.1.1) Value") -> CMV NA (22.1.1) Value | Q15: =IF(D15=E15,"Same CMV",_xlfn.CONCAT("Delta from CMV ",E15, " to CMV ", D15)) -> Same CMV | R15: =_xlfn.CONCAT("CMV ",E15, " (22.1.0) Value") -> CMV NA (22.1.0) Value | S15: =IF(E15=F15,"Same CMV",_xlfn.CONCAT("Delta from CMV ",F15, " to CMV ", E15)) -> Same CMV | T15: =_xlfn.CONCAT("CMV ",F15, " (21.1.2) Value") -> CMV NA (21.1.2) Value | U15: =IF(F15=G15,"Same CMV",_xlfn.CONCAT("Delta from CMV ",G15, " to CMV ", F15)) -> Same CMV | V15: =_xlfn.CONCAT("CMV ",G15, " (21.1.1) Value") -> CMV NA (21.1.1) Value | W15: =IF(G15=H15,"Same CMV",_xlfn.CONCAT("Delta from CMV ",H15, " to CMV ", G15)) -> Same CMV | X15: =_xlfn.CONCAT("CMV ",H15, " (21.1.0) Value") -> CMV NA (21.1.0) Value | Y15: =IF(H15=I15,"Same CMV",_xlfn.CONCAT("Delta from CMV ",I15, " to CMV ", H15)) -> Same CMV | Z15: =_xlfn.CONCAT("CMV ",I15, " (20.1.2) Value") -> CMV NA (20.1.2) Value | AA15: =IF(I15=J15,"Same CMV",_xlfn.CONCAT("Delta from CMV ",J15, " to CMV ", I15)) -> Same CMV | AB15: =_xlfn.CONCAT("CMV ",J15, " (20.1.1) Value") -> CMV NA (20.1.1) Value | AC15: =IF(J15=K15,"Same CMV",_xlfn.CONCAT("Delta from CMV ",K15, " to CMV ", J15)) -> Same CMV | AD15: =_xlfn.CONCAT("CMV ",K15, " (20.1.0) Value") -> CMV NA (20.1.0) Value
A16: 15 | B16: Machining | C16: 270 | D16: 260 | E16: 250 | F16: 240 | G16: 240 | H16: 230 | I16: 220 | J16: 220 | K16: 210 | M16: =M15 -> Total Deltas | N16: =_xlfn.CONCAT("CMV ",C16, " (23.1.0) Value") -> CMV 270 (23.1.0) Value | O16: =IF(C16=D16,"Same CMV",_xlfn.CONCAT("Delta from CMV ",D16, " to CMV ", C16)) -> Delta from CMV 260 to CMV 270 | P16: =_xlfn.CONCAT("CMV ",D16, " (22.1.1) Value") -> CMV 260 (22.1.1) Value | Q16: =IF(D16=E16,"Same CMV",_xlfn.CONCAT("Delta from CMV ",E16, " to CMV ", D16)) -> Delta from CMV 250 to CMV 260 | R16: =_xlfn.CONCAT("CMV ",E16, " (22.1.0) Value") -> CMV 250 (22.1.0) Value | S16: =IF(E16=F16,"Same CMV",_xlfn.CONCAT("Delta from CMV ",F16, " to CMV ", E16)) -> Delta from CMV 240 to CMV 250 | T16: =_xlfn.CONCAT("CMV ",F16, " (21.1.2) Value") -> CMV 240 (21.1.2) Value | U16: =IF(F16=G16,"Same CMV",_xlfn.CONCAT("Delta from CMV ",G16, " to CMV ", F16)) -> Same CMV | V16: =_xlfn.CONCAT("CMV ",G16, " (21.1.1) Value") -> CMV 240 (21.1.1) Value | W16: =IF(G16=H16,"Same CMV",_xlfn.CONCAT("Delta from CMV ",H16, " to CMV ", G16)) -> Delta from CMV 230 to CMV 240 | X16: =_xlfn.CONCAT("CMV ",H16, " (21.1.0) Value") -> CMV 230 (21.1.0) Value | Y16: =IF(H16=I16,"Same CMV",_xlfn.CONCAT("Delta from CMV ",I16, " to CMV ", H16)) -> Delta from CMV 220 to CMV 230 | Z16: =_xlfn.CONCAT("CMV ",I16, " (20.1.2) Value") -> CMV 220 (20.1.2) Value | AA16: =IF(I16=J16,"Same CMV",_xlfn.CONCAT("Delta from CMV ",J16, " to CMV ", I16)) -> Same CMV | AB16: =_xlfn.CONCAT("CMV ",J16, " (20.1.1) Value") -> CMV 220 (20.1.1) Value | AC16: =IF(J16=K16,"Same CMV",_xlfn.CONCAT("Delta from CMV ",K16, " to CMV ", J16)) -> Delta from CMV 210 to CMV 220 | AD16: =_xlfn.CONCAT("CMV ",K16, " (20.1.0) Value") -> CMV 210 (20.1.0) Value
A17: 16 | B17: Multi-Spindle Machining | C17: 20 | D17: 20 | E17: 10 | F17: 0 | G17: 0 | H17: 0 | I17: NA | J17: NA | K17: NA | M17: =M16 -> Total Deltas | N17: =_xlfn.CONCAT("CMV ",C17, " (23.1.0) Value") -> CMV 20 (23.1.0) Value | O17: =IF(C17=D17,"Same CMV",_xlfn.CONCAT("Delta from CMV ",D17, " to CMV ", C17)) -> Same CMV | P17: =_xlfn.CONCAT("CMV ",D17, " (22.1.1) Value") -> CMV 20 (22.1.1) Value | Q17: =IF(D17=E17,"Same CMV",_xlfn.CONCAT("Delta from CMV ",E17, " to CMV ", D17)) -> Delta from CMV 10 to CMV 20 | R17: =_xlfn.CONCAT("CMV ",E17, " (22.1.0) Value") -> CMV 10 (22.1.0) Value | S17: =IF(E17=F17,"Same CMV",_xlfn.CONCAT("Delta from CMV ",F17, " to CMV ", E17)) -> Delta from CMV 0 to CMV 10 | T17: =_xlfn.CONCAT("CMV ",F17, " (21.1.2) Value") -> CMV 0 (21.1.2) Value | U17: =IF(F17=G17,"Same CMV",_xlfn.CONCAT("Delta from CMV ",G17, " to CMV ", F17)) -> Same CMV | V17: =_xlfn.CONCAT("CMV ",G17, " (21.1.1) Value") -> CMV 0 (21.1.1) Value | W17: =IF(G17=H17,"Same CMV",_xlfn.CONCAT("Delta from CMV ",H17, " to CMV ", G17)) -> Same CMV | X17: =_xlfn.CONCAT("CMV ",H17, " (21.1.0) Value") -> CMV 0 (21.1.0) Value | Y17: =IF(H17=I17,"Same CMV",_xlfn.CONCAT("Delta from CMV ",I17, " to CMV ", H17)) -> Delta from CMV NA to CMV 0 | Z17: =_xlfn.CONCAT("CMV ",I17, " (20.1.2) Value") -> CMV NA (20.1.2) Value | AA17: =IF(I17=J17,"Same CMV",_xlfn.CONCAT("Delta from CMV ",J17, " to CMV ", I17)) -> Same CMV | AB17: =_xlfn.CONCAT("CMV ",J17, " (20.1.1) Value") -> CMV NA (20.1.1) Value | AC17: =IF(J17=K17,"Same CMV",_xlfn.CONCAT("Delta from CMV ",K17, " to CMV ", J17)) -> Same CMV | AD17: =_xlfn.CONCAT("CMV ",K17, " (20.1.0) Value") -> CMV NA (20.1.0) Value
A18: 17 | B18: Other Secondary Processes | C18: 130 | D18: 130 | E18: 120 | F18: 110 | G18: 110 | H18: 110 | I18: 110 | J18: 110 | K18: 110 | M18: =M17 -> Total Deltas | N18: =_xlfn.CONCAT("CMV ",C18, " (23.1.0) Value") -> CMV 130 (23.1.0) Value | O18: =IF(C18=D18,"Same CMV",_xlfn.CONCAT("Delta from CMV ",D18, " to CMV ", C18)) -> Same CMV | P18: =_xlfn.CONCAT("CMV ",D18, " (22.1.1) Value") -> CMV 130 (22.1.1) Value | Q18: =IF(D18=E18,"Same CMV",_xlfn.CONCAT("Delta from CMV ",E18, " to CMV ", D18)) -> Delta from CMV 120 to CMV 130 | R18: =_xlfn.CONCAT("CMV ",E18, " (22.1.0) Value") -> CMV 120 (22.1.0) Value | S18: =IF(E18=F18,"Same CMV",_xlfn.CONCAT("Delta from CMV ",F18, " to CMV ", E18)) -> Delta from CMV 110 to CMV 120 | T18: =_xlfn.CONCAT("CMV ",F18, " (21.1.2) Value") -> CMV 110 (21.1.2) Value | U18: =IF(F18=G18,"Same CMV",_xlfn.CONCAT("Delta from CMV ",G18, " to CMV ", F18)) -> Same CMV | V18: =_xlfn.CONCAT("CMV ",G18, " (21.1.1) Value") -> CMV 110 (21.1.1) Value | W18: =IF(G18=H18,"Same CMV",_xlfn.CONCAT("Delta from CMV ",H18, " to CMV ", G18)) -> Same CMV | X18: =_xlfn.CONCAT("CMV ",H18, " (21.1.0) Value") -> CMV 110 (21.1.0) Value | Y18: =IF(H18=I18,"Same CMV",_xlfn.CONCAT("Delta from CMV ",I18, " to CMV ", H18)) -> Same CMV | Z18: =_xlfn.CONCAT("CMV ",I18, " (20.1.2) Value") -> CMV 110 (20.1.2) Value | AA18: =IF(I18=J18,"Same CMV",_xlfn.CONCAT("Delta from CMV ",J18, " to CMV ", I18)) -> Same CMV | AB18: =_xlfn.CONCAT("CMV ",J18, " (20.1.1) Value") -> CMV 110 (20.1.1) Value | AC18: =IF(J18=K18,"Same CMV",_xlfn.CONCAT("Delta from CMV ",K18, " to CMV ", J18)) -> Same CMV | AD18: =_xlfn.CONCAT("CMV ",K18, " (20.1.0) Value") -> CMV 110 (20.1.0) Value
A19: 18 | B19: Part Assembly | C19: 90 | D19: 90 | E19: 80 | F19: 70 | G19: 70 | H19: 70 | I19: 70 | J19: 70 | K19: 70 | M19: =M18 -> Total Deltas | N19: =_xlfn.CONCAT("CMV ",C19, " (23.1.0) Value") -> CMV 90 (23.1.0) Value | O19: =IF(C19=D19,"Same CMV",_xlfn.CONCAT("Delta from CMV ",D19, " to CMV ", C19)) -> Same CMV | P19: =_xlfn.CONCAT("CMV ",D19, " (22.1.1) Value") -> CMV 90 (22.1.1) Value | Q19: =IF(D19=E19,"Same CMV",_xlfn.CONCAT("Delta from CMV ",E19, " to CMV ", D19)) -> Delta from CMV 80 to CMV 90 | R19: =_xlfn.CONCAT("CMV ",E19, " (22.1.0) Value") -> CMV 80 (22.1.0) Value | S19: =IF(E19=F19,"Same CMV",_xlfn.CONCAT("Delta from CMV ",F19, " to CMV ", E19)) -> Delta from CMV 70 to CMV 80 | T19: =_xlfn.CONCAT("CMV ",F19, " (21.1.2) Value") -> CMV 70 (21.1.2) Value | U19: =IF(F19=G19,"Same CMV",_xlfn.CONCAT("Delta from CMV ",G19, " to CMV ", F19)) -> Same CMV | V19: =_xlfn.CONCAT("CMV ",G19, " (21.1.1) Value") -> CMV 70 (21.1.1) Value | W19: =IF(G19=H19,"Same CMV",_xlfn.CONCAT("Delta from CMV ",H19, " to CMV ", G19)) -> Same CMV | X19: =_xlfn.CONCAT("CMV ",H19, " (21.1.0) Value") -> CMV 70 (21.1.0) Value | Y19: =IF(H19=I19,"Same CMV",_xlfn.CONCAT("Delta from CMV ",I19, " to CMV ", H19)) -> Same CMV | Z19: =_xlfn.CONCAT("CMV ",I19, " (20.1.2) Value") -> CMV 70 (20.1.2) Value | AA19: =IF(I19=J19,"Same CMV",_xlfn.CONCAT("Delta from CMV ",J19, " to CMV ", I19)) -> Same CMV | AB19: =_xlfn.CONCAT("CMV ",J19, " (20.1.1) Value") -> CMV 70 (20.1.1) Value | AC19: =IF(J19=K19,"Same CMV",_xlfn.CONCAT("Delta from CMV ",K19, " to CMV ", J19)) -> Same CMV | AD19: =_xlfn.CONCAT("CMV ",K19, " (20.1.0) Value") -> CMV 70 (20.1.0) Value
A20: 19 | B20: PCB | C20: 40 | D20: 30 | E20: 20 | F20: 10 | G20: 10 | H20: 0 | I20: NA | J20: NA | K20: NA | M20: =M19 -> Total Deltas | N20: =_xlfn.CONCAT("CMV ",C20, " (23.1.0) Value") -> CMV 40 (23.1.0) Value | O20: =IF(C20=D20,"Same CMV",_xlfn.CONCAT("Delta from CMV ",D20, " to CMV ", C20)) -> Delta from CMV 30 to CMV 40 | P20: =_xlfn.CONCAT("CMV ",D20, " (22.1.1) Value") -> CMV 30 (22.1.1) Value | Q20: =IF(D20=E20,"Same CMV",_xlfn.CONCAT("Delta from CMV ",E20, " to CMV ", D20)) -> Delta from CMV 20 to CMV 30 | R20: =_xlfn.CONCAT("CMV ",E20, " (22.1.0) Value") -> CMV 20 (22.1.0) Value | S20: =IF(E20=F20,"Same CMV",_xlfn.CONCAT("Delta from CMV ",F20, " to CMV ", E20)) -> Delta from CMV 10 to CMV 20 | T20: =_xlfn.CONCAT("CMV ",F20, " (21.1.2) Value") -> CMV 10 (21.1.2) Value | U20: =IF(F20=G20,"Same CMV",_xlfn.CONCAT("Delta from CMV ",G20, " to CMV ", F20)) -> Same CMV | V20: =_xlfn.CONCAT("CMV ",G20, " (21.1.1) Value") -> CMV 10 (21.1.1) Value | W20: =IF(G20=H20,"Same CMV",_xlfn.CONCAT("Delta from CMV ",H20, " to CMV ", G20)) -> Delta from CMV 0 to CMV 10 | X20: =_xlfn.CONCAT("CMV ",H20, " (21.1.0) Value") -> CMV 0 (21.1.0) Value | Y20: =IF(H20=I20,"Same CMV",_xlfn.CONCAT("Delta from CMV ",I20, " to CMV ", H20)) -> Delta from CMV NA to CMV 0 | Z20: =_xlfn.CONCAT("CMV ",I20, " (20.1.2) Value") -> CMV NA (20.1.2) Value | AA20: =IF(I20=J20,"Same CMV",_xlfn.CONCAT("Delta from CMV ",J20, " to CMV ", I20)) -> Same CMV | AB20: =_xlfn.CONCAT("CMV ",J20, " (20.1.1) Value") -> CMV NA (20.1.1) Value | AC20: =IF(J20=K20,"Same CMV",_xlfn.CONCAT("Delta from CMV ",K20, " to CMV ", J20)) -> Same CMV | AD20: =_xlfn.CONCAT("CMV ",K20, " (20.1.0) Value") -> CMV NA (20.1.0) Value
A21: 20 | B21: Plastic Molding | C21: 220 | D21: 210 | E21: 200 | F21: 190 | G21: 190 | H21: 180 | I21: 170 | J21: 170 | K21: 160 | M21: =M20 -> Total Deltas | N21: =_xlfn.CONCAT("CMV ",C21, " (23.1.0) Value") -> CMV 220 (23.1.0) Value | O21: =IF(C21=D21,"Same CMV",_xlfn.CONCAT("Delta from CMV ",D21, " to CMV ", C21)) -> Delta from CMV 210 to CMV 220 | P21: =_xlfn.CONCAT("CMV ",D21, " (22.1.1) Value") -> CMV 210 (22.1.1) Value | Q21: =IF(D21=E21,"Same CMV",_xlfn.CONCAT("Delta from CMV ",E21, " to CMV ", D21)) -> Delta from CMV 200 to CMV 210 | R21: =_xlfn.CONCAT("CMV ",E21, " (22.1.0) Value") -> CMV 200 (22.1.0) Value | S21: =IF(E21=F21,"Same CMV",_xlfn.CONCAT("Delta from CMV ",F21, " to CMV ", E21)) -> Delta from CMV 190 to CMV 200 | T21: =_xlfn.CONCAT("CMV ",F21, " (21.1.2) Value") -> CMV 190 (21.1.2) Value | U21: =IF(F21=G21,"Same CMV",_xlfn.CONCAT("Delta from CMV ",G21, " to CMV ", F21)) -> Same CMV | V21: =_xlfn.CONCAT("CMV ",G21, " (21.1.1) Value") -> CMV 190 (21.1.1) Value | W21: =IF(G21=H21,"Same CMV",_xlfn.CONCAT("Delta from CMV ",H21, " to CMV ", G21)) -> Delta from CMV 180 to CMV 190 | X21: =_xlfn.CONCAT("CMV ",H21, " (21.1.0) Value") -> CMV 180 (21.1.0) Value | Y21: =IF(H21=I21,"Same CMV",_xlfn.CONCAT("Delta from CMV ",I21, " to CMV ", H21)) -> Delta from CMV 170 to CMV 180 | Z21: =_xlfn.CONCAT("CMV ",I21, " (20.1.2) Value") -> CMV 170 (20.1.2) Value | AA21: =IF(I21=J21,"Same CMV",_xlfn.CONCAT("Delta from CMV ",J21, " to CMV ", I21)) -> Same CMV | AB21: =_xlfn.CONCAT("CMV ",J21, " (20.1.1) Value") -> CMV 170 (20.1.1) Value | AC21: =IF(J21=K21,"Same CMV",_xlfn.CONCAT("Delta from CMV ",K21, " to CMV ", J21)) -> Delta from CMV 160 to CMV 170 | AD21: =_xlfn.CONCAT("CMV ",K21, " (20.1.0) Value") -> CMV 160 (20.1.0) Value
A22: 21 | B22: Powder Metal | C22: 130 | D22: 120 | E22: 110 | F22: 100 | G22: 100 | H22: 100 | I22: 90 | J22: 90 | K22: 80 | M22: =M21 -> Total Deltas | N22: =_xlfn.CONCAT("CMV ",C22, " (23.1.0) Value") -> CMV 130 (23.1.0) Value | O22: =IF(C22=D22,"Same CMV",_xlfn.CONCAT("Delta from CMV ",D22, " to CMV ", C22)) -> Delta from CMV 120 to CMV 130 | P22: =_xlfn.CONCAT("CMV ",D22, " (22.1.1) Value") -> CMV 120 (22.1.1) Value | Q22: =IF(D22=E22,"Same CMV",_xlfn.CONCAT("Delta from CMV ",E22, " to CMV ", D22)) -> Delta from CMV 110 to CMV 120 | R22: =_xlfn.CONCAT("CMV ",E22, " (22.1.0) Value") -> CMV 110 (22.1.0) Value | S22: =IF(E22=F22,"Same CMV",_xlfn.CONCAT("Delta from CMV ",F22, " to CMV ", E22)) -> Delta from CMV 100 to CMV 110 | T22: =_xlfn.CONCAT("CMV ",F22, " (21.1.2) Value") -> CMV 100 (21.1.2) Value | U22: =IF(F22=G22,"Same CMV",_xlfn.CONCAT("Delta from CMV ",G22, " to CMV ", F22)) -> Same CMV | V22: =_xlfn.CONCAT("CMV ",G22, " (21.1.1) Value") -> CMV 100 (21.1.1) Value | W22: =IF(G22=H22,"Same CMV",_xlfn.CONCAT("Delta from CMV ",H22, " to CMV ", G22)) -> Same CMV | X22: =_xlfn.CONCAT("CMV ",H22, " (21.1.0) Value") -> CMV 100 (21.1.0) Value | Y22: =IF(H22=I22,"Same CMV",_xlfn.CONCAT("Delta from CMV ",I22, " to CMV ", H22)) -> Delta from CMV 90 to CMV 100 | Z22: =_xlfn.CONCAT("CMV ",I22, " (20.1.2) Value") -> CMV 90 (20.1.2) Value | AA22: =IF(I22=J22,"Same CMV",_xlfn.CONCAT("Delta from CMV ",J22, " to CMV ", I22)) -> Same CMV | AB22: =_xlfn.CONCAT("CMV ",J22, " (20.1.1) Value") -> CMV 90 (20.1.1) Value | AC22: =IF(J22=K22,"Same CMV",_xlfn.CONCAT("Delta from CMV ",K22, " to CMV ", J22)) -> Delta from CMV 80 to CMV 90 | AD22: =_xlfn.CONCAT("CMV ",K22, " (20.1.0) Value") -> CMV 80 (20.1.0) Value
A23: 22 | B23: Rapid Prototyping | C23: 50 | D23: 50 | E23: 50 | F23: 50 | G23: 50 | H23: 50 | I23: 50 | J23: 50 | K23: 50 | M23: =M22 -> Total Deltas | N23: =_xlfn.CONCAT("CMV ",C23, " (23.1.0) Value") -> CMV 50 (23.1.0) Value | O23: =IF(C23=D23,"Same CMV",_xlfn.CONCAT("Delta from CMV ",D23, " to CMV ", C23)) -> Same CMV | P23: =_xlfn.CONCAT("CMV ",D23, " (22.1.1) Value") -> CMV 50 (22.1.1) Value | Q23: =IF(D23=E23,"Same CMV",_xlfn.CONCAT("Delta from CMV ",E23, " to CMV ", D23)) -> Same CMV | R23: =_xlfn.CONCAT("CMV ",E23, " (22.1.0) Value") -> CMV 50 (22.1.0) Value | S23: =IF(E23=F23,"Same CMV",_xlfn.CONCAT("Delta from CMV ",F23, " to CMV ", E23)) -> Same CMV | T23: =_xlfn.CONCAT("CMV ",F23, " (21.1.2) Value") -> CMV 50 (21.1.2) Value | U23: =IF(F23=G23,"Same CMV",_xlfn.CONCAT("Delta from CMV ",G23, " to CMV ", F23)) -> Same CMV | V23: =_xlfn.CONCAT("CMV ",G23, " (21.1.1) Value") -> CMV 50 (21.1.1) Value | W23: =IF(G23=H23,"Same CMV",_xlfn.CONCAT("Delta from CMV ",H23, " to CMV ", G23)) -> Same CMV | X23: =_xlfn.CONCAT("CMV ",H23, " (21.1.0) Value") -> CMV 50 (21.1.0) Value | Y23: =IF(H23=I23,"Same CMV",_xlfn.CONCAT("Delta from CMV ",I23, " to CMV ", H23)) -> Same CMV | Z23: =_xlfn.CONCAT("CMV ",I23, " (20.1.2) Value") -> CMV 50 (20.1.2) Value | AA23: =IF(I23=J23,"Same CMV",_xlfn.CONCAT("Delta from CMV ",J23, " to CMV ", I23)) -> Same CMV | AB23: =_xlfn.CONCAT("CMV ",J23, " (20.1.1) Value") -> CMV 50 (20.1.1) Value | AC23: =IF(J23=K23,"Same CMV",_xlfn.CONCAT("Delta from CMV ",K23, " to CMV ", J23)) -> Same CMV | AD23: =_xlfn.CONCAT("CMV ",K23, " (20.1.0) Value") -> CMV 50 (20.1.0) Value
A24: 23 | B24: Roto & Blow Molding | C24: 150 | D24: 140 | E24: 130 | F24: 120 | G24: 120 | H24: 120 | I24: 110 | J24: 110 | K24: 100 | M24: =M23 -> Total Deltas | N24: =_xlfn.CONCAT("CMV ",C24, " (23.1.0) Value") -> CMV 150 (23.1.0) Value | O24: =IF(C24=D24,"Same CMV",_xlfn.CONCAT("Delta from CMV ",D24, " to CMV ", C24)) -> Delta from CMV 140 to CMV 150 | P24: =_xlfn.CONCAT("CMV ",D24, " (22.1.1) Value") -> CMV 140 (22.1.1) Value | Q24: =IF(D24=E24,"Same CMV",_xlfn.CONCAT("Delta from CMV ",E24, " to CMV ", D24)) -> Delta from CMV 130 to CMV 140 | R24: =_xlfn.CONCAT("CMV ",E24, " (22.1.0) Value") -> CMV 130 (22.1.0) Value | S24: =IF(E24=F24,"Same CMV",_xlfn.CONCAT("Delta from CMV ",F24, " to CMV ", E24)) -> Delta from CMV 120 to CMV 130 | T24: =_xlfn.CONCAT("CMV ",F24, " (21.1.2) Value") -> CMV 120 (21.1.2) Value | U24: =IF(F24=G24,"Same CMV",_xlfn.CONCAT("Delta from CMV ",G24, " to CMV ", F24)) -> Same CMV | V24: =_xlfn.CONCAT("CMV ",G24, " (21.1.1) Value") -> CMV 120 (21.1.1) Value | W24: =IF(G24=H24,"Same CMV",_xlfn.CONCAT("Delta from CMV ",H24, " to CMV ", G24)) -> Same CMV | X24: =_xlfn.CONCAT("CMV ",H24, " (21.1.0) Value") -> CMV 120 (21.1.0) Value | Y24: =IF(H24=I24,"Same CMV",_xlfn.CONCAT("Delta from CMV ",I24, " to CMV ", H24)) -> Delta from CMV 110 to CMV 120 | Z24: =_xlfn.CONCAT("CMV ",I24, " (20.1.2) Value") -> CMV 110 (20.1.2) Value | AA24: =IF(I24=J24,"Same CMV",_xlfn.CONCAT("Delta from CMV ",J24, " to CMV ", I24)) -> Same CMV | AB24: =_xlfn.CONCAT("CMV ",J24, " (20.1.1) Value") -> CMV 110 (20.1.1) Value | AC24: =IF(J24=K24,"Same CMV",_xlfn.CONCAT("Delta from CMV ",K24, " to CMV ", J24)) -> Delta from CMV 100 to CMV 110 | AD24: =_xlfn.CONCAT("CMV ",K24, " (20.1.0) Value") -> CMV 100 (20.1.0) Value
A25: 24 | B25: Sheet Metal | C25: 250 | D25: 240 | E25: 230 | F25: 220 | G25: 220 | H25: 210 | I25: 200 | J25: 200 | K25: 190 | M25: =M24 -> Total Deltas | N25: =_xlfn.CONCAT("CMV ",C25, " (23.1.0) Value") -> CMV 250 (23.1.0) Value | O25: =IF(C25=D25,"Same CMV",_xlfn.CONCAT("Delta from CMV ",D25, " to CMV ", C25)) -> Delta from CMV 240 to CMV 250 | P25: =_xlfn.CONCAT("CMV ",D25, " (22.1.1) Value") -> CMV 240 (22.1.1) Value | Q25: =IF(D25=E25,"Same CMV",_xlfn.CONCAT("Delta from CMV ",E25, " to CMV ", D25)) -> Delta from CMV 230 to CMV 240 | R25: =_xlfn.CONCAT("CMV ",E25, " (22.1.0) Value") -> CMV 230 (22.1.0) Value | S25: =IF(E25=F25,"Same CMV",_xlfn.CONCAT("Delta from CMV ",F25, " to CMV ", E25)) -> Delta from CMV 220 to CMV 230 | T25: =_xlfn.CONCAT("CMV ",F25, " (21.1.2) Value") -> CMV 220 (21.1.2) Value | U25: =IF(F25=G25,"Same CMV",_xlfn.CONCAT("Delta from CMV ",G25, " to CMV ", F25)) -> Same CMV | V25: =_xlfn.CONCAT("CMV ",G25, " (21.1.1) Value") -> CMV 220 (21.1.1) Value | W25: =IF(G25=H25,"Same CMV",_xlfn.CONCAT("Delta from CMV ",H25, " to CMV ", G25)) -> Delta from CMV 210 to CMV 220 | X25: =_xlfn.CONCAT("CMV ",H25, " (21.1.0) Value") -> CMV 210 (21.1.0) Value | Y25: =IF(H25=I25,"Same CMV",_xlfn.CONCAT("Delta from CMV ",I25, " to CMV ", H25)) -> Delta from CMV 200 to CMV 210 | Z25: =_xlfn.CONCAT("CMV ",I25, " (20.1.2) Value") -> CMV 200 (20.1.2) Value | AA25: =IF(I25=J25,"Same CMV",_xlfn.CONCAT("Delta from CMV ",J25, " to CMV ", I25)) -> Same CMV | AB25: =_xlfn.CONCAT("CMV ",J25, " (20.1.1) Value") -> CMV 200 (20.1.1) Value | AC25: =IF(J25=K25,"Same CMV",_xlfn.CONCAT("Delta from CMV ",K25, " to CMV ", J25)) -> Delta from CMV 190 to CMV 200 | AD25: =_xlfn.CONCAT("CMV ",K25, " (20.1.0) Value") -> CMV 190 (20.1.0) Value
A26: 25 | B26: Sheet Metal - Hydroforming | C26: 100 | D26: 90 | E26: 80 | F26: 70 | G26: 71 | H26: 60 | I26: 50 | J26: 50 | K26: 40 | M26: =M25 -> Total Deltas | N26: =_xlfn.CONCAT("CMV ",C26, " (23.1.0) Value") -> CMV 100 (23.1.0) Value | O26: =IF(C26=D26,"Same CMV",_xlfn.CONCAT("Delta from CMV ",D26, " to CMV ", C26)) -> Delta from CMV 90 to CMV 100 | P26: =_xlfn.CONCAT("CMV ",D26, " (22.1.1) Value") -> CMV 90 (22.1.1) Value | Q26: =IF(D26=E26,"Same CMV",_xlfn.CONCAT("Delta from CMV ",E26, " to CMV ", D26)) -> Delta from CMV 80 to CMV 90 | R26: =_xlfn.CONCAT("CMV ",E26, " (22.1.0) Value") -> CMV 80 (22.1.0) Value | S26: =IF(E26=F26,"Same CMV",_xlfn.CONCAT("Delta from CMV ",F26, " to CMV ", E26)) -> Delta from CMV 70 to CMV 80 | T26: =_xlfn.CONCAT("CMV ",F26, " (21.1.2) Value") -> CMV 70 (21.1.2) Value | U26: =IF(F26=G26,"Same CMV",_xlfn.CONCAT("Delta from CMV ",G26, " to CMV ", F26)) -> Delta from CMV 71 to CMV 70 | V26: =_xlfn.CONCAT("CMV ",G26, " (21.1.1) Value") -> CMV 71 (21.1.1) Value | W26: =IF(G26=H26,"Same CMV",_xlfn.CONCAT("Delta from CMV ",H26, " to CMV ", G26)) -> Delta from CMV 60 to CMV 71 | X26: =_xlfn.CONCAT("CMV ",H26, " (21.1.0) Value") -> CMV 60 (21.1.0) Value | Y26: =IF(H26=I26,"Same CMV",_xlfn.CONCAT("Delta from CMV ",I26, " to CMV ", H26)) -> Delta from CMV 50 to CMV 60 | Z26: =_xlfn.CONCAT("CMV ",I26, " (20.1.2) Value") -> CMV 50 (20.1.2) Value | AA26: =IF(I26=J26,"Same CMV",_xlfn.CONCAT("Delta from CMV ",J26, " to CMV ", I26)) -> Same CMV | AB26: =_xlfn.CONCAT("CMV ",J26, " (20.1.1) Value") -> CMV 50 (20.1.1) Value | AC26: =IF(J26=K26,"Same CMV",_xlfn.CONCAT("Delta from CMV ",K26, " to CMV ", J26)) -> Delta from CMV 40 to CMV 50 | AD26: =_xlfn.CONCAT("CMV ",K26, " (20.1.0) Value") -> CMV 40 (20.1.0) Value
A27: 26 | B27: Sheet Metal - Roll Forming | C27: 20 | D27: 10 | E27: 0 | F27: NA | G27: NA | H27: NA | I27: NA | J27: NA | K27: NA | M27: =M26 -> Total Deltas | N27: =_xlfn.CONCAT("CMV ",C27, " (23.1.0) Value") -> CMV 20 (23.1.0) Value | O27: =IF(C27=D27,"Same CMV",_xlfn.CONCAT("Delta from CMV ",D27, " to CMV ", C27)) -> Delta from CMV 10 to CMV 20 | P27: =_xlfn.CONCAT("CMV ",D27, " (22.1.1) Value") -> CMV 10 (22.1.1) Value | Q27: =IF(D27=E27,"Same CMV",_xlfn.CONCAT("Delta from CMV ",E27, " to CMV ", D27)) -> Delta from CMV 0 to CMV 10 | R27: =_xlfn.CONCAT("CMV ",E27, " (22.1.0) Value") -> CMV 0 (22.1.0) Value | S27: =IF(E27=F27,"Same CMV",_xlfn.CONCAT("Delta from CMV ",F27, " to CMV ", E27)) -> Delta from CMV NA to CMV 0 | T27: =_xlfn.CONCAT("CMV ",F27, " (21.1.2) Value") -> CMV NA (21.1.2) Value | U27: =IF(F27=G27,"Same CMV",_xlfn.CONCAT("Delta from CMV ",G27, " to CMV ", F27)) -> Same CMV | V27: =_xlfn.CONCAT("CMV ",G27, " (21.1.1) Value") -> CMV NA (21.1.1) Value | W27: =IF(G27=H27,"Same CMV",_xlfn.CONCAT("Delta from CMV ",H27, " to CMV ", G27)) -> Same CMV | X27: =_xlfn.CONCAT("CMV ",H27, " (21.1.0) Value") -> CMV NA (21.1.0) Value | Y27: =IF(H27=I27,"Same CMV",_xlfn.CONCAT("Delta from CMV ",I27, " to CMV ", H27)) -> Same CMV | Z27: =_xlfn.CONCAT("CMV ",I27, " (20.1.2) Value") -> CMV NA (20.1.2) Value | AA27: =IF(I27=J27,"Same CMV",_xlfn.CONCAT("Delta from CMV ",J27, " to CMV ", I27)) -> Same CMV | AB27: =_xlfn.CONCAT("CMV ",J27, " (20.1.1) Value") -> CMV NA (20.1.1) Value | AC27: =IF(J27=K27,"Same CMV",_xlfn.CONCAT("Delta from CMV ",K27, " to CMV ", J27)) -> Same CMV | AD27: =_xlfn.CONCAT("CMV ",K27, " (20.1.0) Value") -> CMV NA (20.1.0) Value
A28: 27 | B28: Sheet Metal - Stretch Forming | C28: 90 | D28: 90 | E28: 80 | F28: 70 | G28: 70 | H28: 70 | I28: 60 | J28: 60 | K28: 50 | M28: =M27 -> Total Deltas | N28: =_xlfn.CONCAT("CMV ",C28, " (23.1.0) Value") -> CMV 90 (23.1.0) Value | O28: =IF(C28=D28,"Same CMV",_xlfn.CONCAT("Delta from CMV ",D28, " to CMV ", C28)) -> Same CMV | P28: =_xlfn.CONCAT("CMV ",D28, " (22.1.1) Value") -> CMV 90 (22.1.1) Value | Q28: =IF(D28=E28,"Same CMV",_xlfn.CONCAT("Delta from CMV ",E28, " to CMV ", D28)) -> Delta from CMV 80 to CMV 90 | R28: =_xlfn.CONCAT("CMV ",E28, " (22.1.0) Value") -> CMV 80 (22.1.0) Value | S28: =IF(E28=F28,"Same CMV",_xlfn.CONCAT("Delta from CMV ",F28, " to CMV ", E28)) -> Delta from CMV 70 to CMV 80 | T28: =_xlfn.CONCAT("CMV ",F28, " (21.1.2) Value") -> CMV 70 (21.1.2) Value | U28: =IF(F28=G28,"Same CMV",_xlfn.CONCAT("Delta from CMV ",G28, " to CMV ", F28)) -> Same CMV | V28: =_xlfn.CONCAT("CMV ",G28, " (21.1.1) Value") -> CMV 70 (21.1.1) Value | W28: =IF(G28=H28,"Same CMV",_xlfn.CONCAT("Delta from CMV ",H28, " to CMV ", G28)) -> Same CMV | X28: =_xlfn.CONCAT("CMV ",H28, " (21.1.0) Value") -> CMV 70 (21.1.0) Value | Y28: =IF(H28=I28,"Same CMV",_xlfn.CONCAT("Delta from CMV ",I28, " to CMV ", H28)) -> Delta from CMV 60 to CMV 70 | Z28: =_xlfn.CONCAT("CMV ",I28, " (20.1.2) Value") -> CMV 60 (20.1.2) Value | AA28: =IF(I28=J28,"Same CMV",_xlfn.CONCAT("Delta from CMV ",J28, " to CMV ", I28)) -> Same CMV | AB28: =_xlfn.CONCAT("CMV ",J28, " (20.1.1) Value") -> CMV 60 (20.1.1) Value | AC28: =IF(J28=K28,"Same CMV",_xlfn.CONCAT("Delta from CMV ",K28, " to CMV ", J28)) -> Delta from CMV 50 to CMV 60 | AD28: =_xlfn.CONCAT("CMV ",K28, " (20.1.0) Value") -> CMV 50 (20.1.0) Value
A29: 28 | B29: Sheet Metal - Transfer Die | C29: 140 | D29: 130 | E29: 120 | F29: 110 | G29: 110 | H29: 110 | I29: 100 | J29: 100 | K29: 90 | M29: =M28 -> Total Deltas | N29: =_xlfn.CONCAT("CMV ",C29, " (23.1.0) Value") -> CMV 140 (23.1.0) Value | O29: =IF(C29=D29,"Same CMV",_xlfn.CONCAT("Delta from CMV ",D29, " to CMV ", C29)) -> Delta from CMV 130 to CMV 140 | P29: =_xlfn.CONCAT("CMV ",D29, " (22.1.1) Value") -> CMV 130 (22.1.1) Value | Q29: =IF(D29=E29,"Same CMV",_xlfn.CONCAT("Delta from CMV ",E29, " to CMV ", D29)) -> Delta from CMV 120 to CMV 130 | R29: =_xlfn.CONCAT("CMV ",E29, " (22.1.0) Value") -> CMV 120 (22.1.0) Value | S29: =IF(E29=F29,"Same CMV",_xlfn.CONCAT("Delta from CMV ",F29, " to CMV ", E29)) -> Delta from CMV 110 to CMV 120 | T29: =_xlfn.CONCAT("CMV ",F29, " (21.1.2) Value") -> CMV 110 (21.1.2) Value | U29: =IF(F29=G29,"Same CMV",_xlfn.CONCAT("Delta from CMV ",G29, " to CMV ", F29)) -> Same CMV | V29: =_xlfn.CONCAT("CMV ",G29, " (21.1.1) Value") -> CMV 110 (21.1.1) Value | W29: =IF(G29=H29,"Same CMV",_xlfn.CONCAT("Delta from CMV ",H29, " to CMV ", G29)) -> Same CMV | X29: =_xlfn.CONCAT("CMV ",H29, " (21.1.0) Value") -> CMV 110 (21.1.0) Value | Y29: =IF(H29=I29,"Same CMV",_xlfn.CONCAT("Delta from CMV ",I29, " to CMV ", H29)) -> Delta from CMV 100 to CMV 110 | Z29: =_xlfn.CONCAT("CMV ",I29, " (20.1.2) Value") -> CMV 100 (20.1.2) Value | AA29: =IF(I29=J29,"Same CMV",_xlfn.CONCAT("Delta from CMV ",J29, " to CMV ", I29)) -> Same CMV | AB29: =_xlfn.CONCAT("CMV ",J29, " (20.1.1) Value") -> CMV 100 (20.1.1) Value | AC29: =IF(J29=K29,"Same CMV",_xlfn.CONCAT("Delta from CMV ",K29, " to CMV ", J29)) -> Delta from CMV 90 to CMV 100 | AD29: =_xlfn.CONCAT("CMV ",K29, " (20.1.0) Value") -> CMV 90 (20.1.0) Value
A30: 29 | B30: Sheet Plastic | C30: 130 | D30: 120 | E30: 110 | F30: 100 | G30: 100 | H30: 100 | I30: 90 | J30: 90 | K30: 90 | M30: =M29 -> Total Deltas | N30: =_xlfn.CONCAT("CMV ",C30, " (23.1.0) Value") -> CMV 130 (23.1.0) Value | O30: =IF(C30=D30,"Same CMV",_xlfn.CONCAT("Delta from CMV ",D30, " to CMV ", C30)) -> Delta from CMV 120 to CMV 130 | P30: =_xlfn.CONCAT("CMV ",D30, " (22.1.1) Value") -> CMV 120 (22.1.1) Value | Q30: =IF(D30=E30,"Same CMV",_xlfn.CONCAT("Delta from CMV ",E30, " to CMV ", D30)) -> Delta from CMV 110 to CMV 120 | R30: =_xlfn.CONCAT("CMV ",E30, " (22.1.0) Value") -> CMV 110 (22.1.0) Value | S30: =IF(E30=F30,"Same CMV",_xlfn.CONCAT("Delta from CMV ",F30, " to CMV ", E30)) -> Delta from CMV 100 to CMV 110 | T30: =_xlfn.CONCAT("CMV ",F30, " (21.1.2) Value") -> CMV 100 (21.1.2) Value | U30: =IF(F30=G30,"Same CMV",_xlfn.CONCAT("Delta from CMV ",G30, " to CMV ", F30)) -> Same CMV | V30: =_xlfn.CONCAT("CMV ",G30, " (21.1.1) Value") -> CMV 100 (21.1.1) Value | W30: =IF(G30=H30,"Same CMV",_xlfn.CONCAT("Delta from CMV ",H30, " to CMV ", G30)) -> Same CMV | X30: =_xlfn.CONCAT("CMV ",H30, " (21.1.0) Value") -> CMV 100 (21.1.0) Value | Y30: =IF(H30=I30,"Same CMV",_xlfn.CONCAT("Delta from CMV ",I30, " to CMV ", H30)) -> Delta from CMV 90 to CMV 100 | Z30: =_xlfn.CONCAT("CMV ",I30, " (20.1.2) Value") -> CMV 90 (20.1.2) Value | AA30: =IF(I30=J30,"Same CMV",_xlfn.CONCAT("Delta from CMV ",J30, " to CMV ", I30)) -> Same CMV | AB30: =_xlfn.CONCAT("CMV ",J30, " (20.1.1) Value") -> CMV 90 (20.1.1) Value | AC30: =IF(J30=K30,"Same CMV",_xlfn.CONCAT("Delta from CMV ",K30, " to CMV ", J30)) -> Same CMV | AD30: =_xlfn.CONCAT("CMV ",K30, " (20.1.0) Value") -> CMV 90 (20.1.0) Value
A31: 30 | B31: Stock Machining | C31: 170 | D31: 160 | E31: 150 | F31: 140 | G31: 140 | H31: 130 | I31: 120 | J31: 120 | K31: 110 | M31: =M30 -> Total Deltas | N31: =_xlfn.CONCAT("CMV ",C31, " (23.1.0) Value") -> CMV 170 (23.1.0) Value | O31: =IF(C31=D31,"Same CMV",_xlfn.CONCAT("Delta from CMV ",D31, " to CMV ", C31)) -> Delta from CMV 160 to CMV 170 | P31: =_xlfn.CONCAT("CMV ",D31, " (22.1.1) Value") -> CMV 160 (22.1.1) Value | Q31: =IF(D31=E31,"Same CMV",_xlfn.CONCAT("Delta from CMV ",E31, " to CMV ", D31)) -> Delta from CMV 150 to CMV 160 | R31: =_xlfn.CONCAT("CMV ",E31, " (22.1.0) Value") -> CMV 150 (22.1.0) Value | S31: =IF(E31=F31,"Same CMV",_xlfn.CONCAT("Delta from CMV ",F31, " to CMV ", E31)) -> Delta from CMV 140 to CMV 150 | T31: =_xlfn.CONCAT("CMV ",F31, " (21.1.2) Value") -> CMV 140 (21.1.2) Value | U31: =IF(F31=G31,"Same CMV",_xlfn.CONCAT("Delta from CMV ",G31, " to CMV ", F31)) -> Same CMV | V31: =_xlfn.CONCAT("CMV ",G31, " (21.1.1) Value") -> CMV 140 (21.1.1) Value | W31: =IF(G31=H31,"Same CMV",_xlfn.CONCAT("Delta from CMV ",H31, " to CMV ", G31)) -> Delta from CMV 130 to CMV 140 | X31: =_xlfn.CONCAT("CMV ",H31, " (21.1.0) Value") -> CMV 130 (21.1.0) Value | Y31: =IF(H31=I31,"Same CMV",_xlfn.CONCAT("Delta from CMV ",I31, " to CMV ", H31)) -> Delta from CMV 120 to CMV 130 | Z31: =_xlfn.CONCAT("CMV ",I31, " (20.1.2) Value") -> CMV 120 (20.1.2) Value | AA31: =IF(I31=J31,"Same CMV",_xlfn.CONCAT("Delta from CMV ",J31, " to CMV ", I31)) -> Same CMV | AB31: =_xlfn.CONCAT("CMV ",J31, " (20.1.1) Value") -> CMV 120 (20.1.1) Value | AC31: =IF(J31=K31,"Same CMV",_xlfn.CONCAT("Delta from CMV ",K31, " to CMV ", J31)) -> Delta from CMV 110 to CMV 120 | AD31: =_xlfn.CONCAT("CMV ",K31, " (20.1.0) Value") -> CMV 110 (20.1.0) Value
A32: 31 | B32: Surface Treatment | C32: 210 | D32: 200 | E32: 190 | F32: 180 | G32: 180 | H32: 170 | I32: 160 | J32: 160 | K32: 150 | M32: =M31 -> Total Deltas | N32: =_xlfn.CONCAT("CMV ",C32, " (23.1.0) Value") -> CMV 210 (23.1.0) Value | O32: =IF(C32=D32,"Same CMV",_xlfn.CONCAT("Delta from CMV ",D32, " to CMV ", C32)) -> Delta from CMV 200 to CMV 210 | P32: =_xlfn.CONCAT("CMV ",D32, " (22.1.1) Value") -> CMV 200 (22.1.1) Value | Q32: =IF(D32=E32,"Same CMV",_xlfn.CONCAT("Delta from CMV ",E32, " to CMV ", D32)) -> Delta from CMV 190 to CMV 200 | R32: =_xlfn.CONCAT("CMV ",E32, " (22.1.0) Value") -> CMV 190 (22.1.0) Value | S32: =IF(E32=F32,"Same CMV",_xlfn.CONCAT("Delta from CMV ",F32, " to CMV ", E32)) -> Delta from CMV 180 to CMV 190 | T32: =_xlfn.CONCAT("CMV ",F32, " (21.1.2) Value") -> CMV 180 (21.1.2) Value | U32: =IF(F32=G32,"Same CMV",_xlfn.CONCAT("Delta from CMV ",G32, " to CMV ", F32)) -> Same CMV | V32: =_xlfn.CONCAT("CMV ",G32, " (21.1.1) Value") -> CMV 180 (21.1.1) Value | W32: =IF(G32=H32,"Same CMV",_xlfn.CONCAT("Delta from CMV ",H32, " to CMV ", G32)) -> Delta from CMV 170 to CMV 180 | X32: =_xlfn.CONCAT("CMV ",H32, " (21.1.0) Value") -> CMV 170 (21.1.0) Value | Y32: =IF(H32=I32,"Same CMV",_xlfn.CONCAT("Delta from CMV ",I32, " to CMV ", H32)) -> Delta from CMV 160 to CMV 170 | Z32: =_xlfn.CONCAT("CMV ",I32, " (20.1.2) Value") -> CMV 160 (20.1.2) Value | AA32: =IF(I32=J32,"Same CMV",_xlfn.CONCAT("Delta from CMV ",J32, " to CMV ", I32)) -> Same CMV | AB32: =_xlfn.CONCAT("CMV ",J32, " (20.1.1) Value") -> CMV 160 (20.1.1) Value | AC32: =IF(J32=K32,"Same CMV",_xlfn.CONCAT("Delta from CMV ",K32, " to CMV ", J32)) -> Delta from CMV 150 to CMV 160 | AD32: =_xlfn.CONCAT("CMV ",K32, " (20.1.0) Value") -> CMV 150 (20.1.0) Value
A33: 32 | B33: User Guided | C33: 60 | D33: 60 | E33: 50 | F33: 40 | G33: 40 | H33: 40 | I33: 30 | J33: 30 | K33: 30 | M33: =M32 -> Total Deltas | N33: =_xlfn.CONCAT("CMV ",C33, " (23.1.0) Value") -> CMV 60 (23.1.0) Value | O33: =IF(C33=D33,"Same CMV",_xlfn.CONCAT("Delta from CMV ",D33, " to CMV ", C33)) -> Same CMV | P33: =_xlfn.CONCAT("CMV ",D33, " (22.1.1) Value") -> CMV 60 (22.1.1) Value | Q33: =IF(D33=E33,"Same CMV",_xlfn.CONCAT("Delta from CMV ",E33, " to CMV ", D33)) -> Delta from CMV 50 to CMV 60 | R33: =_xlfn.CONCAT("CMV ",E33, " (22.1.0) Value") -> CMV 50 (22.1.0) Value | S33: =IF(E33=F33,"Same CMV",_xlfn.CONCAT("Delta from CMV ",F33, " to CMV ", E33)) -> Delta from CMV 40 to CMV 50 | T33: =_xlfn.CONCAT("CMV ",F33, " (21.1.2) Value") -> CMV 40 (21.1.2) Value | U33: =IF(F33=G33,"Same CMV",_xlfn.CONCAT("Delta from CMV ",G33, " to CMV ", F33)) -> Same CMV | V33: =_xlfn.CONCAT("CMV ",G33, " (21.1.1) Value") -> CMV 40 (21.1.1) Value | W33: =IF(G33=H33,"Same CMV",_xlfn.CONCAT("Delta from CMV ",H33, " to CMV ", G33)) -> Same CMV | X33: =_xlfn.CONCAT("CMV ",H33, " (21.1.0) Value") -> CMV 40 (21.1.0) Value | Y33: =IF(H33=I33,"Same CMV",_xlfn.CONCAT("Delta from CMV ",I33, " to CMV ", H33)) -> Delta from CMV 30 to CMV 40 | Z33: =_xlfn.CONCAT("CMV ",I33, " (20.1.2) Value") -> CMV 30 (20.1.2) Value | AA33: =IF(I33=J33,"Same CMV",_xlfn.CONCAT("Delta from CMV ",J33, " to CMV ", I33)) -> Same CMV | AB33: =_xlfn.CONCAT("CMV ",J33, " (20.1.1) Value") -> CMV 30 (20.1.1) Value | AC33: =IF(J33=K33,"Same CMV",_xlfn.CONCAT("Delta from CMV ",K33, " to CMV ", J33)) -> Same CMV | AD33: =_xlfn.CONCAT("CMV ",K33, " (20.1.0) Value") -> CMV 30 (20.1.0) Value
B34: New PG | C34: 9 | D34: 8 | E34: 7 | F34: 6 | G34: 5 | H34: 4 | I34: 3 | J34: 2 | K34: 1 | M34: =M33 -> Total Deltas | N34: =_xlfn.CONCAT("CMV ",C34, " (23.1.0) Value") -> CMV 9 (23.1.0) Value | O34: =IF(C34=D34,"Same CMV",_xlfn.CONCAT("Delta from CMV ",D34, " to CMV ", C34)) -> Delta from CMV 8 to CMV 9 | P34: =_xlfn.CONCAT("CMV ",D34, " (22.1.1) Value") -> CMV 8 (22.1.1) Value | Q34: =IF(D34=E34,"Same CMV",_xlfn.CONCAT("Delta from CMV ",E34, " to CMV ", D34)) -> Delta from CMV 7 to CMV 8 | R34: =_xlfn.CONCAT("CMV ",E34, " (22.1.0) Value") -> CMV 7 (22.1.0) Value | S34: =IF(E34=F34,"Same CMV",_xlfn.CONCAT("Delta from CMV ",F34, " to CMV ", E34)) -> Delta from CMV 6 to CMV 7 | T34: =_xlfn.CONCAT("CMV ",F34, " (21.1.2) Value") -> CMV 6 (21.1.2) Value | U34: =IF(F34=G34,"Same CMV",_xlfn.CONCAT("Delta from CMV ",G34, " to CMV ", F34)) -> Delta from CMV 5 to CMV 6 | V34: =_xlfn.CONCAT("CMV ",G34, " (21.1.1) Value") -> CMV 5 (21.1.1) Value | W34: =IF(G34=H34,"Same CMV",_xlfn.CONCAT("Delta from CMV ",H34, " to CMV ", G34)) -> Delta from CMV 4 to CMV 5 | X34: =_xlfn.CONCAT("CMV ",H34, " (21.1.0) Value") -> CMV 4 (21.1.0) Value | Y34: =IF(H34=I34,"Same CMV",_xlfn.CONCAT("Delta from CMV ",I34, " to CMV ", H34)) -> Delta from CMV 3 to CMV 4 | Z34: =_xlfn.CONCAT("CMV ",I34, " (20.1.2) Value") -> CMV 3 (20.1.2) Value | AA34: =IF(I34=J34,"Same CMV",_xlfn.CONCAT("Delta from CMV ",J34, " to CMV ", I34)) -> Delta from CMV 2 to CMV 3 | AB34: =_xlfn.CONCAT("CMV ",J34, " (20.1.1) Value") -> CMV 2 (20.1.1) Value | AC34: =IF(J34=K34,"Same CMV",_xlfn.CONCAT("Delta from CMV ",K34, " to CMV ", J34)) -> Delta from CMV 1 to CMV 2 | AD34: =_xlfn.CONCAT("CMV ",K34, " (20.1.0) Value") -> CMV 1 (20.1.0) Value

Sheet README
A1: aPriori Release 23.1.1 Site Variable Settings for Minimal Cost Impact with Prior Cost Models
A3: This spreadsheet tells you how to configure geometry extraction when you upgrade to Release 23.1.1 but use a cost model version that was introduced in a prior release.
A5: The spreadsheet assumes that you want to minimize the cost impact of your upgrade.
A6: That is, it assumes that you want, as far as possible, to get the same results when you re-cost previously-costed scnearios, and
A7: you want extraction behavior to resemble, as far as posslbe, the pre-upgrade extraction behavior.
A9: A separate spreadsheet file, site-variables-best-results-23.1.1.xlsx, tells you how to configure geometry extraction assuming that you want to take advantage of all the latest geometry improvements that are compatible with your cost model version.
A11: To configure geometry extraction for a given process group, follow these steps:
A13: 1. Click the tab corresponding to the process group you want to configure. The tab contains a table that lists the process group's site variables.
A15: 2. Find the column corresponding to the cost model version you are using.
A17: 3. For each site variable, find the value listed in the column for your cost model version. This value minimizes impact compared to the release in which the cost model was introduced.
A18: If the value is highlighted in red, you must set the site variable to the highlighted value. This value is required for compatibility with your cost model's logic.
A19: Site variables highlighted in orange either have changed in value in the latest release or have been introduced in the latest release.
... A22: Hidden columns detail the nature of the changes between pairs of adjacent cost model versions, indicating where site variables were added, removed, or changed in value.

Sheet 2-Model Machining
B2: aPriori Release 23.1.1 Site Variable Settings for Minimal Cost Impact with Prior Cost Models
A4: ID | B4: Site Variable | C4: CMV 100 (23.1.x) | D4: Delta from CMV 90 to CMV 100 | E4: CMV 90 (22.1.1) | F4: Delta from CMV 80 to CMV 90 | G4: CMV 80 (22.1.0) | H4: Delta from CMV 70 to CMV 80 | I4: CMV 70 (21.1.x) | J4: Delta from CMV 60 to CMV 70 | K4: CMV 60 (20.1.x) | L4: Comments | M4: 23.1.1 Notes
A5: 1 | B5: createRingedHole | D5: - | F5: - | H5: - | J5: Removed | L5: Depracated.
A6: 2 | B6: maxDraftAngle | C6: 0 | D6: - | E6: 0 | F6: - | G6: 0 | H6: - | I6: 0 | J6: - | K6: 0 | M6: Maximum angle between a surface and a setup axis to be machinable from that axis (degrees)
A7: 3 | B7: maxIsAboutForPlaneObstructionPercent | C7: 10 | D7: - | E7: 10 | F7: - | G7: 10 | H7: - | I7: 10 | J7: New Value | K7: 5 | M7: Don't create isAbout relations if more than X% of the plane cannot be turned
A8: 4 | B8: maxNumTurningAxes | C8: 1 | D8: - | E8: 1 | F8: - | G8: 1 | H8: - | I8: 1 | J8: - | K8: 1
A9: 5 | B9: maxTurnedHoleDiameter | C9: 12.7 | D9: - | E9: 12.7 | F9: - | G9: 12.7 | H9: - | I9: 12.7 | J9: - | K9: 12.7
A10: 6 | B10: maxTurningAxisEccentricity | C10: 0.05 | D10: - | E10: 0.05 | F10: - | G10: 0.05 | H10: - | I10: 0.05 | J10: - | K10: 0.05 | M10: Controls the how far and skewed a turning axis can be from ideal. Valid values are positive.
A11: 7 | B11: minCADTolerance | C11: 0.254 | D11: - | E11: 0.254 | F11: - | G11: 0.254 | H11: - | I11: 0.254 | J11: - | K11: 0.254
