Workbook

Sheet CMVs
A1: ID | B1: Process Group | C1: 23.1.0 | D1: 22.1.1 | E1: 22.1.0 | F1: 21.1.2 | G1: 21.1.1 | H1: 21.1.0 | I1: 20.1.2 | J1: 20.1.1 | K1: 20.1.0 | M1: Total Deltas | N1: Value 23.1.0 | O1: Delta | P1: Value 22.1.1 | Q1: Delta | R1: Value 22.1.0 | S1: Delta | T1: Value 21.1.2 | U1: Delta | V1: Value 21.1.1 | W1: Delta | X1: Value 21.1.0 | Y1: Delta | Z1: Value 20.1.2 | AA1: Delta | AB1: Value 20.1.1 | AC1: Delta | AD1: Value 20.1.0
A2: 1 | B2: 2-Model Machining | C2: 100 | D2: 90 | E2: 80 | F2: 70 | G2: 70 | H2: 70 | I2: 60 | J2: 60 | K2: 60 | M2: =M1 -> Total Deltas | N2: =_xlfn.CONCAT("CMV ",C2, " (23.1.0) Value") -> CMV 100 (23.1.0) Value | O2: =IF(C2=D2,"Same CMV",_xlfn.CONCAT("Delta from CMV ",D2, " to CMV ", C2)) -> Delta from CMV 90 to CMV 100 | P2: =_xlfn.CONCAT("CMV ",D2, " (22.1.1) Value") -> CMV 90 (22.1.1) Value | Q2: =IF(D2=E2,"Same CMV",_xlfn.CONCAT("Delta from CMV ",E2, " to CMV ", D2)) -> Delta from CMV 80 to CMV 90 | R2: =_xlfn.CONCAT("CMV ",E2, " (22.1.0) Value") -> CMV 80 (22.1.0) Value | S2: =IF(E2=F2,"Same CMV",_xlfn.CONCAT("Delta from CMV ",F2, " to CMV ", E2)) -> Delta from CMV 70 to CMV 80 | T2: =_xlfn.CONCAT("CMV ",F2, " (21.1.2) Value") -> CMV 70 (21.1.2) Value | U2: =IF(F2=G2,"Same CMV",_xlfn.CONCAT("Delta from CMV ",G2, " to CMV ", F2)) -> Same CMV | V2: =_xlfn.CONCAT("CMV ",G2, " (21.1.1) Value") -> CMV 70 (21.1.1) Value | W2: =IF(G2=H2,"Same CMV",_xlfn.CONCAT("Delta from CMV ",H2, " to CMV ", G2)) -> Same CMV | X2: =_xlfn.CONCAT("CMV ",H2, " (21.1.0) Value") -> CMV 70 (21.1.0) Value | Y2: =IF(H2=I2,"Same CMV",_xlfn.CONCAT("Delta from CMV ",I2, " to CMV ", H2)) -> Delta from CMV 60 to CMV 70 | Z2: =_xlfn.CONCAT("CMV ",I2, " (20.1.2) Value") -> CMV 60 (20.1.2) Value | AA2: =IF(I2=J2,"Same CMV",_xlfn.CONCAT("Delta from CMV ",J2, " to CMV ", I2)) -> Same CMV | AB2: =_xlfn.CONCAT("CMV ",J2, " (20.1.1) Value") -> CMV 60 (20.1.1) Value | AC2: =IF(J2=K2,"Same CMV",_xlfn.CONCAT("Delta from CMV ",K2, " to CMV ", J2)) -> Same CMV | AD2: =_xlfn.CONCAT("CMV ",K2, " (20.1.0) Value") -> CMV 60 (20.1.0) Value
A3: 2 | B3: Additive Manufacturing | C3: 130 | D3: 120 | E3: 110 | F3: 100 | G3: 100 | H3: 90 | I3: 80 | J3: 80 | K3: 70 | M3: =M2 -> Total Deltas | N3: =_xlfn.CONCAT("CMV ",C3, " (23.1.0) Value") -> CMV 130 (23.1.0) Value | O3: =IF(C3=D3,"Same CMV",_xlfn.CONCAT("Delta from CMV ",D3, " to CMV ", C3)) -> Delta from CMV 120 to CMV 130 | P3: =_xlfn.CONCAT("CMV ",D3, " (22.1.1) Value") -> CMV 120 (22.1.1) Value | Q3: =IF(D3=E3,"Same CMV",_xlfn.CONCAT("Delta from CMV ",E3, " to CMV ", D3)) -> Delta from CMV 110 to CMV 120 | R3: =_xlfn.CONCAT("CMV ",E3, " (22.1.0) Value") -> CMV 110 (22.1.0) Value | S3: =IF(E3=F3,"Same CMV",_xlfn.CONCAT("Delta from CMV ",F3, " to CMV ", E3)) -> Delta from CMV 100 to CMV 110 | T3: =_xlfn.CONCAT("CMV ",F3, " (21.1.2) Value") -> CMV 100 (21.1.2) Value | U3: =IF(F3=G3,"Same CMV",_xlfn.CONCAT("Delta from CMV ",G3, " to CMV ", F3)) -> Same CMV | V3: =_xlfn.CONCAT("CMV ",G3, " (21.1.1) Value") -> CMV 100 (21.1.1) Value | W3: =IF(G3=H3,"Same CMV",_xlfn.CONCAT("Delta from CMV ",H3, " to CMV ", G3)) -> Delta from CMV 90 to CMV 100 | X3: =_xlfn.CONCAT("CMV ",H3, " (21.1.0) Value") -> CMV 90 (21.1.0) Value | Y3: =IF(H3=I3,"Same CMV",_xlfn.CONCAT("Delta from CMV ",I3, " to CMV ", H3)) -> Delta from CMV 80 to CMV 90 | Z3: =_xlfn.CONCAT("CMV ",I3, " (20.1.2) Value") -> CMV 80 (20.1.2) Value | AA3: =IF(I3=J3,"Same CMV",_xlfn.CONCAT("Delta from CMV ",J3, " to CMV ", I3)) -> Same CMV | AB3: =_xlfn.CONCAT("CMV ",J3, " (20.1.1) Value") -> CMV 80 (20.1.1) Value | AC3: =IF(J3=K3,"Same CMV",_xlfn.CONCAT("Delta from CMV ",K3, " to CMV ", J3)) -> Delta from CMV 70 to CMV 80 | AD3: =_xlfn.CONCAT("CMV ",K3, " (20.1.0) Value") -> CMV 70 (20.1.0) Value
A4: 3 | B4: Assembly | C4: 190 | D4: 180 | E4: 170 | F4: 160 | G4: 160 | H4: 150 | I4: 140 | J4: 140 | K4: 130 | M4: =M3 -> Total Deltas | N4: =_xlfn.CONCAT("CMV ",C4, " (23.1.0) Value") -> CMV 190 (23.1.0) Value | O4: =IF(C4=D4,"Same CMV",_xlfn.CONCAT("Delta from CMV ",D4, " to CMV ", C4)) -> Delta from CMV 180 to CMV 190 | P4: =_xlfn.CONCAT("CMV ",D4, " (22.1.1) Value") -> CMV 180 (22.1.1) Value | Q4: =IF(D4=E4,"Same CMV",_xlfn.CONCAT("Delta from CMV ",E4, " to CMV ", D4)) -> Delta from CMV 170 to CMV 180 | R4: =_xlfn.CONCAT("CMV ",E4, " (22.1.0) Value") -> CMV 170 (22.1.0) Value | S4: =IF(E4=F4,"Same CMV",_xlfn.CONCAT("Delta from CMV ",F4, " to CMV ", E4)) -> Delta from CMV 160 to CMV 170 | T4: =_xlfn.CONCAT("CMV ",F4, " (21.1.2) Value") -> CMV 160 (21.1.2) Value | U4: =IF(F4=G4,"Same CMV",_xlfn.CONCAT("Delta from CMV ",G4, " to CMV ", F4)) -> Same CMV | V4: =_xlfn.CONCAT("CMV ",G4, " (21.1.1) Value") -> CMV 160 (21.1.1) Value | W4: =IF(G4=H4,"Same CMV",_xlfn.CONCAT("Delta from CMV ",H4, " to CMV ", G4)) -> Delta from CMV 150 to CMV 160 | X4: =_xlfn.CONCAT("CMV ",H4, " (21.1.0) Value") -> CMV 150 (21.1.0) Value | Y4: =IF(H4=I4,"Same CMV",_xlfn.CONCAT("Delta from CMV ",I4, " to CMV ", H4)) -> Delta from CMV 140 to CMV 150 | Z4: =_xlfn.CONCAT("CMV ",I4, " (20.1.2) Value") -> CMV 140 (20.1.2) Value | AA4: =IF(I4=J4,"Same CMV",_xlfn.CONCAT("Delta from CMV ",J4, " to CMV ", I4)) -> Same CMV | AB4: =_xlfn.CONCAT("CMV ",J4, " (20.1.1) Value") -> CMV 140 (20.1.1) Value | AC4: =IF(J4=K4,"Same CMV",_xlfn.CONCAT("Delta from CMV ",K4, " to CMV ", J4)) -> Delta from CMV 130 to CMV 140 | AD4: =_xlfn.CONCAT("CMV ",K4, " (20.1.0) Value") -> CMV 130 (20.1.0) Value
A5: 4 | B5: Assembly Molding | C5: 100 | D5: 90 | E5: 80 | F5: 70 | G5: 70 | H5: 60 | I5: 50 | J5: 50 | K5: 40 | M5: =M4 -> Total Deltas | N5: =_xlfn.CONCAT("CMV ",C5, " (23.1.0) Value") -> CMV 100 (23.1.0) Value | O5: =IF(C5=D5,"Same CMV",_xlfn.CONCAT("Delta from CMV ",D5, " to CMV ", C5)) -> Delta from CMV 90 to CMV 100 | P5: =_xlfn.CONCAT("CMV ",D5, " (22.1.1) Value") -> CMV 90 (22.1.1) Value | Q5: =IF(D5=E5,"Same CMV",_xlfn.CONCAT("Delta from CMV ",E5, " to CMV ", D5)) -> Delta from CMV 80 to CMV 90 | R5: =_xlfn.CONCAT("CMV ",E5, " (22.1.0) Value") -> CMV 80 (22.1.0) Value | S5: =IF(E5=F5,"Same CMV",_xlfn.CONCAT("Delta from CMV ",F5, " to CMV ", E5)) -> Delta from CMV 70 to CMV 80 | T5: =_xlfn.CONCAT("CMV ",F5, " (21.1.2) Value") -> CMV 70 (21.1.2) Value | U5: =IF(F5=G5,"Same CMV",_xlfn.CONCAT("Delta from CMV ",G5, " to CMV ", F5)) -> Same CMV | V5: =_xlfn.CONCAT("CMV ",G5, " (21.1.1) Value") -> CMV 70 (21.1.1) Value | W5: =IF(G5=H5,"Same CMV",_xlfn.CONCAT("Delta from CMV ",H5, " to CMV ", G5)) -> Delta from CMV 60 to CMV 70 | X5: =_xlfn.CONCAT("CMV ",H5, " (21.1.0) Value") -> CMV 60 (21.1.0) Value | Y5: =IF(H5=I5,"Same CMV",_xlfn.CONCAT("Delta from CMV ",I5, " to CMV ", H5)) -> Delta from CMV 50 to CMV 60 | Z5: =_xlfn.CONCAT("CMV ",I5, " (20.1.2) Value") -> CMV 50 (20.1.2) Value | AA5: =IF(I5=J5,"Same CMV",_xlfn.CONCAT("Delta from CMV ",J5, " to CMV ", I5)) -> Same CMV | AB5: =_xlfn.CONCAT("CMV ",J5, " (20.1.1) Value") -> CMV 50 (20.1.1) Value | AC5: =IF(J5=K5,"Same CMV",_xlfn.CONCAT("Delta from CMV ",K5, " to CMV ", J5)) -> Delta from CMV 40 to CMV 50 | AD5: =_xlfn.CONCAT("CMV ",K5, " (20.1.0) Value") -> CMV 40 (20.1.0) Value
A6: 5 | B6: Assembly Plastic Molding | C6: 50 | D6: 40 | E6: 30 | F6: 20 | G6: 20 | H6: 10 | I6: 5 | J6: 0 | K6: 0 | M6: =M5 -> Total Deltas | N6: =_xlfn.CONCAT("CMV ",C6, " (23.1.0) Value") -> CMV 50 (23.1.0) Value | O6: =IF(C6=D6,"Same CMV",_xlfn.CONCAT("Delta from CMV ",D6, " to CMV ", C6)) -> Delta from CMV 40 to CMV 50 | P6: =_xlfn.CONCAT("CMV ",D6, " (22.1.1) Value") -> CMV 40 (22.1.1) Value | Q6: =IF(D6=E6,"Same CMV",_xlfn.CONCAT("Delta from CMV ",E6, " to CMV ", D6)) -> Delta from CMV 30 to CMV 40 | R6: =_xlfn.CONCAT("CMV ",E6, " (22.1.0) Value") -> CMV 30 (22.1.0) Value | S6: =IF(E6=F6,"Same CMV",_xlfn.CONCAT("Delta from CMV ",F6, " to CMV ", E6)) -> Delta from CMV 20 to CMV 30 | T6: =_xlfn.CONCAT("CMV ",F6, " (21.1.2) Value") -> CMV 20 (21.1.2) Value | U6: =IF(F6=G6,"Same CMV",_xlfn.CONCAT("Delta from CMV ",G6, " to CMV ", F6)) -> Same CMV | V6: =_xlfn.CONCAT("CMV ",G6, " (21.1.1) Value") -> CMV 20 (21.1.1) Value | W6: =IF(G6=H6,"Same CMV",_xlfn.CONCAT("Delta from CMV ",H6, " to CMV ", G6)) -> Delta from CMV 10 to CMV 20 | X6: =_xlfn.CONCAT("CMV ",H6, " (21.1.0) Value") -> CMV 10 (21.1.0) Value | Y6: =IF(H6=I6,"Same CMV",_xlfn.CONCAT("Delta from CMV ",I6, " to CMV ", H6)) -> Delta from CMV 5 to CMV 10 | Z6: =_xlfn.CONCAT("CMV ",I6, " (20.1.2) Value") -> CMV 5 (20.1.2) Value | AA6: =IF(I6=J6,"Same CMV",_xlfn.CONCAT("Delta from CMV ",J6, " to CMV ", I6)) -> Delta from CMV 0 to CMV 5 | AB6: =_xlfn.CONCAT("CMV ",J6, " (20.1.1) Value") -> CMV 0 (20.1.1) Value | AC6: =IF(J6=K6,"Same CMV",_xlfn.CONCAT("Delta from CMV ",K6, " to CMV ", J6)) -> Same CMV | AD6: =_xlfn.CONCAT("CMV ",K6, " (20.1.0) Value") -> CMV 0 (20.1.0) Value
A7: 6 | B7: Bar & Tube Fab | C7: 210 | D7: 200 | E7: 190 | F7: 180 | G7: 180 | H7: 170 | I7: 160 | J7: 160 | K7: 150 | M7: =M6 -> Total Deltas | N7: =_xlfn.CONCAT("CMV ",C7, " (23.1.0) Value") -> CMV 210 (23.1.0) Value | O7: =IF(C7=D7,"Same CMV",_xlfn.CONCAT("Delta from CMV ",D7, " to CMV ", C7)) -> Delta from CMV 200 to CMV 210 | P7: =_xlfn.CONCAT("CMV ",D7, " (22.1.1) Value") -> CMV 200 (22.1.1) Value | Q7: =IF(D7=E7,"Same CMV",_xlfn.CONCAT("Delta from CMV ",E7, " to CMV ", D7)) -> Delta from CMV 190 to CMV 200 | R7: =_xlfn.CONCAT("CMV ",E7, " (22.1.0) Value") -> CMV 190 (22.1.0) Value | S7: =IF(E7=F7,"Same CMV",_xlfn.CONCAT("Delta from CMV ",F7, " to CMV ", E7)) -> Delta from CMV 180 to CMV 190 | T7: =_xlfn.CONCAT("CMV ",F7, " (21.1.2) Value") -> CMV 180 (21.1.2) Value | U7: =IF(F7=G7,"Same CMV",_xlfn.CONCAT("Delta from CMV ",G7, " to CMV ", F7)) -> Same CMV | V7: =_xlfn.CONCAT("CMV ",G7, " (21.1.1) Value") -> CMV 180 (21.1.1) Value | W7: =IF(G7=H7,"Same CMV",_xlfn.CONCAT("Delta from CMV ",H7, " to CMV ", G7)) -> Delta from CMV 170 to CMV 180 | X7: =_xlfn.CONCAT("CMV ",H7, " (21.1.0) Value") -> CMV 170 (21.1.0) Value | Y7: =IF(H7=I7,"Same CMV",_xlfn.CONCAT("Delta from CMV ",I7, " to CMV ", H7)) -> Delta from CMV 160 to CMV 170 | Z7: =_xlfn.CONCAT("CMV ",I7, " (20.1.2) Value") -> CMV 160 (20.1.2) Value | AA7: =IF(I7=J7,"Same CMV",_xlfn.CONCAT("Delta from CMV ",J7, " to CMV ", I7)) -> Same CMV | AB7: =_xlfn.CONCAT("CMV ",J7, " (20.1.1) Value") -> CMV 160 (20.1.1) Value | AC7: =IF(J7=K7,"Same CMV",_xlfn.CONCAT("Delta from CMV ",K7, " to CMV ", J7)) -> Delta from CMV 150 to CMV 160 | AD7: =_xlfn.CONCAT("CMV ",K7, " (20.1.0) Value") -> CMV 150 (20.1.0) Value
A8: 7 | B8: Casting | C8: 100 | D8: 100 | E8: 100 | F8: 90 | G8: 90 | H8: 90 | I8: 90 | J8: 90 | K8: 90 | M8: =M7 -> Total Deltas | N8: =_xlfn.CONCAT("CMV ",C8, " (23.1.0) Value") -> CMV 100 (23.1.0) Value | O8: =IF(C8=D8,"Same CMV",_xlfn.CONCAT("Delta from CMV ",D8, " to CMV ", C8)) -> Same CMV | P8: =_xlfn.CONCAT("CMV ",D8, " (22.1.1) Value") -> CMV 100 (22.1.1) Value | Q8: =IF(D8=E8,"Same CMV",_xlfn.CONCAT("Delta from CMV ",E8, " to CMV ", D8)) -> Same CMV | R8: =_xlfn.CONCAT("CMV ",E8, " (22.1.0) Value") -> CMV 100 (22.1.0) Value | S8: =IF(E8=F8,"Same CMV",_xlfn.CONCAT("Delta from CMV ",F8, " to CMV ", E8)) -> Delta from CMV 90 to CMV 100 | T8: =_xlfn.CONCAT("CMV ",F8, " (21.1.2) Value") -> CMV 90 (21.1.2) Value | U8: =IF(F8=G8,"Same CMV",_xlfn.CONCAT("Delta from CMV ",G8, " to CMV ", F8)) -> Same CMV | V8: =_xlfn.CONCAT("CMV ",G8, " (21.1.1) Value") -> CMV 90 (21.1.1) Value | W8: =IF(G8=H8,"Same CMV",_xlfn.CONCAT("Delta from CMV ",H8, " to CMV ", G8)) -> Same CMV | X8: =_xlfn.CONCAT("CMV ",H8, " (21.1.0) Value") -> CMV 90 (21.1.0) Value | Y8: =IF(H8=I8,"Same CMV",_xlfn.CONCAT("Delta from CMV ",I8, " to CMV ", H8)) -> Same CMV | Z8: =_xlfn.CONCAT("CMV ",I8, " (20.1.2) Value") -> CMV 90 (20.1.2) Value | AA8: =IF(I8=J8,"Same CMV",_xlfn.CONCAT("Delta from CMV ",J8, " to CMV ", I8)) -> Same CMV | AB8: =_xlfn.CONCAT("CMV ",J8, " (20.1.1) Value") -> CMV 90 (20.1.1) Value | AC8: =IF(J8=K8,"Same CMV",_xlfn.CONCAT("Delta from CMV ",K8, " to CMV ", J8)) -> Same CMV | AD8: =_xlfn.CONCAT("CMV ",K8, " (20.1.0) Value") -> CMV 90 (20.1.0) Value
A9: 8 | B9: Casting - Die | C9: 140 | D9: 130 | E9: 120 | F9: 110 | G9: 110 | H9: 100 | I9: 90 | J9: 90 | K9: 80 | M9: =M8 -> Total Deltas | N9: =_xlfn.CONCAT("CMV ",C9, " (23.1.0) Value") -> CMV 140 (23.1.0) Value | O9: =IF(C9=D9,"Same CMV",_xlfn.CONCAT("Delta from CMV ",D9, " to CMV ", C9)) -> Delta from CMV 130 to CMV 140 | P9: =_xlfn.CONCAT("CMV ",D9, " (22.1.1) Value") -> CMV 130 (22.1.1) Value | Q9: =IF(D9=E9,"Same CMV",_xlfn.CONCAT("Delta from CMV ",E9, " to CMV ", D9)) -> Delta from CMV 120 to CMV 130 | R9: =_xlfn.CONCAT("CMV ",E9, " (22.1.0) Value") -> CMV 120 (22.1.0) Value | S9: =IF(E9=F9,"Same CMV",_xlfn.CONCAT("Delta from CMV ",F9, " to CMV ", E9)) -> Delta from CMV 110 to CMV 120 | T9: =_xlfn.CONCAT("CMV ",F9, " (21.1.2) Value") -> CMV 110 (21.1.2) Value | U9: =IF(F9=G9,"Same CMV",_xlfn.CONCAT("Delta from CMV ",G9, " to CMV ", F9)) -> Same CMV | V9: =_xlfn.CONCAT("CMV ",G9, " (21.1.1) Value") -> CMV 110 (21.1.1) Value | W9: =IF(G9=H9,"Same CMV",_xlfn.CONCAT("Delta from CMV ",H9, " to CMV ", G9)) -> Delta from CMV 100 to CMV 110 | X9: =_xlfn.CONCAT("CMV ",H9, " (21.1.0) Value") -> CMV 100 (21.1.0) Value | Y9: =IF(H9=I9,"Same CMV",_xlfn.CONCAT("Delta from CMV ",I9, " to CMV ", H9)) -> Delta from CMV 90 to CMV 100 | Z9: =_xlfn.CONCAT("CMV ",I9, " (20.1.2) Value") -> CMV 90 (20.1.2) Value | AA9: =IF(I9=J9,"Same CMV",_xlfn.CONCAT("Delta from CMV ",J9, " to CMV ", I9)) -> Same CMV | AB9: =_xlfn.CONCAT("CMV ",J9, " (20.1.1) Value") -> CMV 90 (20.1.1) Value | AC9: =IF(J9=K9,"Same CMV",_xlfn.CONCAT("Delta from CMV ",K9, " to CMV ", J9)) -> Delta from CMV 80 to CMV 90 | AD9: =_xlfn.CONCAT("CMV ",K9, " (20.1.0) Value") -> CMV 80 (20.1.0) Value
A10: 9 | B10: Casting - Investment | C10: 60 | D10: 50 | E10: 40 | F10: 30 | G10: 30 | H10: 20 | I10: 10 | J10: 10 | K10: 0 | M10: =M9 -> Total Deltas | N10: =_xlfn.CONCAT("CMV ",C10, " (23.1.0) Value") -> CMV 60 (23.1.0) Value | O10: =IF(C10=D10,"Same CMV",_xlfn.CONCAT("Delta from CMV ",D10, " to CMV ", C10)) -> Delta from CMV 50 to CMV 60 | P10: =_xlfn.CONCAT("CMV ",D10, " (22.1.1) Value") -> CMV 50 (22.1.1) Value | Q10: =IF(D10=E10,"Same CMV",_xlfn.CONCAT("Delta from CMV ",E10, " to CMV ", D10)) -> Delta from CMV 40 to CMV 50 | R10: =_xlfn.CONCAT("CMV ",E10, " (22.1.0) Value") -> CMV 40 (22.1.0) Value | S10: =IF(E10=F10,"Same CMV",_xlfn.CONCAT("Delta from CMV ",F10, " to CMV ", E10)) -> Delta from CMV 30 to CMV 40 | T10: =_xlfn.CONCAT("CMV ",F10, " (21.1.2) Value") -> CMV 30 (21.1.2) Value | U10: =IF(F10=G10,"Same CMV",_xlfn.CONCAT("Delta from CMV ",G10, " to CMV ", F10)) -> Same CMV | V10: =_xlfn.CONCAT("CMV ",G10, " (21.1.1) Value") -> CMV 30 (21.1.1) Value | W10: =IF(G10=H10,"Same CMV",_xlfn.CONCAT("Delta from CMV ",H10, " to CMV ", G10)) -> Delta from CMV 20 to CMV 30 | X10: =_xlfn.CONCAT("CMV ",H10, " (21.1.0) Value") -> CMV 20 (21.1.0) Value | Y10: =IF(H10=I10,"Same CMV",_xlfn.CONCAT("Delta from CMV ",I10, " to CMV ", H10)) -> Delta from CMV 10 to CMV 20 | Z10: =_xlfn.CONCAT("CMV ",I10, " (20.1.2) Value") -> CMV 10 (20.1.2) Value | AA10: =IF(I10=J10,"Same CMV",_xlfn.CONCAT("Delta from CMV ",J10, " to CMV ", I10)) -> Same CMV | AB10: =_xlfn.CONCAT("CMV ",J10, " (20.1.1) Value") -> CMV 10 (20.1.1) Value | AC10: =IF(J10=K10,"Same CMV",_xlfn.CONCAT("Delta from CMV ",K10, " to CMV ", J10)) -> Delta from CMV 0 to CMV 10 | AD10: =_xlfn.CONCAT("CMV ",K10, " (20.1.0) Value") -> CMV 0 (20.1.0) Value
A11: 10 | B11: Casting - Sand | C11: 140 | D11: 130 | E11: 120 | F11: 110 | G11: 110 | H11: 100 | I11: 90 | J11: 90 | K11: 80 | M11: =M10 -> Total Deltas | N11: =_xlfn.CONCAT("CMV ",C11, " (23.1.0) Value") -> CMV 140 (23.1.0) Value | O11: =IF(C11=D11,"Same CMV",_xlfn.CONCAT("Delta from CMV ",D11, " to CMV ", C11)) -> Delta from CMV 130 to CMV 140 | P11: =_xlfn.CONCAT("CMV ",D11, " (22.1.1) Value") -> CMV 130 (22.1.1) Value | Q11: =IF(D11=E11,"Same CMV",_xlfn.CONCAT("Delta from CMV ",E11, " to CMV ", D11)) -> Delta from CMV 120 to CMV 130 | R11: =_xlfn.CONCAT("CMV ",E11, " (22.1.0) Value") -> CMV 120 (22.1.0) Value | S11: =IF(E11=F11,"Same CMV",_xlfn.CONCAT("Delta from CMV ",F11, " to CMV ", E11)) -> Delta from CMV 110 to CMV 120 | T11: =_xlfn.CONCAT("CMV ",F11, " (21.1.2) Value") -> CMV 110 (21.1.2) Value | U11: =IF(F11=G11,"Same CMV",_xlfn.CONCAT("Delta from CMV ",G11, " to CMV ", F11)) -> Same CMV | V11: =_xlfn.CONCAT("CMV ",G11, " (21.1.1) Value") -> CMV 110 (21.1.1) Value | W11: =IF(G11=H11,"Same CMV",_xlfn.CONCAT("Delta from CMV ",H11, " to CMV ", G11)) -> Delta from CMV 100 to CMV 110 | X11: =_xlfn.CONCAT("CMV ",H11, " (21.1.0) Value") -> CMV 100 (21.1.0) Value | Y11: =IF(H11=I11,"Same CMV",_xlfn.CONCAT("Delta from CMV ",I11, " to CMV ", H11)) -> Delta from CMV 90 to CMV 100 | Z11: =_xlfn.CONCAT("CMV ",I11, " (20.1.2) Value") -> CMV 90 (20.1.2) Value | AA11: =IF(I11=J11,"Same CMV",_xlfn.CONCAT("Delta from CMV ",J11, " to CMV ", I11)) -> Same CMV | AB11: =_xlfn.CONCAT("CMV ",J11, " (20.1.1) Value") -> CMV 90 (20.1.1) Value | AC11: =IF(J11=K11,"Same CMV",_xlfn.CONCAT("Delta from CMV ",K11, " to CMV ", J11)) -> Delta from CMV 80 to CMV 90 | AD11: =_xlfn.CONCAT("CMV ",K11, " (20.1.0) Value") -> CMV 80 (20.1.0) Value
A12: 11 | B12: Composites | C12: 60 | D12: 60 | E12: 50 | F12: 40 | G12: 40 | H12: 40 | I12: 30 | J12: 30 | K12: 20 | M12: =M11 -> Total Deltas | N12: =_xlfn.CONCAT("CMV ",C12, " (23.1.0) Value") -> CMV 60 (23.1.0) Value | O12: =IF(C12=D12,"Same CMV",_xlfn.CONCAT("Delta from CMV ",D12, " to CMV ", C12)) -> Same CMV | P12: =_xlfn.CONCAT("CMV ",D12, " (22.1.1) Value") -> CMV 60 (22.1.1) Value | Q12: =IF(D12=E12,"Same CMV",_xlfn.CONCAT("Delta from CMV ",E12, " to CMV ", D12)) -> Delta from CMV 50 to CMV 60 | R12: =_xlfn.CONCAT("CMV ",E12, " (22.1.0) Value") -> CMV 50 (22.1.0) Value | S12: =IF(E12=F12,"Same CMV",_xlfn.CONCAT("Delta from CMV ",F12, " to CMV ", E12)) -> Delta from CMV 40 to CMV 50 | T12: =_xlfn.CONCAT("CMV ",F12, " (21.1.2) Value") -> CMV 40 (21.1.2) Value | U12: =IF(F12=G12,"Same CMV",_xlfn.CONCAT("Delta from CMV ",G12, " to CMV ", F12)) -> Same CMV | V12: =_xlfn.CONCAT("CMV ",G12, " (21.1.1) Value") -> CMV 40 (21.1.1) Value | W12: =IF(G12=H12,"Same CMV",_xlfn.CONCAT("Delta from CMV ",H12, " to CMV ", G12)) -> Same CMV | X12: =_xlfn.CONCAT("CMV ",H12, " (21.1.0) Value") -> CMV 40 (21.1.0) Value | Y12: =IF(H12=I12,"Same CMV",_xlfn.CONCAT("Delta from CMV ",I12, " to CMV ", H12)) -> Delta from CMV 30 to CMV 40 | Z12: =_xlfn.CONCAT("CMV ",I12, " (20.1.2) Value") -> CMV 30 (20.1.2) Value | AA12: =IF(I12=J12,"Same CMV",_xlfn.CONCAT("Delta from CMV ",J12, " to CMV ", I12)) -> Same CMV | AB12: =_xlfn.CONCAT("CMV ",J12, " (20.1.1) Value") -> CMV 30 (20.1.1) Value | AC12: =IF(J12=K12,"Same CMV",_xlfn.CONCAT("Delta from CMV ",K12, " to CMV ", J12)) -> Delta from CMV 20 to CMV 30 | AD12: =_xlfn.CONCAT("CMV ",K12, " (20.1.0) Value") -> CMV 20 (20.1.0) Value
A13: 12 | B13: Forging | C13: 190 | D13: 180 | E13: 170 | F13: 160 | G13: 160 | H13: 150 | I13: 140 | J13: 140 | K13: 130 | M13: =M12 -> Total Deltas | N13: =_xlfn.CONCAT("CMV ",C13, " (23.1.0) Value") -> CMV 190 (23.1.0) Value | O13: =IF(C13=D13,"Same CMV",_xlfn.CONCAT("Delta from CMV ",D13, " to CMV ", C13)) -> Delta from CMV 180 to CMV 190 | P13: =_xlfn.CONCAT("CMV ",D13, " (22.1.1) Value") -> CMV 180 (22.1.1) Value | Q13: =IF(D13=E13,"Same CMV",_xlfn.CONCAT("Delta from CMV ",E13, " to CMV ", D13)) -> Delta from CMV 170 to CMV 180 | R13: =_xlfn.CONCAT("CMV ",E13, " (22.1.0) Value") -> CMV 170 (22.1.0) Value | S13: =IF(E13=F13,"Same CMV",_xlfn.CONCAT("Delta from CMV ",F13, " to CMV ", E13)) -> Delta from CMV 160 to CMV 170 | T13: =_xlfn.CONCAT("CMV ",F13, " (21.1.2) Value") -> CMV 160 (21.1.2) Value | U13: =IF(F13=G13,"Same CMV",_xlfn.CONCAT("Delta from CMV ",G13, " to CMV ", F13)) -> Same CMV | V13: =_xlfn.CONCAT("CMV ",G13, " (21.1.1) Value") -> CMV 160 (21.1.1) Value | W13: =IF(G13=H13,"Same CMV",_xlfn.CONCAT("Delta from CMV ",H13, " to CMV ", G13)) -> Delta from CMV 150 to CMV 160 | X13: =_xlfn.CONCAT("CMV ",H13, " (21.1.0) Value") -> CMV 150 (21.1.0) Value | Y13: =IF(H13=I13,"Same CMV",_xlfn.CONCAT("Delta from CMV ",I13, " to CMV ", H13)) -> Delta from CMV 140 to CMV 150 | Z13: =_xlfn.CONCAT("CMV ",I13, " (20.1.2) Value") -> CMV 140 (20.1.2) Value | AA13: =IF(I13=J13,"Same CMV",_xlfn.CONCAT("Delta from CMV ",J13, " to CMV ", I13)) -> Same CMV | AB13: =_xlfn.CONCAT("CMV ",J13, " (20.1.1) Value") -> CMV 140 (20.1.1) Value | AC13: =IF(J13=K13,"Same CMV",_xlfn.CONCAT("Delta from CMV ",K13, " to CMV ", J13)) -> Delta from CMV 130 to CMV 140 | AD13: =_xlfn.CONCAT("CMV ",K13, " (20.1.0) Value") -> CMV 130 (20.1.0) Value
A14: 13 | B14: Heat Treatment | C14: 140 | D14: 130 | E14: 120 | F14: 110 | G14: 110 | H14: 100 | I14: 100 | J14: 100 | K14: 100 | M14: =M13 -> Total Deltas | N14: =_xlfn.CONCAT("CMV ",C14, " (23.1.0) Value") -> CMV 140 (23.1.0) Value | O14: =IF(C14=D14,"Same CMV",_xlfn.CONCAT("Delta from CMV ",D14, " to CMV ", C14)) -> Delta from CMV 130 to CMV 140 | P14: =_xlfn.CONCAT("CMV ",D14, " (22.1.1) Value") -> CMV 130 (22.1.1) Value | Q14: =IF(D14=E14,"Same CMV",_xlfn.CONCAT("Delta from CMV ",E14, " to CMV ", D14)) -> Delta from CMV 120 to CMV 130 | R14: =_xlfn.CONCAT("CMV ",E14, " (22.1.0) Value") -> CMV 120 (22.1.0) Value | S14: =IF(E14=F14,"Same CMV",_xlfn.CONCAT("Delta from CMV ",F14, " to CMV ", E14)) -> Delta from CMV 110 to CMV 120 | T14: =_xlfn.CONCAT("CMV ",F14, " (21.1.2) Value") -> CMV 110 (21.1.2) Value | U14: =IF(F14=G14,"Same CMV",_xlfn.CONCAT("Delta from CMV ",G14, " to CMV ", F14)) -> Same CMV | V14: =_xlfn.CONCAT("CMV ",G14, " (21.1.1) Value") -> CMV 110 (21.1.1) Value | W14: =IF(G14=H14,"Same CMV",_xlfn.CONCAT("Delta from CMV ",H14, " to CMV ", G14)) -> Delta from CMV 100 to CMV 110 | X14: =_xlfn.CONCAT("CMV ",H14, " (21.1.0) Value") -> CMV 100 (21.1.0) Value | Y14: =IF(H14=I14,"Same CMV",_xlfn.CONCAT("Delta from CMV ",I14, " to CMV ", H14)) -> Same CMV | Z14: =_xlfn.CONCAT("CMV ",I14, " (20.1.2) Value") -> CMV 100 (20.1.2) Value | AA14: =IF(I14=J14,"Same CMV",_xlfn.CONCAT("Delta from CMV ",J14, " to CMV ", I14)) -> Same CMV | AB14: =_xlfn.CONCAT("CMV ",J14, " (20.1.1) Value") -> CMV 100 (20.1.1) Value | AC14: =IF(J14=K14,"Same CMV",_xlfn.CONCAT("Delta from CMV ",K14, " to CMV ", J14)) -> Same CMV | AD14: =_xlfn.CONCAT("CMV ",K14, " (20.1.0) Value") -> CMV 100 (20.1.0) Value
A15: 14 | B15: Injection Molding | C15: NA | D15: NA | E15: NA | F15: NA | G15: NA | H15: NA | I15: NA | J15: NA | K15: NA | M15: =M14 -> Total Deltas | N15: =_xlfn.CONCAT("CMV ",C15, " (23.1.0) Value") -> CMV NA (23.1.0) Value | O15: =IF(C15=D15,"Same CMV",_xlfn.CONCAT("Delta from CMV ",D15, " to CMV ", C15)) -> Same CMV | P15: =_xlfn.CONCAT("CMV ",D15, " (22.1.1) Value") -> CMV NA (22.1.1) Value | Q15: =IF(D15=E15,"Same CMV",_xlfn.CONCAT("Delta from CMV ",E15, " to CMV ", D15)) -> Same CMV | R15: =_xlfn.CONCAT("CMV ",E15, " (22.1.0) Value") -> CMV NA (22.1.0) Value | S15: =IF(E15=F15,"Same CMV",_xlfn.CONCAT("Delta from CMV ",F15, " to CMV ", E15)) -> Same CMV | T15: =_xlfn.CONCAT("CMV ",F15, " (21.1.2) Value") -> CMV NA (21.1.2) Value | U15: =IF(F15=G15,"Same CMV",_xlfn.CONCAT("Delta from CMV ",G15, " to CMV ", F15)) -> Same CMV | V15: =_xlfn.CONCAT("CMV ",G15, " (21.1.1) Value") -> CMV NA (21.1.1) Value | W15: =IF(G15=H15,"Same CMV",_xlfn.CONCAT("Delta from CMV ",H15, " to CMV ", G15)) -> Same CMV | X15: =_xlfn.CONCAT("CMV ",H15, " (21.1.0) Value") -> CMV NA (21.1.0) Value | Y15: =IF(H15=I15,"Same CMV",_xlfn.CONCAT("Delta from CMV ",I15, " to CMV ", H15)) -> Same CMV | Z15: =_xlfn.CONCAT("CMV ",I15, " (20.1.2) Value") -> CMV NA (20.1.2) Value | AA15: =IF(I15=J15,"Same CMV",_xlfn.CONCAT("Delta from CMV ",J15, " to CMV ", I15)) -> Same CMV | AB15: =_xlfn.CONCAT("CMV ",J15, " (20.1.1) Value") -> CMV NA (20.1.1) Value | AC15: =IF(J15=K15,"Same CMV",_xlfn.CONCAT("Delta from CMV ",K15, " to CMV ", J15)) -> Same CMV | AD15: =_xlfn.CONCAT("CMV ",K15, " (20.1.0) Value") -> CMV NA (20.1.0) Value
A16: 15 | B16: Machining | C16: 270 | D16: 260 | E16: 250 | F16: 240 | G16: 240 | H16: 230 | I16: 220 | J16: 220 | K16: 210 | M16: =M15 -> Total Deltas | N16: =_xlfn.CONCAT("CMV ",C16, " (23.1.0) Value") -> CMV 270 (23.1.0) Value | O16: =IF(C16=D16,"Same CMV",_xlfn.CONCAT("Delta from CMV ",D16, " to CMV ", C16)) -> Delta from CMV 260 to CMV 270 | P16: =_xlfn.CONCAT("CMV ",D16, " (22.1.1) Value") -> CMV 260 (22.1.1) Value | Q16: =IF(D16=E16,"Same CMV",_xlfn.CONCAT("Delta from CMV ",E16, " to CMV ", D16)) -> Delta from CMV 250 to CMV 260 | R16: =_xlfn.CONCAT("CMV ",E16, " (22.1.0) Value") -> CMV 250 (22.1.0) Value | S16: =IF(E16=F16,"Same CMV",_xlfn.CONCAT("Delta from CMV ",F16, " to CMV ", E16)) -> Delta from CMV 240 to CMV 250 | T16: =_xlfn.CONCAT("CMV ",F16, " (21.1.2) Value") -> CMV 240 (21.1.2) Value | U16: =IF(F16=G16,"Same CMV",_xlfn.CONCAT("Delta from CMV ",G16, " to CMV ", F16)) -> Same CMV | V16: =_xlfn.CONCAT("CMV ",G16, " (21.1.1) Value") -> CMV 240 (21.1.1) Value | W16: =IF(G16=H16,"Same CMV",_xlfn.CONCAT("Delta from CMV ",H16, " to CMV ", G16)) -> Delta from CMV 230 to CMV 240 | X16: =_xlfn.CONCAT("CMV ",H16, " (21.1.0) Value") -> CMV 230 (21.1.0) Value | Y16: =IF(H16=I16,"Same CMV",_xlfn.CONCAT("Delta from CMV ",I16, " to CMV ", H16)) -> Delta from CMV 220 to CMV 230 | Z16: =_xlfn.CONCAT("CMV ",I16, " (20.1.2) Value") -> CMV 220 (20.1.2) Value | AA16: =IF(I16=J16,"Same CMV",_xlfn.CONCAT("Delta from CMV ",J16, " to CMV ", I16)) -> Same CMV | AB16: =_xlfn.CONCAT("CMV ",J16, " (20.1.1) Value") -> CMV 220 (20.1.1) Value | AC16: =IF(J16=K16,"Same CMV",_xlfn.CONCAT("Delta from CMV ",K16, " to CMV ", J16)) -> Delta from CMV 210 to CMV 220 | AD16: =_xlfn.CONCAT("CMV ",K16, " (20.1.0) Value") -> CMV 210 (20.1.0) Value
A17: 16 | B17: Multi-Spindle Machining | C17: 20 | D17: 20 | E17: 10 | F17: 0 | G17: 0 | H17: 0 | I17: NA | J17: NA | K17: NA | M17: =M16 -> Total Deltas | N17: =_xlfn.CONCAT("CMV ",C17, " (23.1.0) Value") -> CMV 20 (23.1.0) Value | O17: =IF(C17=D17,"Same CMV",_xlfn.CONCAT("Delta from CMV ",D17, " to CMV ", C17)) -> Same CMV | P17: =_xlfn.CONCAT("CMV ",D17, " (22.1.1) Value") -> CMV 20 (22.1.1) Value | Q17: =IF(D17=E17,"Same CMV",_xlfn.CONCAT("Delta from CMV ",E17, " to CMV ", D17)) -> Delta from CMV 10 to CMV 20 | R17: =_xlfn.CONCAT("CMV ",E17, " (22.1.0) Value") -> CMV 10 (22.1.0) Value | S17: =IF(E17=F17,"Same CMV",_xlfn.CONCAT("Delta from CMV ",F17, " to CMV ", E17)) -> Delta from CMV 0 to CMV 10 | T17: =_xlfn.CONCAT("CMV ",F17, " (21.1.2) Value") -> CMV 0 (21.1.2) Value | U17: =IF(F17=G17,"Same CMV",_xlfn.CONCAT("Delta from CMV ",G17, " to CMV ", F17)) -> Same CMV | V17: =_xlfn.CONCAT("CMV ",G17, " (21.1.1) Value") -> CMV 0 (21.1.1) Value | W17: =IF(G17=H17,"Same CMV",_xlfn.CONCAT("Delta from CMV ",H17, " to CMV ", G17)) -> Same CMV | X17: =_xlfn.CONCAT("CMV ",H17, " (21.1.0) Value") -> CMV 0 (21.1.0) Value | Y17: =IF(H17=I17,"Same CMV",_xlfn.CONCAT("Delta from CMV ",I17, " to CMV ", H17)) -> Delta from CMV NA to CMV 0 | Z17: =_xlfn.CONCAT("CMV ",I17, " (20.1.2) Value") -> CMV NA (20.1.2) Value | AA17: =IF(I17=J17,"Same CMV",_xlfn.CONCAT("Delta from CMV ",J17, " to CMV ", I17)) -> Same CMV | AB17: =_xlfn.CONCAT("CMV ",J17, " (20.1.1) Value") -> CMV NA (20.1.1) Value | AC17: =IF(J17=K17,"Same CMV",_xlfn.CONCAT("Delta from CMV ",K17, " to CMV ", J17)) -> Same CMV | AD17: =_xlfn.CONCAT("CMV ",K17, " (20.1.0) Value") -> CMV NA (20.1.0) Value
A18: 17 | B18: Other Secondary Processes | C18: 130 | D18: 130 | E18: 120 | F18: 110 | G18: 110 | H18: 110 | I18: 110 | J18: 110 | K18: 110 | M18: =M17 -> Total Deltas | N18: =_xlfn.CONCAT("CMV ",C18, " (23.1.0) Value") -> CMV 130 (23.1.0) Value | O18: =IF(C18=D18,"Same CMV",_xlfn.CONCAT("Delta from CMV ",D18, " to CMV ", C18)) -> Same CMV | P18: =_xlfn.CONCAT("CMV ",D18, " (22.1.1) Value") -> CMV 130 (22.1.1) Value | Q18: =IF(D18=E18,"Same CMV",_xlfn.CONCAT("Delta from CMV ",E18, " to CMV ", D18)) -> Delta from CMV 120 to CMV 130 | R18: =_xlfn.CONCAT("CMV ",E18, " (22.1.0) Value") -> CMV 120 (22.1.0) Value | S18: =IF(E18=F18,"Same CMV",_xlfn.CONCAT("Delta from CMV ",F18, " to CMV ", E18)) -> Delta from CMV 110 to CMV 120 | T18: =_xlfn.CONCAT("CMV ",F18, " (21.1.2) Value") -> CMV 110 (21.1.2) Value | U18: =IF(F18=G18,"Same CMV",_xlfn.CONCAT("Delta from CMV ",G18, " to CMV ", F18)) -> Same CMV | V18: =_xlfn.CONCAT("CMV ",G18, " (21.1.1) Value") -> CMV 110 (21.1.1) Value | W18: =IF(G18=H18,"Same CMV",_xlfn.CONCAT("Delta from CMV ",H18, " to CMV ", G18)) -> Same CMV | X18: =_xlfn.CONCAT("CMV ",H18, " (21.1.0) Value") -> CMV 110 (21.1.0) Value | Y18: =IF(H18=I18,"Same CMV",_xlfn.CONCAT("Delta from CMV ",I18, " to CMV ", H18)) -> Same CMV | Z18: =_xlfn.CONCAT("CMV ",I18, " (20.1.2) Value") -> CMV 110 (20.1.2) Value | AA18: =IF(I18=J18,"Same CMV",_xlfn.CONCAT("Delta from CMV ",J18, " to CMV ", I18)) -> Same CMV | AB18: =_xlfn.CONCAT("CMV ",J18, " (20.1.1) Value") -> CMV 110 (20.1.1) Value | AC18: =IF(J18=K18,"Same CMV",_xlfn.CONCAT("Delta from CMV ",K18, " to CMV ", J18)) -> Same CMV | AD18: =_xlfn.CONCAT("CMV ",K18, " (20.1.0) Value") -> CMV 110 (20.1.0) Value
A19: 18 | B19: Part Assembly | C19: 90 | D19: 90 | E19: 80 | F19: 70 | G19: 70 | H19: 70 | I19: 70 | J19: 70 | K19: 70 | M19: =M18 -> Total Deltas | N19: =_xlfn.CONCAT("CMV ",C19, " (23.1.0) Value") -> CMV 90 (23.1.0) Value | O19: =IF(C19=D19,"Same CMV",_xlfn.CONCAT("Delta from CMV ",D19, " to CMV ", C19)) -> Same CMV | P19: =_xlfn.CONCAT("CMV ",D19, " (22.1.1) Value") -> CMV 90 (22.1.1) Value | Q19: =IF(D19=E19,"Same CMV",_xlfn.CONCAT("Delta from CMV ",E19, " to CMV ", D19)) -> Delta from CMV 80 to CMV 90 | R19: =_xlfn.CONCAT("CMV ",E19, " (22.1.0) Value") -> CMV 80 (22.1.0) Value | S19: =IF(E19=F19,"Same CMV",_xlfn.CONCAT("Delta from CMV ",F19, " to CMV ", E19)) -> Delta from CMV 70 to CMV 80 | T19: =_xlfn.CONCAT("CMV ",F19, " (21.1.2) Value") -> CMV 70 (21.1.2) Value | U19: =IF(F19=G19,"Same CMV",_xlfn.CONCAT("Delta from CMV ",G19, " to CMV ", F19)) -> Same CMV | V19: =_xlfn.CONCAT("CMV ",G19, " (21.1.1) Value") -> CMV 70 (21.1.1) Value | W19: =IF(G19=H19,"Same CMV",_xlfn.CONCAT("Delta from CMV ",H19, " to CMV ", G19)) -> Same CMV | X19: =_xlfn.CONCAT("CMV ",H19, " (21.1.0) Value") -> CMV 70 (21.1.0) Value | Y19: =IF(H19=I19,"Same CMV",_xlfn.CONCAT("Delta from CMV ",I19, " to CMV ", H19)) -> Same CMV | Z19: =_xlfn.CONCAT("CMV ",I19, " (20.1.2) Value") -> CMV 70 (20.1.2) Value | AA19: =IF(I19=J19,"Same CMV",_xlfn.CONCAT("Delta from CMV ",J19, " to CMV ", I19)) -> Same CMV | AB19: =_xlfn.CONCAT("CMV ",J19, " (20.1.1) Value") -> CMV 70 (20.1.1) Value | AC19: =IF(J19=K19,"Same CMV",_xlfn.CONCAT("Delta from CMV ",K19, " to CMV ", J19)) -> Same CMV | AD19: =_xlfn.CONCAT("CMV ",K19, " (20.1.0) Value") -> CMV 70 (20.1.0) Value
A20: 19 | B20: PCB | C20: 40 | D20: 30 | E20: 20 | F20: 10 | G20: 10 | H20: 0 | I20: NA | J20: NA | K20: NA | M20: =M19 -> Total Deltas | N20: =_xlfn.CONCAT("CMV ",C20, " (23.1.0) Value") -> CMV 40 (23.1.0) Value | O20: =IF(C20=D20,"Same CMV",_xlfn.CONCAT("Delta from CMV ",D20, " to CMV ", C20)) -> Delta from CMV 30 to CMV 40 | P20: =_xlfn.CONCAT("CMV ",D20, " (22.1.1) Value") -> CMV 30 (22.1.1) Value | Q20: =IF(D20=E20,"Same CMV",_xlfn.CONCAT("Delta from CMV ",E20, " to CMV ", D20)) -> Delta from CMV 20 to CMV 30 | R20: =_xlfn.CONCAT("CMV ",E20, " (22.1.0) Value") -> CMV 20 (22.1.0) Value | S20: =IF(E20=F20,"Same CMV",_xlfn.CONCAT("Delta from CMV ",F20, " to CMV ", E20)) -> Delta from CMV 10 to CMV 20 | T20: =_xlfn.CONCAT("CMV ",F20, " (21.1.2) Value") -> CMV 10 (21.1.2) Value | U20: =IF(F20=G20,"Same CMV",_xlfn.CONCAT("Delta from CMV ",G20, " to CMV ", F20)) -> Same CMV | V20: =_xlfn.CONCAT("CMV ",G20, " (21.1.1) Value") -> CMV 10 (21.1.1) Value | W20: =IF(G20=H20,"Same CMV",_xlfn.CONCAT("Delta from CMV ",H20, " to CMV ", G20)) -> Delta from CMV 0 to CMV 10 | X20: =_xlfn.CONCAT("CMV ",H20, " (21.1.0) Value") -> CMV 0 (21.1.0) Value | Y20: =IF(H20=I20,"Same CMV",_xlfn.CONCAT("Delta from CMV ",I20, " to CMV ", H20)) -> Delta from CMV NA to CMV 0 | Z20: =_xlfn.CONCAT("CMV ",I20, " (20.1.2) Value") -> CMV NA (20.1.2) Value | AA20: =IF(I20=J20,"Same CMV",_xlfn.CONCAT("Delta from CMV ",J20, " to CMV ", I20)) -> Same CMV | AB20: =_xlfn.CONCAT("CMV ",J20, " (20.1.1) Value") -> CMV NA (20.1.1) Value | AC20: =IF(J20=K20,"Same CMV",_xlfn.CONCAT("Delta from CMV ",K20, " to CMV ", J20)) -> Same CMV | AD20: =_xlfn.CONCAT("CMV ",K20, " (20.1.0) Value") -> CMV NA (20.1.0) Value
A21: 20 | B21: Plastic Molding | C21: 220 | D21: 210 | E21: 200 | F21: 190 | G21: 190 | H21: 180 | I21: 170 | J21: 170 | K21: 160 | M21: =M20 -> Total Deltas | N21: =_xlfn.CONCAT("CMV ",C21, " (23.1.0) Value") -> CMV 220 (23.1.0) Value | O21: =IF(C21=D21,"Same CMV",_xlfn.CONCAT("Delta from CMV ",D21, " to CMV ", C21)) -> Delta from CMV 210 to CMV 220 | P21: =_xlfn.CONCAT("CMV ",D21, " (22.1.1) Value") -> CMV 210 (22.1.1) Value | Q21: =IF(D21=E21,"Same CMV",_xlfn.CONCAT("Delta from CMV ",E21, " to CMV ", D21)) -> Delta from CMV 200 to CMV 210 | R21: =_xlfn.CONCAT("CMV ",E21, " (22.1.0) Value") -> CMV 200 (22.1.0) Value | S21: =IF(E21=F21,"Same CMV",_xlfn.CONCAT("Delta from CMV ",F21, " to CMV ", E21)) -> Delta from CMV 190 to CMV 200 | T21: =_xlfn.CONCAT("CMV ",F21, " (21.1.2) Value") -> CMV 190 (21.1.2) Value | U21: =IF(F21=G21,"Same CMV",_xlfn.CONCAT("Delta from CMV ",G21, " to CMV ", F21)) -> Same CMV | V21: =_xlfn.CONCAT("CMV ",G21, " (21.1.1) Value") -> CMV 190 (21.1.1) Value | W21: =IF(G21=H21,"Same CMV",_xlfn.CONCAT("Delta from CMV ",H21, " to CMV ", G21)) -> Delta from CMV 180 to CMV 190 | X21: =_xlfn.CONCAT("CMV ",H21, " (21.1.0) Value") -> CMV 180 (21.1.0) Value | Y21: =IF(H21=I21,"Same CMV",_xlfn.CONCAT("Delta from CMV ",I21, " to CMV ", H21)) -> Delta from CMV 170 to CMV 180 | Z21: =_xlfn.CONCAT("CMV ",I21, " (20.1.2) Value") -> CMV 170 (20.1.2) Value | AA21: =IF(I21=J21,"Same CMV",_xlfn.CONCAT("Delta from CMV ",J21, " to CMV ", I21)) -> Same CMV | AB21: =_xlfn.CONCAT("CMV ",J21, " (20.1.1) Value") -> CMV 170 (20.1.1) Value | AC21: =IF(J21=K21,"Same CMV",_xlfn.CONCAT("Delta from CMV ",K21, " to CMV ", J21)) -> Delta from CMV 160 to CMV 170 | AD21: =_xlfn.CONCAT("CMV ",K21, " (20.1.0) Value") -> CMV 160 (20.1.0) Value
A22: 21 | B22: Powder Metal | C22: 130 | D22: 120 | E22: 110 | F22: 100 | G22: 100 | H22: 100 | I22: 90 | J22: 90 | K22: 80 | M22: =M21 -> Total Deltas | N22: =_xlfn.CONCAT("CMV ",C22, " (23.1.0) Value") -> CMV 130 (23.1.0) Value | O22: =IF(C22=D22,"Same CMV",_xlfn.CONCAT("Delta from CMV ",D22, " to CMV ", C22)) -> Delta from CMV 120 to CMV 130 | P22: =_xlfn.CONCAT("CMV ",D22, " (22.1.1) Value") -> CMV 120 (22.1.1) Value | Q22: =IF(D22=E22,"Same CMV",_xlfn.CONCAT("Delta from CMV ",E22, " to CMV ", D22)) -> Delta from CMV 110 to CMV 120 | R22: =_xlfn.CONCAT("CMV ",E22, " (22.1.0) Value") -> CMV 110 (22.1.0) Value | S22: =IF(E22=F22,"Same CMV",_xlfn.CONCAT("Delta from CMV ",F22, " to CMV ", E22)) -> Delta from CMV 100 to CMV 110 | T22: =_xlfn.CONCAT("CMV ",F22, " (21.1.2) Value") -> CMV 100 (21.1.2) Value | U22: =IF(F22=G22,"Same CMV",_xlfn.CONCAT("Delta from CMV ",G22, " to CMV ", F22)) -> Same CMV | V22: =_xlfn.CONCAT("CMV ",G22, " (21.1.1) Value") -> CMV 100 (21.1.1) Value | W22: =IF(G22=H22,"Same CMV",_xlfn.CONCAT("Delta from CMV ",H22, " to CMV ", G22)) -> Same CMV | X22: =_xlfn.CONCAT("CMV ",H22, " (21.1.0) Value") -> CMV 100 (21.1.0) Value | Y22: =IF(H22=I22,"Same CMV",_xlfn.CONCAT("Delta from CMV ",I22, " to CMV ", H22)) -> Delta from CMV 90 to CMV 100 | Z22: =_xlfn.CONCAT("CMV ",I22, " (20.1.2) Value") -> CMV 90 (20.1.2) Value | AA22: =IF(I22=J22,"Same CMV",_xlfn.CONCAT("Delta from CMV ",J22, " to CMV ", I22)) -> Same CMV | AB22: =_xlfn.CONCAT("CMV ",J22, " (20.1.1) Value") -> CMV 90 (20.1.1) Value | AC22: =IF(J22=K22,"Same CMV",_xlfn.CONCAT("Delta from CMV ",K22, " to CMV ", J22)) -> Delta from CMV 80 to CMV 90 | AD22: =_xlfn.CONCAT("CMV ",K22, " (20.1.0) Value") -> CMV 80 (20.1.0) Value
A23: 22 | B23: Rapid Prototyping | C23: 50 | D23: 50 | E23: 50 | F23: 50 | G23: 50 | H23: 50 | I23: 50 | J23: 50 | K23: 50 | M23: =M22 -> Total Deltas | N23: =_xlfn.CONCAT("CMV ",C23, " (23.1.0) Value") -> CMV 50 (23.1.0) Value | O23: =IF(C23=D23,"Same CMV",_xlfn.CONCAT("Delta from CMV ",D23, " to CMV ", C23)) -> Same CMV | P23: =_xlfn.CONCAT("CMV ",D23, " (22.1.1) Value") -> CMV 50 (22.1.1) Value | Q23: =IF(D23=E23,"Same CMV",_xlfn.CONCAT("Delta from CMV ",E23, " to CMV ", D23)) -> Same CMV | R23: =_xlfn.CONCAT("CMV ",E23, " (22.1.0) Value") -> CMV 50 (22.1.0) Value | S23: =IF(E23=F23,"Same CMV",_xlfn.CONCAT("Delta from CMV ",F23, " to CMV ", E23)) -> Same CMV | T23: =_xlfn.CONCAT("CMV ",F23, " (21.1.2) Value") -> CMV 50 (21.1.2) Value | U23: =IF(F23=G23,"Same CMV",_xlfn.CONCAT("Delta from CMV ",G23, " to CMV ", F23)) -> Same CMV | V23: =_xlfn.CONCAT("CMV ",G23, " (21.1.1) Value") -> CMV 50 (21.1.1) Value | W23: =IF(G23=H23,"Same CMV",_xlfn.CONCAT("Delta from CMV ",H23, " to CMV ", G23)) -> Same CMV | X23: =_xlfn.CONCAT("CMV ",H23, " (21.1.0) Value") -> CMV 50 (21.1.0) Value | Y23: =IF(H23=I23,"Same CMV",_xlfn.CONCAT("Delta from CMV ",I23, " to CMV ", H23)) -> Same CMV | Z23: =_xlfn.CONCAT("CMV ",I23, " (20.1.2) Value") -> CMV 50 (20.1.2) Value | AA23: =IF(I23=J23,"Same CMV",_xlfn.CONCAT("Delta from CMV ",J23, " to CMV ", I23)) -> Same CMV | AB23: =_xlfn.CONCAT("CMV ",J23, " (20.1.1) Value") -> CMV 50 (20.1.1) Value | AC23: =IF(J23=K23,"Same CMV",_xlfn.CONCAT("Delta from CMV ",K23, " to CMV ", J23)) -> Same CMV | AD23: =_xlfn.CONCAT("CMV ",K23, " (20.1.0) Value") -> CMV 50 (20.1.0) Value
A24: 23 | B24: Roto & Blow Molding | C24: 150 | D24: 140 | E24: 130 | F24: 120 | G24: 120 | H24: 120 | I24: 110 | J24: 110 | K24: 100 | M24: =M23 -> Total Deltas | N24: =_xlfn.CONCAT("CMV ",C24, " (23.1.0) Value") -> CMV 150 (23.1.0) Value | O24: =IF(C24=D24,"Same CMV",_xlfn.CONCAT("Delta from CMV ",D24, " to CMV ", C24)) -> Delta from CMV 140 to CMV 150 | P24: =_xlfn.CONCAT("CMV ",D24, " (22.1.1) Value") -> CMV 140 (22.1.1) Value | Q24: =IF(D24=E24,"Same CMV",_xlfn.CONCAT("Delta from CMV ",E24, " to CMV ", D24)) -> Delta from CMV 130 to CMV 140 | R24: =_xlfn.CONCAT("CMV ",E24, " (22.1.0) Value") -> CMV 130 (22.1.0) Value | S24: =IF(E24=F24,"Same CMV",_xlfn.CONCAT("Delta from CMV ",F24, " to CMV ", E24)) -> Delta from CMV 120 to CMV 130 | T24: =_xlfn.CONCAT("CMV ",F24, " (21.1.2) Value") -> CMV 120 (21.1.2) Value | U24: =IF(F24=G24,"Same CMV",_xlfn.CONCAT("Delta from CMV ",G24, " to CMV ", F24)) -> Same CMV | V24: =_xlfn.CONCAT("CMV ",G24, " (21.1.1) Value") -> CMV 120 (21.1.1) Value | W24: =IF(G24=H24,"Same CMV",_xlfn.CONCAT("Delta from CMV ",H24, " to CMV ", G24)) -> Same CMV | X24: =_xlfn.CONCAT("CMV ",H24, " (21.1.0) Value") -> CMV 120 (21.1.0) Value | Y24: =IF(H24=I24,"Same CMV",_xlfn.CONCAT("Delta from CMV ",I24, " to CMV ", H24)) -> Delta from CMV 110 to CMV 120 | Z24: =_xlfn.CONCAT("CMV ",I24, " (20.1.2) Value") -> CMV 110 (20.1.2) Value | AA24: =IF(I24=J24,"Same CMV",_xlfn.CONCAT("Delta from CMV ",J24, " to CMV ", I24)) -> Same CMV | AB24: =_xlfn.CONCAT("CMV ",J24, " (20.1.1) Value") -> CMV 110 (20.1.1) Value | AC24: =IF(J24=K24,"Same CMV",_xlfn.CONCAT("Delta from CMV ",K24, " to CMV ", J24)) -> Delta from CMV 100 to CMV 110 | AD24: =_xlfn.CONCAT("CMV ",K24, " (20.1.0) Value") -> CMV 100 (20.1.0) Value
A25: 24 | B25: Sheet Metal | C25: 250 | D25: 240 | E25: 230 | F25: 220 | G25: 220 | H25: 210 | I25: 200 | J25: 200 | K25: 190 | M25: =M24 -> Total Deltas | N25: =_xlfn.CONCAT("CMV ",C25, " (23.1.0) Value") -> CMV 250 (23.1.0) Value | O25: =IF(C25=D25,"Same CMV",_xlfn.CONCAT("Delta from CMV ",D25, " to CMV ", C25)) -> Delta from CMV 240 to CMV 250 | P25: =_xlfn.CONCAT("CMV ",D25, " (22.1.1) Value") -> CMV 240 (22.1.1) Value | Q25: =IF(D25=E25,"Same CMV",_xlfn.CONCAT("Delta from CMV ",E25, " to CMV ", D25)) -> Delta from CMV 230 to CMV 240 | R25: =_xlfn.CONCAT("CMV ",E25, " (22.1.0) Value") -> CMV 230 (22.1.0) Value | S25: =IF(E25=F25,"Same CMV",_xlfn.CONCAT("Delta from CMV ",F25, " to CMV ", E25)) -> Delta from CMV 220 to CMV 230 | T25: =_xlfn.CONCAT("CMV ",F25, " (21.1.2) Value") -> CMV 220 (21.1.2) Value | U25: =IF(F25=G25,"Same CMV",_xlfn.CONCAT("Delta from CMV ",G25, " to CMV ", F25)) -> Same CMV | V25: =_xlfn.CONCAT("CMV ",G25, " (21.1.1) Value") -> CMV 220 (21.1.1) Value | W25: =IF(G25=H25,"Same CMV",_xlfn.CONCAT("Delta from CMV ",H25, " to CMV ", G25)) -> Delta from CMV 210 to CMV 220 | X25: =_xlfn.CONCAT("CMV ",H25, " (21.1.0) Value") -> CMV 210 (21.1.0) Value | Y25: =IF(H25=I25,"Same CMV",_xlfn.CONCAT("Delta from CMV ",I25, " to CMV ", H25)) -> Delta from CMV 200 to CMV 210 | Z25: =_xlfn.CONCAT("CMV ",I25, " (20.1.2) Value") -> CMV 200 (20.1.2) Value | AA25: =IF(I25=J25,"Same CMV",_xlfn.CONCAT("Delta from CMV ",J25, " to CMV ", I25)) -> Same CMV | AB25: =_xlfn.CONCAT("CMV ",J25, " (20.1.1) Value") -> CMV 200 (20.1.1) Value | AC25: =IF(J25=K25,"Same CMV",_xlfn.CONCAT("Delta from CMV ",K25, " to CMV ", J25)) -> Delta from CMV 190 to CMV 200 | AD25: =_xlfn.CONCAT("CMV ",K25, " (20.1.0) Value") -> CMV 190 (20.1.0) Value
A26: 25 | B26: Sheet Metal - Hydroforming | C26: 100 | D26: 90 | E26: 80 | F26: 70 | G26: 71 | H26: 60 | I26: 50 | J26: 50 | K26: 40 | M26: =M25 -> Total Deltas | N26: =_xlfn.CONCAT("CMV ",C26, " (23.1.0) Value") -> CMV 100 (23.1.0) Value | O26: =IF(C26=D26,"Same CMV",_xlfn.CONCAT("Delta from CMV ",D26, " to CMV ", C26)) -> Delta from CMV 90 to CMV 100 | P26: =_xlfn.CONCAT("CMV ",D26, " (22.1.1) Value") -> CMV 90 (22.1.1) Value | Q26: =IF(D26=E26,"Same CMV",_xlfn.CONCAT("Delta from CMV ",E26, " to CMV ", D26)) -> Delta from CMV 80 to CMV 90 | R26: =_xlfn.CONCAT("CMV ",E26, " (22.1.0) Value") -> CMV 80 (22.1.0) Value | S26: =IF(E26=F26,"Same CMV",_xlfn.CONCAT("Delta from CMV ",F26, " to CMV ", E26)) -> Delta from CMV 70 to CMV 80 | T26: =_xlfn.CONCAT("CMV ",F26, " (21.1.2) Value") -> CMV 70 (21.1.2) Value | U26: =IF(F26=G26,"Same CMV",_xlfn.CONCAT("Delta from CMV ",G26, " to CMV ", F26)) -> Delta from CMV 71 to CMV 70 | V26: =_xlfn.CONCAT("CMV ",G26, " (21.1.1) Value") -> CMV 71 (21.1.1) Value | W26: =IF(G26=H26,"Same CMV",_xlfn.CONCAT("Delta from CMV ",H26, " to CMV ", G26)) -> Delta from CMV 60 to CMV 71 | X26: =_xlfn.CONCAT("CMV ",H26, " (21.1.0) Value") -> CMV 60 (21.1.0) Value | Y26: =IF(H26=I26,"Same CMV",_xlfn.CONCAT("Delta from CMV ",I26, " to CMV ", H26)) -> Delta from CMV 50 to CMV 60 | Z26: =_xlfn.CONCAT("CMV ",I26, " (20.1.2) Value") -> CMV 50 (20.1.2) Value | AA26: =IF(I26=J26,"Same CMV",_xlfn.CONCAT("Delta from CMV ",J26, " to CMV ", I26)) -> Same CMV | AB26: =_xlfn.CONCAT("CMV ",J26, " (20.1.1) Value") -> CMV 50 (20.1.1) Value | AC26: =IF(J26=K26,"Same CMV",_xlfn.CONCAT("Delta from CMV ",K26, " to CMV ", J26)) -> Delta from CMV 40 to CMV 50 | AD26: =_xlfn.CONCAT("CMV ",K26, " (20.1.0) Value") -> CMV 40 (20.1.0) Value
A27: 26 | B27: Sheet Metal - Roll Forming | C27: 20 | D27: 10 | E27: 0 | F27: NA | G27: NA | H27: NA | I27: NA | J27: NA | K27: NA | M27: =M26 -> Total Deltas | N27: =_xlfn.CONCAT("CMV ",C27, " (23.1.0) Value") -> CMV 20 (23.1.0) Value | O27: =IF(C27=D27,"Same CMV",_xlfn.CONCAT("Delta from CMV ",D27, " to CMV ", C27)) -> Delta from CMV 10 to CMV 20 | P27: =_xlfn.CONCAT("CMV ",D27, " (22.1.1) Value") -> CMV 10 (22.1.1) Value | Q27: =IF(D27=E27,"Same CMV",_xlfn.CONCAT("Delta from CMV ",E27, " to CMV ", D27)) -> Delta from CMV 0 to CMV 10 | R27: =_xlfn.CONCAT("CMV ",E27, " (22.1.0) Value") -> CMV 0 (22.1.0) Value | S27: =IF(E27=F27,"Same CMV",_xlfn.CONCAT("Delta from CMV ",F27, " to CMV ", E27)) -> Delta from CMV NA to CMV 0 | T27: =_xlfn.CONCAT("CMV ",F27, " (21.1.2) Value") -> CMV NA (21.1.2) Value | U27: =IF(F27=G27,"Same CMV",_xlfn.CONCAT("Delta from CMV ",G27, " to CMV ", F27)) -> Same CMV | V27: =_xlfn.CONCAT("CMV ",G27, " (21.1.1) Value") -> CMV NA (21.1.1) Value | W27: =IF(G27=H27,"Same CMV",_xlfn.CONCAT("Delta from CMV ",H27, " to CMV ", G27)) -> Same CMV | X27: =_xlfn.CONCAT("CMV ",H27, " (21.1.0) Value") -> CMV NA (21.1.0) Value | Y27: =IF(H27=I27,"Same CMV",_xlfn.CONCAT("Delta from CMV ",I27, " to CMV ", H27)) -> Same CMV | Z27: =_xlfn.CONCAT("CMV ",I27, " (20.1.2) Value") -> CMV NA (20.1.2) Value | AA27: =IF(I27=J27,"Same CMV",_xlfn.CONCAT("Delta from CMV ",J27, " to CMV ", I27)) -> Same CMV | AB27: =_xlfn.CONCAT("CMV ",J27, " (20.1.1) Value") -> CMV NA (20.1.1) Value | AC27: =IF(J27=K27,"Same CMV",_xlfn.CONCAT("Delta from CMV ",K27, " to CMV ", J27)) -> Same CMV | AD27: =_xlfn.CONCAT("CMV ",K27, " (20.1.0) Value") -> CMV NA (20.1.0) Value
A28: 27 | B28: Sheet Metal - Stretch Forming | C28: 90 | D28: 90 | E28: 80 | F28: 70 | G28: 70 | H28: 70 | I28: 60 | J28: 60 | K28: 50 | M28: =M27 -> Total Deltas | N28: =_xlfn.CONCAT("CMV ",C28, " (23.1.0) Value") -> CMV 90 (23.1.0) Value | O28: =IF(C28=D28,"Same CMV",_xlfn.CONCAT("Delta from CMV ",D28, " to CMV ", C28)) -> Same CMV | P28: =_xlfn.CONCAT("CMV ",D28, " (22.1.1) Value") -> CMV 90 (22.1.1) Value | Q28: =IF(D28=E28,"Same CMV",_xlfn.CONCAT("Delta from CMV ",E28, " to CMV ", D28)) -> Delta from CMV 80 to CMV 90 | R28: =_xlfn.CONCAT("CMV ",E28, " (22.1.0) Value") -> CMV 80 (22.1.0) Value | S28: =IF(E28=F28,"Same CMV",_xlfn.CONCAT("Delta from CMV ",F28, " to CMV ", E28)) -> Delta from CMV 70 to CMV 80 | T28: =_xlfn.CONCAT("CMV ",F28, " (21.1.2) Value") -> CMV 70 (21.1.2) Value | U28: =IF(F28=G28,"Same CMV",_xlfn.CONCAT("Delta from CMV ",G28, " to CMV ", F28)) -> Same CMV | V28: =_xlfn.CONCAT("CMV ",G28, " (21.1.1) Value") -> CMV 70 (21.1.1) Value | W28: =IF(G28=H28,"Same CMV",_xlfn.CONCAT("Delta from CMV ",H28, " to CMV ", G28)) -> Same CMV | X28: =_xlfn.CONCAT("CMV ",H28, " (21.1.0) Value") -> CMV 70 (21.1.0) Value | Y28: =IF(H28=I28,"Same CMV",_xlfn.CONCAT("Delta from CMV ",I28, " to CMV ", H28)) -> Delta from CMV 60 to CMV 70 | Z28: =_xlfn.CONCAT("CMV ",I28, " (20.1.2) Value") -> CMV 60 (20.1.2) Value | AA28: =IF(I28=J28,"Same CMV",_xlfn.CONCAT("Delta from CMV ",J28, " to CMV ", I28)) -> Same CMV | AB28: =_xlfn.CONCAT("CMV ",J28, " (20.1.1) Value") -> CMV 60 (20.1.1) Value | AC28: =IF(J28=K28,"Same CMV",_xlfn.CONCAT("Delta from CMV ",K28, " to CMV ", J28)) -> Delta from CMV 50 to CMV 60 | AD28: =_xlfn.CONCAT("CMV ",K28, " (20.1.0) Value") -> CMV 50 (20.1.0) Value
A29: 28 | B29: Sheet Metal - Transfer Die | C29: 140 | D29: 130 | E29: 120 | F29: 110 | G29: 110 | H29: 110 | I29: 100 | J29: 100 | K29: 90 | M29: =M28 -> Total Deltas | N29: =_xlfn.CONCAT("CMV ",C29, " (23.1.0) Value") -> CMV 140 (23.1.0) Value | O29: =IF(C29=D29,"Same CMV",_xlfn.CONCAT("Delta from CMV ",D29, " to CMV ", C29)) -> Delta from CMV 130 to CMV 140 | P29: =_xlfn.CONCAT("CMV ",D29, " (22.1.1) Value") -> CMV 130 (22.1.1) Value | Q29: =IF(D29=E29,"Same CMV",_xlfn.CONCAT("Delta from CMV ",E29, " to CMV ", D29)) -> Delta from CMV 120 to CMV 130 | R29: =_xlfn.CONCAT("CMV ",E29, " (22.1.0) Value") -> CMV 120 (22.1.0) Value | S29: =IF(E29=F29,"Same CMV",_xlfn.CONCAT("Delta from CMV ",F29, " to CMV ", E29)) -> Delta from CMV 110 to CMV 120 | T29: =_xlfn.CONCAT("CMV ",F29, " (21.1.2) Value") -> CMV 110 (21.1.2) Value | U29: =IF(F29=G29,"Same CMV",_xlfn.CONCAT("Delta from CMV ",G29, " to CMV ", F29)) -> Same CMV | V29: =_xlfn.CONCAT("CMV ",G29, " (21.1.1) Value") -> CMV 110 (21.1.1) Value | W29: =IF(G29=H29,"Same CMV",_xlfn.CONCAT("Delta from CMV ",H29, " to CMV ", G29)) -> Same CMV | X29: =_xlfn.CONCAT("CMV ",H29, " (21.1.0) Value") -> CMV 110 (21.1.0) Value | Y29: =IF(H29=I29,"Same CMV",_xlfn.CONCAT("Delta from CMV ",I29, " to CMV ", H29)) -> Delta from CMV 100 to CMV 110 | Z29: =_xlfn.CONCAT("CMV ",I29, " (20.1.2) Value") -> CMV 100 (20.1.2) Value | AA29: =IF(I29=J29,"Same CMV",_xlfn.CONCAT("Delta from CMV ",J29, " to CMV ", I29)) -> Same CMV | AB29: =_xlfn.CONCAT("CMV ",J29, " (20.1.1) Value") -> CMV 100 (20.1.1) Value | AC29: =IF(J29=K29,"Same CMV",_xlfn.CONCAT("Delta from CMV ",K29, " to CMV ", J29)) -> Delta from CMV 90 to CMV 100 | AD29: =_xlfn.CONCAT("CMV ",K29, " (20.1.0) Value") -> CMV 90 (20.1.0) Value
A30: 29 | B30: Sheet Plastic | C30: 130 | D30: 120 | E30: 110 | F30: 100 | G30: 100 | H30: 100 | I30: 90 | J30: 90 | K30: 90 | M30: =M29 -> Total Deltas | N30: =_xlfn.CONCAT("CMV ",C30, " (23.1.0) Value") -> CMV 130 (23.1.0) Value | O30: =IF(C30=D30,"Same CMV",_xlfn.CONCAT("Delta from CMV ",D30, " to CMV ", C30)) -> Delta from CMV 120 to CMV 130 | P30: =_xlfn.CONCAT("CMV ",D30, " (22.1.1) Value") -> CMV 120 (22.1.1) Value | Q30: =IF(D30=E30,"Same CMV",_xlfn.CONCAT("Delta from CMV ",E30, " to CMV ", D30)) -> Delta from CMV 110 to CMV 120 | R30: =_xlfn.CONCAT("CMV ",E30, " (22.1.0) Value") -> CMV 110 (22.1.0) Value | S30: =IF(E30=F30,"Same CMV",_xlfn.CONCAT("Delta from CMV ",F30, " to CMV ", E30)) -> Delta from CMV 100 to CMV 110 | T30: =_xlfn.CONCAT("CMV ",F30, " (21.1.2) Value") -> CMV 100 (21.1.2) Value | U30: =IF(F30=G30,"Same CMV",_xlfn.CONCAT("Delta from CMV ",G30, " to CMV ", F30)) -> Same CMV | V30: =_xlfn.CONCAT("CMV ",G30, " (21.1.1) Value") -> CMV 100 (21.1.1) Value | W30: =IF(G30=H30,"Same CMV",_xlfn.CONCAT("Delta from CMV ",H30, " to CMV ", G30)) -> Same CMV | X30: =_xlfn.CONCAT("CMV ",H30, " (21.1.0) Value") -> CMV 100 (21.1.0) Value | Y30: =IF(H30=I30,"Same CMV",_xlfn.CONCAT("Delta from CMV ",I30, " to CMV ", H30)) -> Delta from CMV 90 to CMV 100 | Z30: =_xlfn.CONCAT("CMV ",I30, " (20.1.2) Value") -> CMV 90 (20.1.2) Value | AA30: =IF(I30=J30,"Same CMV",_xlfn.CONCAT("Delta from CMV ",J30, " to CMV ", I30)) -> Same CMV | AB30: =_xlfn.CONCAT("CMV ",J30, " (20.1.1) Value") -> CMV 90 (20.1.1) Value | AC30: =IF(J30=K30,"Same CMV",_xlfn.CONCAT("Delta from CMV ",K30, " to CMV ", J30)) -> Same CMV | AD30: =_xlfn.CONCAT("CMV ",K30, " (20.1.0) Value") -> CMV 90 (20.1.0) Value
A31: 30 | B31: Stock Machining | C31: 170 | D31: 160 | E31: 150 | F31: 140 | G31: 140 | H31: 130 | I31: 120 | J31: 120 | K31: 110 | M31: =M30 -> Total Deltas | N31: =_xlfn.CONCAT("CMV ",C31, " (23.1.0) Value") -> CMV 170 (23.1.0) Value | O31: =IF(C31=D31,"Same CMV",_xlfn.CONCAT("Delta from CMV ",D31, " to CMV ", C31)) -> Delta from CMV 160 to CMV 170 | P31: =_xlfn.CONCAT("CMV ",D31, " (22.1.1) Value") -> CMV 160 (22.1.1) Value | Q31: =IF(D31=E31,"Same CMV",_xlfn.CONCAT("Delta from CMV ",E31, " to CMV ", D31)) -> Delta from CMV 150 to CMV 160 | R31: =_xlfn.CONCAT("CMV ",E31, " (22.1.0) Value") -> CMV 150 (22.1.0) Value | S31: =IF(E31=F31,"Same CMV",_xlfn.CONCAT("Delta from CMV ",F31, " to CMV ", E31)) -> Delta from CMV 140 to CMV 150 | T31: =_xlfn.CONCAT("CMV ",F31, " (21.1.2) Value") -> CMV 140 (21.1.2) Value | U31: =IF(F31=G31,"Same CMV",_xlfn.CONCAT("Delta from CMV ",G31, " to CMV ", F31)) -> Same CMV | V31: =_xlfn.CONCAT("CMV ",G31, " (21.1.1) Value") -> CMV 140 (21.1.1) Value | W31: =IF(G31=H31,"Same CMV",_xlfn.CONCAT("Delta from CMV ",H31, " to CMV ", G31)) -> Delta from CMV 130 to CMV 140 | X31: =_xlfn.CONCAT("CMV ",H31, " (21.1.0) Value") -> CMV 130 (21.1.0) Value | Y31: =IF(H31=I31,"Same CMV",_xlfn.CONCAT("Delta from CMV ",I31, " to CMV ", H31)) -> Delta from CMV 120 to CMV 130 | Z31: =_xlfn.CONCAT("CMV ",I31, " (20.1.2) Value") -> CMV 120 (20.1.2) Value | AA31: =IF(I31=J31,"Same CMV",_xlfn.CONCAT("Delta from CMV ",J31, " to CMV ", I31)) -> Same CMV | AB31: =_xlfn.CONCAT("CMV ",J31, " (20.1.1) Value") -> CMV 120 (20.1.1) Value | AC31: =IF(J31=K31,"Same CMV",_xlfn.CONCAT("Delta from CMV ",K31, " to CMV ", J31)) -> Delta from CMV 110 to CMV 120 | AD31: =_xlfn.CONCAT("CMV ",K31, " (20.1.0) Value") -> CMV 110 (20.1.0) Value
A32: 31 | B32: Surface Treatment | C32: 210 | D32: 200 | E32: 190 | F32: 180 | G32: 180 | H32: 170 | I32: 160 | J32: 160 | K32: 150 | M32: =M31 -> Total Deltas | N32: =_xlfn.CONCAT("CMV ",C32, " (23.1.0) Value") -> CMV 210 (23.1.0) Value | O32: =IF(C32=D32,"Same CMV",_xlfn.CONCAT("Delta from CMV ",D32, " to CMV ", C32)) -> Delta from CMV 200 to CMV 210 | P32: =_xlfn.CONCAT("CMV ",D32, " (22.1.1) Value") -> CMV 200 (22.1.1) Value | Q32: =IF(D32=E32,"Same CMV",_xlfn.CONCAT("Delta from CMV ",E32, " to CMV ", D32)) -> Delta from CMV 190 to CMV 200 | R32: =_xlfn.CONCAT("CMV ",E32, " (22.1.0) Value") -> CMV 190 (22.1.0) Value | S32: =IF(E32=F32,"Same CMV",_xlfn.CONCAT("Delta from CMV ",F32, " to CMV ", E32)) -> Delta from CMV 180 to CMV 190 | T32: =_xlfn.CONCAT("CMV ",F32, " (21.1.2) Value") -> CMV 180 (21.1.2) Value | U32: =IF(F32=G32,"Same CMV",_xlfn.CONCAT("Delta from CMV ",G32, " to CMV ", F32)) -> Same CMV | V32: =_xlfn.CONCAT("CMV ",G32, " (21.1.1) Value") -> CMV 180 (21.1.1) Value | W32: =IF(G32=H32,"Same CMV",_xlfn.CONCAT("Delta from CMV ",H32, " to CMV ", G32)) -> Delta from CMV 170 to CMV 180 | X32: =_xlfn.CONCAT("CMV ",H32, " (21.1.0) Value") -> CMV 170 (21.1.0) Value | Y32: =IF(H32=I32,"Same CMV",_xlfn.CONCAT("Delta from CMV ",I32, " to CMV ", H32)) -> Delta from CMV 160 to CMV 170 | Z32: =_xlfn.CONCAT("CMV ",I32, " (20.1.2) Value") -> CMV 160 (20.1.2) Value | AA32: =IF(I32=J32,"Same CMV",_xlfn.CONCAT("Delta from CMV ",J32, " to CMV ", I32)) -> Same CMV | AB32: =_xlfn.CONCAT("CMV ",J32, " (20.1.1) Value") -> CMV 160 (20.1.1) Value | AC32: =IF(J32=K32,"Same CMV",_xlfn.CONCAT("Delta from CMV ",K32, " to CMV ", J32)) -> Delta from CMV 150 to CMV 160 | AD32: =_xlfn.CONCAT("CMV ",K32, " (20.1.0) Value") -> CMV 150 (20.1.0) Value
A33: 32 | B33: User Guided | C33: 60 | D33: 60 | E33: 50 | F33: 40 | G33: 40 | H33: 40 | I33: 30 | J33: 30 | K33: 30 | M33: =M32 -> Total Deltas | N33: =_xlfn.CONCAT("CMV ",C33, " (23.1.0) Value") -> CMV 60 (23.1.0) Value | O33: =IF(C33=D33,"Same CMV",_xlfn.CONCAT("Delta from CMV ",D33, " to CMV ", C33)) -> Same CMV | P33: =_xlfn.CONCAT("CMV ",D33, " (22.1.1) Value") -> CMV 60 (22.1.1) Value | Q33: =IF(D33=E33,"Same CMV",_xlfn.CONCAT("Delta from CMV ",E33, " to CMV ", D33)) -> Delta from CMV 50 to CMV 60 | R33: =_xlfn.CONCAT("CMV ",E33, " (22.1.0) Value") -> CMV 50 (22.1.0) Value | S33: =IF(E33=F33,"Same CMV",_xlfn.CONCAT("Delta from CMV ",F33, " to CMV ", E33)) -> Delta from CMV 40 to CMV 50 | T33: =_xlfn.CONCAT("CMV ",F33, " (21.1.2) Value") -> CMV 40 (21.1.2) Value | U33: =IF(F33=G33,"Same CMV",_xlfn.CONCAT("Delta from CMV ",G33, " to CMV ", F33)) -> Same CMV | V33: =_xlfn.CONCAT("CMV ",G33, " (21.1.1) Value") -> CMV 40 (21.1.1) Value | W33: =IF(G33=H33,"Same CMV",_xlfn.CONCAT("Delta from CMV ",H33, " to CMV ", G33)) -> Same CMV | X33: =_xlfn.CONCAT("CMV ",H33, " (21.1.0) Value") -> CMV 40 (21.1.0) Value | Y33: =IF(H33=I33,"Same CMV",_xlfn.CONCAT("Delta from CMV ",I33, " to CMV ", H33)) -> Delta from CMV 30 to CMV 40 | Z33: =_xlfn.CONCAT("CMV ",I33, " (20.1.2) Value") -> CMV 30 (20.1.2) Value | AA33: =IF(I33=J33,"Same CMV",_xlfn.CONCAT("Delta from CMV ",J33, " to CMV ", I33)) -> Same CMV | AB33: =_xlfn.CONCAT("CMV ",J33, " (20.1.1) Value") -> CMV 30 (20.1.1) Value | AC33: =IF(J33=K33,"Same CMV",_xlfn.CONCAT("Delta from CMV ",K33, " to CMV ", J33)) -> Same CMV | AD33: =_xlfn.CONCAT("CMV ",K33, " (20.1.0) Value") -> CMV 30 (20.1.0) Value
B34: New PG | C34: 9 | D34: 8 | E34: 7 | F34: 6 | G34: 5 | H34: 4 | I34: 3 | J34: 2 | K34: 1 | M34: =M33 -> Total Deltas | N34: =_xlfn.CONCAT("CMV ",C34, " (23.1.0) Value") -> CMV 9 (23.1.0) Value | O34: =IF(C34=D34,"Same CMV",_xlfn.CONCAT("Delta from CMV ",D34, " to CMV ", C34)) -> Delta from CMV 8 to CMV 9 | P34: =_xlfn.CONCAT("CMV ",D34, " (22.1.1) Value") -> CMV 8 (22.1.1) Value | Q34: =IF(D34=E34,"Same CMV",_xlfn.CONCAT("Delta from CMV ",E34, " to CMV ", D34)) -> Delta from CMV 7 to CMV 8 | R34: =_xlfn.CONCAT("CMV ",E34, " (22.1.0) Value") -> CMV 7 (22.1.0) Value | S34: =IF(E34=F34,"Same CMV",_xlfn.CONCAT("Delta from CMV ",F34, " to CMV ", E34)) -> Delta from CMV 6 to CMV 7 | T34: =_xlfn.CONCAT("CMV ",F34, " (21.1.2) Value") -> CMV 6 (21.1.2) Value | U34: =IF(F34=G34,"Same CMV",_xlfn.CONCAT("Delta from CMV ",G34, " to CMV ", F34)) -> Delta from CMV 5 to CMV 6 | V34: =_xlfn.CONCAT("CMV ",G34, " (21.1.1) Value") -> CMV 5 (21.1.1) Value | W34: =IF(G34=H34,"Same CMV",_xlfn.CONCAT("Delta from CMV ",H34, " to CMV ", G34)) -> Delta from CMV 4 to CMV 5 | X34: =_xlfn.CONCAT("CMV ",H34, " (21.1.0) Value") -> CMV 4 (21.1.0) Value | Y34: =IF(H34=I34,"Same CMV",_xlfn.CONCAT("Delta from CMV ",I34, " to CMV ", H34)) -> Delta from CMV 3 to CMV 4 | Z34: =_xlfn.CONCAT("CMV ",I34, " (20.1.2) Value") -> CMV 3 (20.1.2) Value | AA34: =IF(I34=J34,"Same CMV",_xlfn.CONCAT("Delta from CMV ",J34, " to CMV ", I34)) -> Delta from CMV 2 to CMV 3 | AB34: =_xlfn.CONCAT("CMV ",J34, " (20.1.1) Value") -> CMV 2 (20.1.1) Value | AC34: =IF(J34=K34,"Same CMV",_xlfn.CONCAT("Delta from CMV ",K34, " to CMV ", J34)) -> Delta from CMV 1 to CMV 2 | AD34: =_xlfn.CONCAT("CMV ",K34, " (20.1.0) Value") -> CMV 1 (20.1.0) Value

Sheet README
A1: aPriori Release 23.1.1 Site Variable Settings for Minimal Cost Impact with Prior Cost Models
A3: This spreadsheet tells you how to configure geometry extraction when you upgrade to Release 23.1.1 but use a cost model version that was introduced in a prior release.
A5: The spreadsheet assumes that you want to minimize the cost impact of your upgrade.
A6: That is, it assumes that you want, as far as possible, to get the same results when you re-cost previously-costed scnearios, and
A7: you want extraction behavior to resemble, as far as posslbe, the pre-upgrade extraction behavior.
A9: A separate spreadsheet file, site-variables-best-results-23.1.1.xlsx, tells you how to configure geometry extraction assuming that you want to take advantage of all the latest geometry improvements that are compatible with your cost model version.
A11: To configure geometry extraction for a given process group, follow these steps:
A13: 1. Click the tab corresponding to the process group you want to configure. The tab contains a table that lists the process group's site variables.
A15: 2. Find the column corresponding to the cost model version you are using.
A17: 3. For each site variable, find the value listed in the column for your cost model version. This value minimizes impact compared to the release in which the cost model was introduced.
A18: If the value is highlighted in red, you must set the site variable to the highlighted value. This value is required for compatibility with your cost model's logic.
A19: Site variables highlighted in orange either have changed in value in the latest release or have been introduced in the latest release.
... A22: Hidden columns detail the nature of the changes between pairs of adjacent cost model versions, indicating where site variables were added, removed, or changed in value.

Sheet 2-Model Machining
B2: aPriori Release 23.1.1 Site Variable Settings for Minimal Cost Impact with Prior Cost Models
A4: ID | B4: Site Variable | C4: CMV 100 (23.1.x) | D4: Delta from CMV 90 to CMV 100 | E4: CMV 90 (22.1.1) | F4: Delta from CMV 80 to CMV 90 | G4: CMV 80 (22.1.0) | H4: Delta from CMV 70 to CMV 80 | I4: CMV 70 (21.1.x) | J4: Delta from CMV 60 to CMV 70 | K4: CMV 60 (20.1.x) | L4: Comments | M4: 23.1.1 Notes
A5: 1 | B5: createRingedHole | D5: - | F5: - | H5: - | J5: Removed | L5: Depracated.
A6: 2 | B6: maxDraftAngle | C6: 0 | D6: - | E6: 0 | F6: - | G6: 0 | H6: - | I6: 0 | J6: - | K6: 0 | M6: Maximum angle between a surface and a setup axis to be machinable from that axis (degrees)
A7: 3 | B7: maxIsAboutForPlaneObstructionPercent | C7: 10 | D7: - | E7: 10 | F7: - | G7: 10 | H7: - | I7: 10 | J7: New Value | K7: 5 | M7: Don't create isAbout relations if more than X% of the plane cannot be turned
A8: 4 | B8: maxNumTurningAxes | C8: 1 | D8: - | E8: 1 | F8: - | G8: 1 | H8: - | I8: 1 | J8: - | K8: 1
A9: 5 | B9: maxTurnedHoleDiameter | C9: 12.7 | D9: - | E9: 12.7 | F9: - | G9: 12.7 | H9: - | I9: 12.7 | J9: - | K9: 12.7
A10: 6 | B10: maxTurningAxisEccentricity | C10: 0.05 | D10: - | E10: 0.05 | F10: - | G10: 0.05 | H10: - | I10: 0.05 | J10: - | K10: 0.05 | M10: Controls the how far and skewed a turning axis can be from ideal. Valid values are positive.
A11: 7 | B11: minCADTolerance | C11: 0.254 | D11: - | E11: 0.254 | F11: - | G11: 0.254 | H11: - | I11: 0.254 | J11: - | K11: 0.254
A12: 8 | B12: minTurnAxisAreaRatio | C12: 0 | D12: - | E12: 0 | F12: Added | G12: 0 | H12: - | I12: 0 | J12: - | K12: 0 | M12: Ratio used to filter turning axis candidates being evaluated during GCD extraction. Comparing the surface area of the part on the turning axis profile to the total surface area of the part.
A13: 9 | B13: pocketExtractionEnabled | C13: TRUE | D13: - | E13: TRUE | F13: - | G13: TRUE | H13: Added | I13: FALSE | J13: - | K13: FALSE | L13: Values highlighted in red are required for cost model compatibility.
A14: 10 | B14: roughnessDefault | C14: 3.2 | D14: - | E14: 3.2 | F14: - | G14: 3.2 | H14: - | I14: 3.2 | J14: - | K14: 3.2
A15: 11 | B15: slotExtractionEnabled | C15: TRUE | D15: - | E15: TRUE | F15: - | G15: TRUE | H15: Added | I15: FALSE | J15: - | K15: FALSE | L15: Values highlighted in red are required for cost model compatibility.
A16: 12 | B16: toleranceDefault | C16: 7 | D16: - | E16: 7 | F16: - | G16: 7 | H16: - | I16: 7 | J16: - | K16: 7
B18: See the README tab for more information.

Sheet Additive Manufacturing
B2: aPriori Release 23.1.1 Site Variable Settings for Minimal Cost Impact with Prior Cost Models
A4: ID | B4: Site Variable | C4: CMV 140 (23.1.1) | D4: Delta from CMV 130 to CMV 140 | E4: CMV 130 (23.1.0) | F4: Delta from CMV 120 to CMV 130 | G4: CMV 120 (22.1.1) | H4: Delta from CMV 110 to CMV 120 | I4: CMV 110 (22.1.0) | J4: Delta from CMV 100 to CMV 110 | K4: CMV 100 (21.1.2, 21.1.1) | L4: Delta from CMV 90 to CMV 100 | M4: CMV 90 (21.1.0) | N4: Delta from CMV 80 to CMV 90 | O4: CMV 80 (20.1.2, 20.1.1) | P4: Delta from CMV 70 to CMV 80 | Q4: CMV 70 (20.1.0) | R4: Comments | S4: 23.1.1 Notes
A5: 1 | B5: buildPlateOffset | C5: 10 | D5: - | E5: 10 | F5: New Note | G5: 10 | H5: - | I5: 10 | J5: - | K5: 10 | L5: - | M5: 10 | N5: - | O5: 10 | P5: - | Q5: 10 | S5: A distance between a part and the plate that the part is built on.
A6: 2 | B6: castThicknessAlgorithm | C6: Voxel-Based | D6: - | E6: Voxel-Based | F6: New Value | G6: Legacy Voxel-Based | H6: - | I6: Legacy Voxel-Based | J6: Added | K6: Legacy Voxel-Based | L6: - | M6: Legacy Voxel-Based | N6: - | O6: Legacy Voxel-Based | P6: - | Q6: Legacy Voxel-Based | S6: Possible values 'Voxel-Based' (introduced in aP 2021 R2) or 'Legacy Voxel-Based' (earlier algorithm).
A7: 3 | B7: defaultSupportWidth | C7: 1 | D7: - | E7: 1 | F7: New Note | G7: 1 | H7: - | I7: 1 | J7: - | K7: 1 | L7: - | M7: 1 | N7: - | O7: 1 | P7: - | Q7: 1 | S7: The minimal width of the support structure.
A8: 4 | B8: drawDirAccessibleSheetFactor | C8: 0 | D8: - | E8: 0 | F8: New Note | G8: 0 | H8: - | I8: 0 | J8: - | K8: 0 | L8: - | M8: 0 | N8: - | O8: 0 | P8: - | Q8: 0 | S8: The weight coefficient for the ratio of sheet area accessible from the draw direction candidate to total area of this sheet.
A9: 5 | B9: drawDirAnalyzeRibs | C9: FALSE | D9: - | E9: FALSE | F9: New Note | G9: FALSE | H9: - | I9: FALSE | J9: - | K9: FALSE | L9: - | M9: FALSE | N9: - | O9: FALSE | P9: - | Q9: FALSE | S9: If true, ribs are analyzed during draw direction computation.
A10: 6 | B10: drawDirAxisShareFactor | C10: 0.03 | D10: - | E10: 0.03 | F10: New Note | G10: 0.03 | H10: - | I10: 0.03 | J10: - | K10: 0.03 | L10: - | M10: 0.03 | N10: - | O10: 0.03 | P10: - | Q10: 0.03 | S10: The weight coefficient for the ratio between number of holes aligned with the draw direction candidate and total number of holes.
A11: 7 | B11: drawDirBoxHeightFactor | C11: 0.1 | D11: - | E11: 0.1 | F11: New Note | G11: 0.1 | H11: - | I11: 0.1 | J11: - | K11: 0.1 | L11: - | M11: 0.1 | N11: - | O11: 0.1 | P11: - | Q11: 0.1 | S11: The weight coefficient for draw direction computation based on dimensions of part bounding box aligned with the draw direction candidate.
A12: 8 | B12: drawDirFlatPartingLineWeight | C12: 0.2 | D12: - | E12: 0.2 | F12: New Note | G12: 0.2 | H12: - | I12: 0.2 | J12: - | K12: 0.2 | L12: - | M12: 0.2 | N12: - | O12: 0.2 | P12: - | Q12: 0.2 | S12: Parting line flatness rating weight if parting line height for the draw direction candidate is negligible.
A13: 9 | B13: drawDirGrillFactor | C13: 1 | D13: - | E13: 1 | F13: New Note | G13: 1 | H13: - | I13: 1 | J13: - | K13: 1 | L13: - | M13: 1 | N13: - | O13: 1 | P13: - | Q13: 1 | S13: The weight coefficient for draw direction computation based on number of honeycomb cells aligned with the draw direction candidate in relation with the number of all honeycomb cells.
A14: 10 | B14: drawDirIgnoreSimilarVoidVolume | C14: FALSE | D14: - | E14: FALSE | F14: New Note | G14: FALSE | H14: - | I14: FALSE | J14: - | K14: FALSE | L14: - | M14: FALSE | N14: - | O14: FALSE | P14: - | Q14: FALSE | S14: If true, number of misaligned undercuts impacts on draw direction computation.
A15: 11 | B15: drawDirMaxFlatPartingLineToBoxHeightRatio | C15: 0.1 | D15: - | E15: 0.1 | F15: New Note | G15: 0.1 | H15: - | I15: 0.1 | J15: - | K15: 0.1 | L15: - | M15: 0.1 | N15: - | O15: 0.1 | P15: - | Q15: 0.1 | S15: If this value is greater than the ratio of the parting line height to the total part height along the draw direction candidate, then the parting line height is considered negligible.
A16: 12 | B16: drawDirMaxNegligibleUndercutToPartVolumeRatio | C16: 1e-06 | D16: - | E16: 1e-06 | F16: New Note | G16: 1e-06 | H16: - | I16: 1e-06 | J16: - | K16: 1e-06 | L16: - | M16: 1e-06 | N16: - | O16: 1e-06 | P16: - | Q16: 1e-06 | S16: If this value is greater than the ratio of the undercut volume for the draw direction candidate to the total part volume, then the undercut volume is considered negligible.
A17: 13 | B17: drawDirMaxRayDirs | C17: 20 | D17: - | E17: 20 | F17: New Note | G17: 20 | H17: - | I17: 20 | J17: - | K17: 20 | L17: - | M17: 20 | N17: - | O17: 20 | P17: - | Q17: 20 | S17: Maximum number of axes considered as draw direction candidate.
A18: 14 | B18: drawDirMaxRays | C18: 90000 | D18: - | E18: 90000 | F18: New Note | G18: 90000 | H18: - | I18: 90000 | J18: - | K18: 90000 | L18: - | M18: 90000 | N18: - | O18: 90000 | P18: - | Q18: 90000 | S18: Number of detector rays used for each draw direction candidate (controlled by drawDirMaxRayDirs) to compute undercuts.
A19: 15 | B19: drawDirNoUndercutWeight | C19: 1 | D19: - | E19: 1 | F19: New Note | G19: 1 | H19: - | I19: 1 | J19: - | K19: 1 | L19: - | M19: 1 | N19: - | O19: 1 | P19: - | Q19: 1 | S19: Undercut rating weight if the undercut volume for the draw direction candidate is negligible.
A20: 16 | B20: drawDirPartingLineFlatnessFactor | C20: 0.1 | D20: - | E20: 0.1 | F20: New Note | G20: 0.1 | H20: - | I20: 0.1 | J20: - | K20: 0.1 | L20: - | M20: 0.1 | N20: - | O20: 0.1 | P20: - | Q20: 0.1 | S20: The weight coefficient for the ratio of the projection length of the non-negligible parting line to its length.
A21: 17 | B21: drawDirPinHoleFactor | C21: 0.25 | D21: - | E21: 0.25 | F21: New Note | G21: 0.25 | H21: - | I21: 1 | J21: - | K21: 1 | L21: - | M21: 1 | N21: - | O21: 1 | P21: - | Q21: 1 | S21: The weight coefficient for the draw direction computation based on number of pin holes.
A22: 18 | B22: drawDirRibFactor | C22: 0 | D22: - | E22: 0 | F22: New Note | G22: 0 | H22: - | I22: 0 | J22: - | K22: 0 | L22: - | M22: 0 | N22: - | O22: 0 | P22: - | Q22: 0 | S22: The weight coefficient for the ratio between the area of parallel to the draw direction candidate ribs and total area of all potential ribs.
A23: 19 | B23: drawDirUndercutPresenceFactor | C23: 1 | D23: - | E23: 1 | F23: New Note | G23: 1 | H23: - | I23: 1 | J23: - | K23: 1 | L23: - | M23: 1 | N23: - | O23: 1 | P23: - | Q23: 1 | S23: The weight coefficient for the undercut rating based on non-negligible undercut volume in relation to the total part volume.
A24: 20 | B24: drawDirVoidAlignmentFactor | C24: 0 | D24: - | E24: 0 | F24: New Note | G24: 0 | H24: - | I24: 0 | J24: - | K24: 0 | L24: - | M24: 0 | N24: - | O24: 0 | P24: - | Q24: 0 | S24: The weight coefficient for the ratio of number of aligned with the draw direction candidate undercuts to total number of undercuts.
A25: 21 | B25: greenSandLargeHoleAspect | D25: - | F25: Removed | H25: - | J25: - | L25: - | N25: - | P25: - | R25: Deprecated.
A26: 22 | B26: greenSandLargeVoidAspect | D26: - | F26: Removed | H26: - | J26: - | L26: - | N26: - | P26: - | R26: Deprecated.
A27: 23 | B27: greenSandSmallHoleAspect | D27: - | F27: Removed | H27: - | J27: - | L27: - | N27: - | P27: - | R27: Deprecated.
A28: 24 | B28: greenSandSmallHoleDia | D28: - | F28: Removed | H28: - | J28: - | L28: - | N28: - | P28: - | R28: Deprecated.
A29: 25 | B29: greenSandSmallVoidAspect | D29: - | F29: Removed | H29: - | J29: - | L29: - | N29: - | P29: - | R29: Deprecated.
A30: 26 | B30: maxAngleBetweenWalls | C30: 10 | D30: - | E30: 10 | F30: New Note | G30: 10 | H30: - | I30: 10 | J30: - | K30: 10 | L30: - | M30: 10 | N30: - | O30: 10 | P30: - | Q30: 10 | S30: Maximum angle between two triangles forming a valid wall during Legacy Voxel-Based thickness computation.
A31: 27 | B31: maxCoreAspectRatio | C31: 18 | D31: - | E31: 18 | F31: - | G31: 18 | H31: - | I31: 18 | J31: - | K31: 18 | L31: - | M31: 18 | N31: - | O31: 18 | P31: - | Q31: 18
A32: 28 | B32: maxIsAboutForPlaneObstructionPercent | C32: 10 | D32: - | E32: 10 | F32: - | G32: 10 | H32: - | I32: 10 | J32: - | K32: 10 | L32: - | M32: 10 | N32: - | O32: 5 | P32: - | Q32: 5 | S32: Don't create isAbout relations if more than X% of the plane cannot be turned
A33: 29 | B33: maxNumTurningAxes | C33: 1 | D33: - | E33: 1 | F33: - | G33: 1 | H33: - | I33: 1 | J33: - | K33: 1 | L33: - | M33: 1 | N33: - | O33: 1 | P33: - | Q33: 1
A34: 30 | B34: maxObscuredVoidRayGridSize | C34: 1000 | D34: - | E34: 1000 | F34: New Note | G34: 1000 | H34: - | I34: 1000 | J34: - | K34: 1000 | L34: - | M34: 1000 | N34: - | O34: 1000 | P34: - | Q34: 1000 | S34: Maximum number of small, obscured void detector rays in each grid dimension. If the value of maxObscuredVoidRayGridSize is 0, ray grid size will be unlimited.
A35: 31 | B35: maxSupportedOverhangAngle | C35: 45 | D35: - | E35: 45 | F35: New Note | G35: 45 | H35: - | I35: 45 | J35: - | K35: 45 | L35: - | M35: 45 | N35: - | O35: 45 | P35: - | Q35: 45 | S35: If the overhang angle is less than or equal to this value, then a support structure is required.
A36: 32 | B36: maxTurningAxisEccentricity | C36: 0.05 | D36: - | E36: 0.05 | F36: - | G36: 0.05 | H36: - | I36: 0.05 | J36: - | K36: 0.05 | L36: - | M36: 0.05 | N36: - | O36: 0.05 | P36: - | Q36: 0.05 | S36: Controls the how far and skewed a turning axis can be from ideal. Valid values are positive.
A37: 33 | B37: minCADTolerance | C37: 0.254 | D37: - | E37: 0.254 | F37: - | G37: 0.254 | H37: - | I37: 0.254 | J37: - | K37: 0.254 | L37: - | M37: 0.254 | N37: - | O37: 0.254 | P37: - | Q37: 0.254
A38: 34 | B38: minForgeableHoleDiameter | C38: 25.4 | D38: - | E38: 25.4 | F38: - | G38: 25.4 | H38: - | I38: 25.4 | J38: - | K38: 25.4 | L38: - | M38: 25.4 | N38: - | O38: 25.4 | P38: - | Q38: 25.4
A39: 35 | B39: minForgeableHoleWallThickness | C39: -1 | D39: - | E39: -1 | F39: - | G39: -1 | H39: - | I39: -1 | J39: - | K39: -1 | L39: - | M39: -1 | N39: - | O39: -1 | P39: - | Q39: -1
A40: 36 | B40: minGreenSandWidth | C40: 25.4 | D40: - | E40: 25.4 | F40: - | G40: 25.4 | H40: - | I40: 25.4 | J40: - | K40: 25.4 | L40: - | M40: 25.4 | N40: - | O40: 25.4 | P40: - | Q40: 25.4 | S40: Minimum possible distance between two different breakaway voids. If the distance between two breakaway voids is smaller, they will be merged.
A41: 37 | B41: minSupportedOverhangAngle | C41: 35 | D41: - | E41: 35 | F41: - | G41: 35 | H41: - | I41: 35 | J41: - | K41: 35 | L41: - | M41: 35 | N41: - | O41: 35 | P41: - | Q41: 35 | S41: Support structures for surfaces with an overhang angle between 0 and minSupportedOverhangAngle will be merged into a single support structure if they are close enough. This is used only if overhangAngularRangeDivisionNum is greater than 1.
A42: 38 | B42: minTurnAxisAreaRatio | C42: 0.05 | D42: - | E42: 0.05 | F42: - | G42: 0.05 | H42: Added | J42: - | L42: - | N42: - | P42: - | S42: Ratio used to filter turning axis candidates being evaluated during GCD extraction. Comparing the surface area of the part on the turning axis profile to the total surface area of the part.
A43: 39 | B43: overhangAngularRangeDivisionNum | C43: 2 | D43: - | E43: 2 | F43: New Note | G43: 2 | H43: - | I43: 2 | J43: - | K43: 2 | L43: - | M43: 2 | N43: - | O43: 2 | P43: - | Q43: 2 | S43: Number of ranges used for support structure detection between minSupportedOverhangeAngle and maxSupportedOverhangeAngle. If the value is 1, there is only one overhang range from 0 to maxSupportedOverhangAngle.
A44: 40 | B44: roughnessDefault | C44: 40 | D44: - | E44: 40 | F44: - | G44: 40 | H44: - | I44: 40 | J44: - | K44: 40 | L44: - | M44: 40 | N44: - | O44: 40 | P44: - | Q44: 40
A45: 41 | B45: sharpEdgeDraftAngle | C45: 6 | D45: - | E45: 6 | F45: New Note | G45: 6 | H45: - | I45: 6 | J45: - | K45: 6 | L45: - | M45: 6 | N45: - | O45: 6 | P45: - | Q45: 6 | S45: Edges where the angle between the adjoined faces is more than sharpEdgeDraftAngle away from PI are considered sharp edges.
A46: 42 | B46: sharpEdgeRadius | C46: 3.175 | D46: - | E46: 3.175 | F46: New Note | G46: 3.175 | H46: - | I46: 3.175 | J46: - | K46: 3.175 | L46: - | M46: 3.175 | N46: - | O46: 3.175 | P46: - | Q46: 3.175 | S46: Surfaces with radius of curvature less than sharpEdgeRadius are considered sharp fillets.
A47: 43 | B47: shellCoreAspectRatio | C47: 30 | D47: - | E47: 30 | F47: - | G47: 30 | H47: - | I47: 30 | J47: - | K47: 30 | L47: - | M47: 30 | N47: - | O47: 30 | P47: - | Q47: 30
A48: 44 | B48: sourceComponentForTwoModel | C48: TRUE | D48: - | E48: TRUE | F48: - | G48: TRUE | H48: - | I48: TRUE | J48: - | K48: TRUE | L48: - | M48: TRUE | N48: - | O48: TRUE | P48: - | Q48: TRUE
A49: 45 | B49: toleranceDefault | C49: 6.7 | D49: - | E49: 6.7 | F49: - | G49: 6.7 | H49: - | I49: 6.7 | J49: - | K49: 6.7 | L49: - | M49: 6.7 | N49: - | O49: 6.7 | P49: - | Q49: 6.7
A50: 46 | B50: useVoxelsForDrawDirection | C50: FALSE | D50: - | E50: FALSE | F50: - | G50: FALSE | H50: - | I50: FALSE | J50: - | K50: FALSE | L50: - | M50: FALSE | N50: - | O50: FALSE | P50: - | Q50: FALSE
A51: 47 | B51: voxelCount | C51: 100000 | D51: - | E51: 100000 | F51: - | G51: 100000 | H51: - | I51: 100000 | J51: - | K51: 100000 | L51: - | M51: 100000 | N51: - | O51: 100000 | P51: - | Q51: 100000
A52: 48 | B52: voxelSizeSafetyFactor | C52: 2 | D52: - | E52: 2 | F52: - | G52: 2 | H52: - | I52: 2 | J52: - | K52: 2 | L52: - | M52: 2 | N52: - | O52: 2 | P52: - | Q52: 2
A53: 49 | B53: wallDraftAngle | C53: 1 | E53: 1 | F53: New Note | G53: 1 | H53: - | I53: 1 | J53: - | K53: 1 | L53: - | M53: 1 | N53: - | O53: 1 | P53: - | Q53: 1 | S53: Surfaces with smaller draft are considered parallel to the opening direction for parting line purposes.
B55: See the README tab for more information.

Sheet Assembly
B2: aPriori Release 23.1.1 Site Variable Settings for Minimal Cost Impact with Prior Cost Models
A4: ID | B4: Site Variable | C4: CMV 200 (23.1.1) | D4: Delta from CMV 190 to CMV 200 | E4: CMV 190 (23.1.0) | F4: Delta from CMV 180 to CMV 190 | G4: CMV 180 (22.1.1) | H4: Delta from CMV 170 to CMV 180 | I4: CMV 170 (22.1.0) | J4: Delta from CMV 160 to CMV 170 | K4: CMV 160 (21.1.2, 21.1.1) | L4: Delta from CMV 150 to CMV 160 | M4: CMV 150 (21.1.0) | N4: Delta from CMV 140 to CMV 150 | O4: CMV 140 (20.1.2, 20.1.1) | P4: Delta from CMV 130 to CMV 140 | Q4: CMV 130 (20.1.0) | R4: Comments | S4: 23.1.1 Notes
A5: 1 | B5: deriveProWeldWidthFromDepth | C5: TRUE | D5: - | E5: TRUE | F5: - | G5: TRUE | H5: - | I5: TRUE | J5: - | K5: TRUE | L5: - | M5: TRUE | N5: - | O5: TRUE | P5: - | Q5: TRUE | S5: If true, use ProWeld width to compute missing depth and vice versa.
A6: 2 | B6: deriveProWeldWidthFromGeometry | C6: TRUE | D6: - | E6: TRUE | F6: - | G6: TRUE | H6: - | I6: TRUE | J6: - | K6: TRUE | L6: - | M6: TRUE | N6: - | O6: TRUE | P6: - | Q6: TRUE | S6: If true, use ProWeld geometry to compute missing width and depth of surface welds.
A7: 3 | B7: enableContactAnalysis | C7: TRUE | D7: - | E7: TRUE | F7: - | G7: TRUE | H7: - | I7: TRUE | J7: Added | K7: FALSE | L7: - | M7: FALSE | N7: - | O7: FALSE | P7: - | Q7: FALSE | S7: If true, enable analysis of the part contact regions.
A8: 4 | B8: enablePartLevelProWelds | C8: FALSE | D8: - | E8: FALSE | F8: - | G8: FALSE | H8: - | I8: FALSE | J8: - | K8: FALSE | L8: - | M8: FALSE | N8: - | O8: FALSE | P8: - | Q8: FALSE | S8: If true, import ProWelds from parts as well as assemblies.
A9: 5 | B9: importProWeldParameters | C9: TRUE | D9: - | E9: TRUE | F9: - | G9: TRUE | H9: - | I9: TRUE | J9: - | K9: TRUE | L9: - | M9: TRUE | N9: - | O9: TRUE | P9: - | Q9: TRUE | S9: If true, use ProWeld parameters for missing properties.
A10: 6 | B10: maxDistanceFromWeldToRegionMm | C10: 10 | D10: - | E10: 10 | F10: - | G10: 10 | H10: - | I10: 10 | J10: Added | K10: 0 | L10: - | M10: 0 | N10: - | O10: 0 | P10: - | Q10: 0 | R10: Ignored if enableContactAnalysis is FALSE. | S10: aPriori will create Lies On Relation between Weld and Contact Region GCD if distance between them is below this threshold.
A11: 7 | B11: maxGapForContactRegionMm | C11: 0 | D11: - | E11: 0 | F11: - | G11: 0 | H11: - | I11: 0 | J11: Added | K11: 0 | L11: - | M11: 0 | N11: - | O11: 0 | P11: - | Q11: 0 | R11: Ignored if enableContactAnalysis is FALSE. | S11: aPriori will create Contact Region GCD if distance between parts is below this threshold.
A12: 8 | B12: minCADTolerance | C12: 0.254 | D12: - | E12: 0.254 | F12: - | G12: 0.254 | H12: - | I12: 0.254 | J12: - | K12: 0.254 | L12: - | M12: 0.254 | N12: - | O12: 0.254 | P12: - | Q12: 0.254
A13: 9 | B13: minContactRegionAreaMm | C13: 0.1 | D13: - | E13: 0.1 | F13: - | G13: 0.1 | H13: - | I13: 0 | J13: Added | K13: 0 | L13: - | M13: 0 | N13: - | O13: 0 | P13: - | Q13: 0 | R13: Ignored if enableContactAnalysis is FALSE. | S13: aPriori will not create Contact Region GCDs when contact area is less than minContactRegionArea or contact length is less than minContactRegionLength. Such small contacts likely are unintentional modeling errors or do not represent valid joining surfaces.
A14: 10 | B14: minContactRegionLengthMm | C14: 1 | D14: - | E14: 1 | F14: - | G14: 1 | H14: - | I14: 0 | J14: Added | K14: 0 | L14: - | M14: 0 | N14: - | O14: 0 | P14: - | Q14: 0 | R14: Ignored if enableContactAnalysis is FALSE. | S14: aPriori will not create Contact Region GCDs when contact area is less than minContactRegionArea or contact length is less than minContactRegionLength. Such small contacts likely are unintentional modeling errors or do not represent valid joining surfaces.
A15: 11 | B15: roughnessDefault | C15: 25 | D15: - | E15: 25 | F15: - | G15: 25 | H15: - | I15: 25 | J15: - | K15: 25 | L15: - | M15: 25 | N15: - | O15: 25 | P15: - | Q15: 25
A16: 12 | B16: sourceComponentForTwoModel | C16: FALSE | D16: - | E16: FALSE | F16: - | G16: FALSE | H16: - | I16: FALSE | J16: - | K16: FALSE | L16: - | M16: FALSE | N16: - | O16: FALSE | P16: - | Q16: FALSE
A17: 13 | B17: toleranceDefault | C17: 0.25 | D17: - | E17: 0.25 | F17: - | G17: 0.25 | H17: - | I17: 0.25 | J17: - | K17: 0.25 | L17: - | M17: 0.25 | N17: - | O17: 0.25 | P17: - | Q17: 0.25
B19: See the README tab for more information.

Sheet Assembly Molding
B2: aPriori Release 23.1.1 Site Variable Settings for Minimal Cost Impact with Prior Cost Models
A4: ID | B4: Site Variable | C4: CMV 110 (23.1.1) | D4: Delta from CMV 100 to CMV 110 | E4: CMV 100 (23.1.0) | F4: Delta from CMV 90 to CMV 100 | G4: CMV 90 (22.1.1) | H4: Delta from CMV 80 to CMV 90 | I4: CMV 80 (22.1.0) | J4: Delta from CMV 70 to CMV 80 | K4: CMV 70 (21.1.2, 21.1.1) | L4: Delta from CMV 60 to CMV 70 | M4: CMV 60 (21.1.0) | N4: Delta from CMV 50 to CMV 60 | O4: CMV 50 (20.1.2, 20.1.1) | P4: Delta from CMV 40 to CMV 50 | Q4: CMV 40 (20.1.0) | R4: Comments | S4: 23.1.1 Notes
A5: 1 | B5: drawDirAccessibleSheetFactor | C5: 0.02 | D5: - | E5: 0.02 | F5: New Note | G5: 0.02 | H5: - | I5: 0.02 | J5: - | K5: 0.02 | L5: - | M5: 0.02 | N5: - | O5: 0.02 | P5: - | Q5: 0.02 | S5: The weight coefficient for the ratio of sheet area accessible from the draw direction candidate to total area of this sheet.
A6: 2 | B6: drawDirAnalyzeRibs | C6: TRUE | D6: - | E6: TRUE | F6: New Note | G6: TRUE | H6: - | I6: TRUE | J6: - | K6: TRUE | L6: - | M6: TRUE | N6: - | O6: TRUE | P6: - | Q6: TRUE | S6: If true, ribs are analyzed during draw direction computation.
A7: 3 | B7: drawDirAxisShareFactor | C7: 0.02 | D7: - | E7: 0.02 | F7: New Note | G7: 0.02 | H7: - | I7: 0.02 | J7: - | K7: 0.02 | L7: - | M7: 0.02 | N7: - | O7: 0.02 | P7: - | Q7: 0.02 | S7: The weight coefficient for the ratio between number of holes aligned with the draw direction candidate and total number of holes.
A8: 4 | B8: drawDirBoxHeightFactor | C8: 0.01 | D8: - | E8: 0.01 | F8: New Note | G8: 0.01 | H8: - | I8: 0.01 | J8: - | K8: 0.01 | L8: - | M8: 0.01 | N8: - | O8: 0.01 | P8: - | Q8: 0.01 | S8: The weight coefficient for draw direction computation based on dimensions of part bounding box aligned with the draw direction candidate.
A9: 5 | B9: drawDirFlatPartingLineWeight | C9: 0.002 | D9: - | E9: 0.002 | F9: New Note | G9: 0.002 | H9: - | I9: 0.002 | J9: - | K9: 0.002 | L9: - | M9: 0.002 | N9: - | O9: 0.002 | P9: - | Q9: 0.002 | S9: Parting line flatness rating weight if parting line height for the draw direction candidate is negligible.
A10: 6 | B10: drawDirGrillFactor | C10: 1 | D10: - | E10: 1 | F10: New Note | G10: 1 | H10: - | I10: 1 | J10: - | K10: 1 | L10: - | M10: 1 | N10: - | O10: 1 | P10: - | Q10: 1 | S10: The weight coefficient for draw direction computation based on number of honeycomb cells aligned with the draw direction candidate in relation with the number of all honeycomb cells.
A11: 7 | B11: drawDirIgnoreSimilarVoidVolume | C11: TRUE | D11: - | E11: TRUE | F11: New Note | G11: TRUE | H11: - | I11: TRUE | J11: - | K11: TRUE | L11: - | M11: TRUE | N11: - | O11: TRUE | P11: - | Q11: TRUE | S11: If true, number of misaligned undercuts impacts on draw direction computation.
A12: 8 | B12: drawDirMaxFlatPartingLineToBoxHeightRatio | C12: 0.1 | D12: - | E12: 0.1 | F12: New Note | G12: 0.1 | H12: - | I12: 0.1 | J12: - | K12: 0.1 | L12: - | M12: 0.1 | N12: - | O12: 0.1 | P12: - | Q12: 0.1 | S12: If this value is greater than the ratio of the parting line height to the total part height along the draw direction candidate, then the parting line height is considered negligible.
A13: 9 | B13: drawDirMaxNegligibleUndercutToPartVolumeRatio | C13: 1e-06 | D13: - | E13: 1e-06 | F13: New Note | G13: 1e-06 | H13: - | I13: 1e-06 | J13: - | K13: 1e-06 | L13: - | M13: 1e-06 | N13: - | O13: 1e-06 | P13: - | Q13: 1e-06 | S13: If this value is greater than the ratio of the undercut volume for the draw direction candidate to the total part volume, then the undercut volume is considered negligible.
A14: 10 | B14: drawDirMaxRayDirs | C14: 20 | D14: - | E14: 20 | F14: New Note | G14: 20 | H14: - | I14: 20 | J14: - | K14: 20 | L14: - | M14: 20 | N14: - | O14: 20 | P14: - | Q14: 20 | S14: Maximum number of axes considered as draw direction candidate.
A15: 11 | B15: drawDirMaxRays | C15: 90000 | D15: - | E15: 90000 | F15: New Note | G15: 90000 | H15: - | I15: 90000 | J15: - | K15: 90000 | L15: - | M15: 90000 | N15: - | O15: 90000 | P15: - | Q15: 90000 | S15: Number of detector rays used for each draw direction candidate (controlled by drawDirMaxRayDirs) to compute undercuts.
A16: 12 | B16: drawDirNoUndercutWeight | C16: 1 | D16: - | E16: 1 | F16: New Note | G16: 1 | H16: - | I16: 1 | J16: - | K16: 1 | L16: - | M16: 1 | N16: - | O16: 1 | P16: - | Q16: 1 | S16: Undercut rating weight if the undercut volume for the draw direction candidate is negligible.
A17: 13 | B17: drawDirPartingLineFlatnessFactor | C17: 0.001 | D17: - | E17: 0.001 | F17: New Note | G17: 0.001 | H17: - | I17: 0.001 | J17: - | K17: 0.001 | L17: - | M17: 0.001 | N17: - | O17: 0.001 | P17: - | Q17: 0.001 | S17: The weight coefficient for the ratio of the projection length of the non-negligible parting line to its length.
A18: 14 | B18: drawDirPinHoleFactor | C18: 0.25 | D18: - | E18: 0.25 | F18: New Note | G18: 0.25 | H18: New Value | I18: 1 | J18: - | K18: 1 | L18: - | M18: 1 | N18: - | O18: 1 | P18: - | Q18: 1 | S18: The weight coefficient for the draw direction computation based on number of pin holes.
A19: 15 | B19: drawDirRegionFactor | C19: 0.1 | D19: - | E19: 0.1 | F19: New Note | G19: 0.1 | H19: - | I19: 0.1 | J19: - | K19: 0.1 | L19: - | M19: 0.1 | N19: - | O19: 0.1 | P19: - | Q19: 0.1 | S19: The weight coefficient for the ratio between the area of aligned with the draw direction candidate regions and total area of all regions.
A20: 16 | B20: drawDirRibFactor | C20: 0 | D20: - | E20: 0 | F20: New Note | G20: 0 | H20: - | I20: 0 | J20: - | K20: 0 | L20: - | M20: 0 | N20: - | O20: 0 | P20: - | Q20: 0 | S20: The weight coefficient for the ratio between the area of parallel to the draw direction candidate ribs and total area of all potential ribs.
A21: 17 | B21: drawDirUndercutPresenceFactor | C21: 1 | D21: - | E21: 1 | F21: New Note | G21: 1 | H21: - | I21: 1 | J21: - | K21: 1 | L21: - | M21: 1 | N21: - | O21: 1 | P21: - | Q21: 1 | S21: The weight coefficient for the undercut rating based on non-negligible undercut volume in relation to the total part volume.
A22: 18 | B22: drawDirVoidAlignmentFactor | C22: 0.5 | D22: - | E22: 0.5 | F22: New Note | G22: 0.5 | H22: - | I22: 0.5 | J22: - | K22: 0.5 | L22: - | M22: 0.5 | N22: - | O22: 0.5 | P22: - | Q22: 0.5 | S22: The weight coefficient for the ratio of number of aligned with the draw direction candidate undercuts to total number of undercuts.
A23: 19 | B23: holeProximityDistanceFactor | C23: 2 | D23: - | E23: 2 | F23: New Note | G23: 2 | H23: - | I23: 2 | J23: - | K23: 2 | L23: - | M23: 2 | N23: - | O23: 2 | P23: - | Q23: 2 | S23: Faces that are further from a hole axis than (holeProximityDistanceFactor * holeDiameter + holeRadius) cannot form LiesNear relations with this hole.
A24: 20 | B24: holeProximityWallAngleDegrees | C24: 20 | D24: - | E24: 20 | F24: New Note | G24: 20 | H24: - | I24: 20 | J24: - | K24: 20 | L24: - | M24: 20 | N24: - | O24: 20 | P24: - | Q24: 20 | S24: Maximum draft angle of a hole wall triangle during LiesNear relations computation.
A25: 21 | B25: isComboVoidEnabled | C25: TRUE | D25: - | E25: TRUE | F25: - | G25: TRUE | H25: - | I25: TRUE | J25: - | K25: TRUE | L25: - | M25: TRUE | N25: - | O25: TRUE | P25: - | Q25: TRUE
A26: 22 | B26: isComplexHolesEnabled | C26: FALSE | D26: - | E26: FALSE | F26: - | G26: FALSE | H26: - | I26: FALSE | J26: - | K26: FALSE | L26: - | M26: FALSE | N26: - | O26: FALSE | P26: - | Q26: FALSE
A27: 23 | B27: isComplexHolesSeparationEnabled | C27: FALSE | D27: - | E27: FALSE | F27: - | G27: FALSE | H27: - | I27: FALSE | J27: - | K27: FALSE | L27: - | M27: FALSE | N27: - | O27: FALSE | P27: - | Q27: FALSE
A28: 24 | B28: isSurfaceIsAccessibleRelationEnabled | C28: FALSE | D28: - | E28: FALSE | F28: - | G28: FALSE | H28: - | I28: FALSE | J28: - | K28: FALSE | L28: - | M28: FALSE | N28: - | O28: FALSE | P28: - | Q28: FALSE
A29: 25 | B29: isToolMinThicknessComputationEnabled | C29: FALSE | D29: - | E29: FALSE | F29: New Note | G29: FALSE | H29: - | I29: FALSE | J29: - | K29: FALSE | L29: - | M29: FALSE | N29: - | O29: FALSE | P29: - | Q29: FALSE | S29: Enables Tool Min Thickness computation.
A30: 26 | B30: isVoidSplittingEnabled | C30: TRUE | D30: - | E30: TRUE | F30: - | G30: TRUE | H30: - | I30: TRUE | J30: - | K30: TRUE | L30: - | M30: TRUE | N30: - | O30: TRUE | P30: - | Q30: TRUE | S30: If true, split inaccessible voids to several accessible pieces
A31: 27 | B31: maxObscuredVoidRayGridSize | C31: 1000 | D31: - | E31: 1000 | F31: New Note | G31: 1000 | H31: - | I31: 1000 | J31: - | K31: 1000 | L31: - | M31: 1000 | N31: - | O31: 1000 | P31: - | Q31: 1000 | S31: Maximum number of small, obscured void detector rays in each grid dimension. If the value of maxObscuredVoidRayGridSize is 0, ray grid size will be unlimited.
A32: 28 | B32: maxPinDiamMM | C32: 32 | D32: - | E32: 32 | F32: - | G32: 32 | H32: - | I32: 32 | J32: - | K32: 32 | L32: - | M32: 32 | N32: - | O32: 32 | P32: - | Q32: 32
A33: 29 | B33: minCADTolerance | C33: 0.254 | D33: - | E33: 0.254 | F33: - | G33: 0.254 | H33: - | I33: 0.254 | J33: - | K33: 0.254 | L33: - | M33: 0.254 | N33: - | O33: 0.254 | P33: - | Q33: 0.254
A34: 30 | B34: minGrillHoles | C34: 16 | D34: - | E34: 16 | F34: - | G34: 16 | H34: - | I34: 16 | J34: - | K34: 16 | L34: - | M34: 16 | N34: - | O34: 16 | P34: - | Q34: 16
A35: 31 | B35: minPinDiamMM | C35: 1 | D35: - | E35: 1 | F35: - | G35: 1 | H35: - | I35: 1 | J35: - | K35: 1 | L35: - | M35: 1 | N35: - | O35: 1 | P35: - | Q35: 1
A36: 32 | B36: roughnessDefault | C36: 1.6 | D36: - | E36: 1.6 | F36: - | G36: 1.6 | H36: - | I36: 1.6 | J36: - | K36: 1.6 | L36: - | M36: 1.6 | N36: - | O36: 1.6 | P36: - | Q36: 1.6
A37: 33 | B37: sourceComponentForTwoModel | C37: FALSE | D37: - | E37: FALSE | F37: - | G37: FALSE | H37: - | I37: FALSE | J37: - | K37: FALSE | L37: - | M37: FALSE | N37: - | O37: FALSE | P37: - | Q37: FALSE
A38: 34 | B38: thicknessAlgorithm | C38: Voxel-Based | D38: - | E38: Voxel-Based | F38: - | G38: Voxel-Based | H38: - | I38: Voxel-Based | J38: - | K38: Voxel-Based | L38: - | M38: Voxel-Based | N38: - | O38: Voxel-Based | P38: - | Q38: Voxel-Based | S38: Possible values 'voxel-based' (default as of aP 2018 R2 baselines) or 'ray-tracing-based' (earlier algorithm). Voxel-based algorithm better predicts maximum thickness for chunky parts.
A39: 35 | B39: toleranceDefault | C39: 7 | D39: - | E39: 7 | F39: - | G39: 7 | H39: - | I39: 7 | J39: - | K39: 7 | L39: - | M39: 7 | N39: - | O39: 7 | P39: - | Q39: 7
A40: 36 | B40: useVoxelsForDrawDirection | C40: FALSE | D40: - | E40: FALSE | F40: - | G40: FALSE | H40: - | I40: FALSE | J40: - | K40: FALSE | L40: - | M40: FALSE | N40: - | O40: FALSE | P40: - | Q40: FALSE
A41: 37 | B41: wallDraftAngle | C41: 1 | D41: - | E41: 1 | F41: New Note | G41: 1 | H41: - | I41: 1 | J41: - | K41: 1 | L41: - | M41: 1 | N41: - | O41: 1 | P41: - | Q41: 1 | S41: Surfaces with smaller draft are considered parallel to the opening direction for parting line purposes.
B43: See the README tab for more information.

Sheet Assembly Plastic Molding
B2: aPriori Release 23.1.1 Site Variable Settings for Minimal Cost Impact with Prior Cost Models
A4: ID | B4: Site Variable | C4: CMV 60 (23.1.1) | D4: Delta from CMV 50 to CMV 60 | E4: CMV 50 (23.1.0) | F4: Delta from CMV 40 to CMV 50 | G4: CMV 40 (22.1.1) | H4: Delta from CMV 30 to CMV 40 | I4: CMV 30 (22.1.0) | J4: Delta from CMV 20 to CMV 30 | K4: CMV 20 (21.1.2, 1.1.1) | L4: Delta from CMV 10 to CMV 20 | M4: CMV 10 (21.1.0) | N4: Delta from CMV 5 to CMV 10 | O4: CMV 5 (20.1.2) | P4: Delta from CMV 0 to CMV 5 | Q4: CMV 0 (20.1.0, 20.1.1) | R4: Comments | S4: 23.1.1 Notes
A5: 1 | B5: drawDirAccessibleSheetFactor | C5: 0.02 | D5: - | E5: 0.02 | F5: New Note | G5: 0.02 | H5: - | I5: 0.02 | J5: - | K5: 0.02 | L5: - | M5: 0.02 | N5: - | O5: 0.02 | P5: - | Q5: 0.02 | S5: The weight coefficient for the ratio of sheet area accessible from the draw direction candidate to total area of this sheet.
A6: 2 | B6: drawDirAnalyzeRibs | C6: TRUE | D6: - | E6: TRUE | F6: New Note | G6: TRUE | H6: - | I6: TRUE | J6: - | K6: TRUE | L6: - | M6: TRUE | N6: - | O6: TRUE | P6: - | Q6: TRUE | S6: If true, ribs are analyzed during draw direction computation.
A7: 3 | B7: drawDirAxisShareFactor | C7: 0.02 | D7: - | E7: 0.02 | F7: New Note | G7: 0.02 | H7: - | I7: 0.02 | J7: - | K7: 0.02 | L7: - | M7: 0.02 | N7: - | O7: 0.02 | P7: - | Q7: 0.02 | S7: The weight coefficient for the ratio between number of holes aligned with the draw direction candidate and total number of holes.
A8: 4 | B8: drawDirBoxHeightFactor | C8: 0.01 | D8: - | E8: 0.01 | F8: New Note | G8: 0.01 | H8: - | I8: 0.01 | J8: - | K8: 0.01 | L8: - | M8: 0.01 | N8: - | O8: 0.01 | P8: - | Q8: 0.01 | S8: The weight coefficient for draw direction computation based on dimensions of part bounding box aligned with the draw direction candidate.
A9: 5 | B9: drawDirFlatPartingLineWeight | C9: 0.002 | D9: - | E9: 0.002 | F9: New Note | G9: 0.002 | H9: - | I9: 0.002 | J9: - | K9: 0.002 | L9: - | M9: 0.002 | N9: - | O9: 0.002 | P9: - | Q9: 0.002 | S9: Parting line flatness rating weight if parting line height for the draw direction candidate is negligible.
A10: 6 | B10: drawDirGrillFactor | C10: 1 | D10: - | E10: 1 | F10: New Note | G10: 1 | H10: - | I10: 1 | J10: - | K10: 1 | L10: - | M10: 1 | N10: - | O10: 1 | P10: - | Q10: 1 | S10: The weight coefficient for draw direction computation based on number of honeycomb cells aligned with the draw direction candidate in relation with the number of all honeycomb cells.
A11: 7 | B11: drawDirIgnoreSimilarVoidVolume | C11: TRUE | D11: - | E11: TRUE | F11: New Note | G11: TRUE | H11: - | I11: TRUE | J11: - | K11: TRUE | L11: - | M11: TRUE | N11: - | O11: TRUE | P11: - | Q11: TRUE | S11: If true, number of misaligned undercuts impacts on draw direction computation.
A12: 8 | B12: drawDirMaxFlatPartingLineToBoxHeightRatio | C12: 0.1 | D12: - | E12: 0.1 | F12: New Note | G12: 0.1 | H12: - | I12: 0.1 | J12: - | K12: 0.1 | L12: - | M12: 0.1 | N12: - | O12: 0.1 | P12: - | Q12: 0.1 | S12: If this value is greater than the ratio of the parting line height to the total part height along the draw direction candidate, then the parting line height is considered negligible.
A13: 9 | B13: drawDirMaxNegligibleUndercutToPartVolumeRatio | C13: 1e-06 | D13: - | E13: 1e-06 | F13: New Note | G13: 1e-06 | H13: - | I13: 1e-06 | J13: - | K13: 1e-06 | L13: - | M13: 1e-06 | N13: - | O13: 1e-06 | P13: - | Q13: 1e-06 | S13: If this value is greater than the ratio of the undercut volume for the draw direction candidate to the total part volume, then the undercut volume is considered negligible.
A14: 10 | B14: drawDirMaxRayDirs | C14: 20 | D14: - | E14: 20 | F14: New Note | G14: 20 | H14: - | I14: 20 | J14: - | K14: 20 | L14: - | M14: 20 | N14: - | O14: 20 | P14: - | Q14: 20 | S14: Maximum number of axes considered as draw direction candidate.
A15: 11 | B15: drawDirMaxRays | C15: 90000 | D15: - | E15: 90000 | F15: New Note | G15: 90000 | H15: - | I15: 90000 | J15: - | K15: 90000 | L15: - | M15: 90000 | N15: - | O15: 90000 | P15: - | Q15: 90000 | S15: Number of detector rays used for each draw direction candidate (controlled by drawDirMaxRayDirs) to compute undercuts.
A16: 12 | B16: drawDirNoUndercutWeight | C16: 1 | D16: - | E16: 1 | F16: New Note | G16: 1 | H16: - | I16: 1 | J16: - | K16: 1 | L16: - | M16: 1 | N16: - | O16: 1 | P16: - | Q16: 1 | S16: Undercut rating weight if the undercut volume for the draw direction candidate is negligible.
A17: 13 | B17: drawDirPartingLineFlatnessFactor | C17: 0.001 | D17: - | E17: 0.001 | F17: New Note | G17: 0.001 | H17: - | I17: 0.001 | J17: - | K17: 0.001 | L17: - | M17: 0.001 | N17: - | O17: 0.001 | P17: - | Q17: 0.001 | S17: The weight coefficient for the ratio of the projection length of the non-negligible parting line to its length.
A18: 14 | B18: drawDirPinHoleFactor | C18: 0.25 | D18: - | E18: 0.25 | F18: New Note | G18: 0.25 | H18: New Value | I18: 1 | J18: - | K18: 1 | L18: - | M18: 1 | N18: - | O18: 1 | P18: - | Q18: 1 | S18: The weight coefficient for the draw direction computation based on number of pin holes.
A19: 15 | B19: drawDirRegionFactor | C19: 0.1 | D19: - | E19: 0.1 | F19: New Note | G19: 0.1 | H19: - | I19: 0.1 | J19: - | K19: 0.1 | L19: - | M19: 0.1 | N19: - | O19: 0.1 | P19: - | Q19: 0.1 | S19: The weight coefficient for the ratio between the area of aligned with the draw direction candidate regions and total area of all regions.
A20: 16 | B20: drawDirRibFactor | C20: 0 | D20: - | E20: 0 | F20: New Note | G20: 0 | H20: - | I20: 0 | J20: - | K20: 0 | L20: - | M20: 0 | N20: - | O20: 0 | P20: - | Q20: 0 | S20: The weight coefficient for the ratio between the area of parallel to the draw direction candidate ribs and total area of all potential ribs.
A21: 17 | B21: drawDirUndercutPresenceFactor | C21: 1 | D21: - | E21: 1 | F21: New Note | G21: 1 | H21: - | I21: 1 | J21: - | K21: 1 | L21: - | M21: 1 | N21: - | O21: 1 | P21: - | Q21: 1 | S21: The weight coefficient for the undercut rating based on non-negligible undercut volume in relation to the total part volume.
A22: 18 | B22: drawDirVoidAlignmentFactor | C22: 0.5 | D22: - | E22: 0.5 | F22: New Note | G22: 0.5 | H22: - | I22: 0.5 | J22: - | K22: 0.5 | L22: - | M22: 0.5 | N22: - | O22: 0.5 | P22: - | Q22: 0.5 | S22: The weight coefficient for the ratio of number of aligned with the draw direction candidate undercuts to total number of undercuts.
A23: 19 | B23: holeProximityDistanceFactor | C23: 2 | D23: - | E23: 2 | F23: New Note | G23: 2 | H23: - | I23: 2 | J23: - | K23: 2 | L23: - | M23: 2 | N23: - | O23: 2 | P23: - | Q23: 2 | S23: Faces that are further from a hole axis than (holeProximityDistanceFactor * holeDiameter + holeRadius) cannot form LiesNear relations with this hole.
A24: 20 | B24: holeProximityWallAngleDegrees | C24: 20 | D24: - | E24: 20 | F24: New Note | G24: 20 | H24: - | I24: 20 | J24: - | K24: 20 | L24: - | M24: 20 | N24: - | O24: 20 | P24: - | Q24: 20 | S24: Maximum draft angle of a hole wall triangle during LiesNear relations computation.
A25: 21 | B25: isComboVoidEnabled | C25: TRUE | D25: - | E25: TRUE | F25: - | G25: TRUE | H25: - | I25: TRUE | J25: - | K25: TRUE | L25: - | M25: TRUE | N25: - | O25: TRUE | P25: - | Q25: TRUE
A26: 22 | B26: isComplexHolesEnabled | C26: FALSE | D26: - | E26: FALSE | F26: - | G26: FALSE | H26: - | I26: FALSE | J26: - | K26: FALSE | L26: - | M26: FALSE | N26: - | O26: FALSE | P26: - | Q26: FALSE
A27: 23 | B27: isComplexHolesSeparationEnabled | C27: FALSE | D27: - | E27: FALSE | F27: - | G27: FALSE | H27: - | I27: FALSE | J27: - | K27: FALSE | L27: - | M27: FALSE | N27: - | O27: FALSE | P27: - | Q27: FALSE
A28: 24 | B28: isSurfaceIsAccessibleRelationEnabled | C28: FALSE | D28: - | E28: FALSE | F28: - | G28: FALSE | H28: - | I28: FALSE | J28: - | K28: FALSE | L28: - | M28: FALSE | N28: - | O28: FALSE | P28: - | Q28: FALSE
A29: 25 | B29: isToolMinThicknessComputationEnabled | C29: FALSE | D29: - | E29: FALSE | F29: New Note | G29: FALSE | H29: - | I29: FALSE | J29: - | K29: FALSE | L29: - | M29: FALSE | N29: - | O29: FALSE | P29: - | Q29: FALSE | S29: Enables Tool Min Thickness computation.
A30: 26 | B30: isVoidSplittingEnabled | C30: TRUE | D30: - | E30: TRUE | F30: - | G30: TRUE | H30: - | I30: TRUE | J30: - | K30: TRUE | L30: - | M30: TRUE | N30: - | O30: TRUE | P30: - | Q30: TRUE | S30: If true, split inaccessible voids to several accessible pieces
A31: 27 | B31: maxObscuredVoidRayGridSize | C31: 1000 | D31: - | E31: 1000 | F31: New Note | G31: 1000 | H31: - | I31: 1000 | J31: - | K31: 1000 | L31: - | M31: 1000 | N31: - | O31: 1000 | P31: - | Q31: 1000 | S31: Maximum number of small, obscured void detector rays in each grid dimension. If the value of maxObscuredVoidRayGridSize is 0, ray grid size will be unlimited.
A32: 28 | B32: maxPinDiamMM | C32: 32 | D32: - | E32: 32 | F32: - | G32: 32 | H32: - | I32: 32 | J32: - | K32: 32 | L32: - | M32: 32 | N32: - | O32: 32 | P32: - | Q32: 32
A33: 29 | B33: minCADTolerance | C33: 0.254 | D33: - | E33: 0.254 | F33: - | G33: 0.254 | H33: - | I33: 0.254 | J33: - | K33: 0.254 | L33: - | M33: 0.254 | N33: - | O33: 0.254 | P33: - | Q33: 0.254
A34: 30 | B34: minGrillHoles | C34: 16 | D34: - | E34: 16 | F34: - | G34: 16 | H34: - | I34: 16 | J34: - | K34: 16 | L34: - | M34: 16 | N34: - | O34: 16 | P34: - | Q34: 16
A35: 31 | B35: minPinDiamMM | C35: 1 | D35: - | E35: 1 | F35: - | G35: 1 | H35: - | I35: 1 | J35: - | K35: 1 | L35: - | M35: 1 | N35: - | O35: 1 | P35: - | Q35: 1
A36: 32 | B36: roughnessDefault | C36: 1.6 | D36: - | E36: 1.6 | F36: - | G36: 1.6 | H36: - | I36: 1.6 | J36: - | K36: 1.6 | L36: - | M36: 1.6 | N36: - | O36: 1.6 | P36: - | Q36: 1.6
A37: 33 | B37: sourceComponentForTwoModel | C37: FALSE | D37: - | E37: FALSE | F37: - | G37: FALSE | H37: - | I37: FALSE | J37: - | K37: FALSE | L37: - | M37: FALSE | N37: - | O37: FALSE | P37: - | Q37: FALSE
A38: 34 | B38: thicknessAlgorithm | C38: Voxel-Based | D38: - | E38: Voxel-Based | F38: - | G38: Voxel-Based | H38: - | I38: Voxel-Based | J38: - | K38: Voxel-Based | L38: - | M38: Voxel-Based | N38: - | O38: Voxel-Based | P38: - | Q38: Voxel-Based | S38: Possible values 'voxel-based' (default as of aP 2018 R2 baselines) or 'ray-tracing-based' (earlier algorithm). Voxel-based algorithm better predicts maximum thickness for chunky parts.
A39: 35 | B39: toleranceDefault | C39: 7 | D39: - | E39: 7 | F39: - | G39: 7 | H39: - | I39: 7 | J39: - | K39: 7 | L39: - | M39: 7 | N39: - | O39: 7 | P39: - | Q39: 7
A40: 36 | B40: useVoxelsForDrawDirection | C40: FALSE | D40: - | E40: FALSE | F40: - | G40: FALSE | H40: - | I40: FALSE | J40: - | K40: FALSE | L40: - | M40: FALSE | N40: - | O40: FALSE | P40: - | Q40: FALSE
A41: 37 | B41: wallDraftAngle | C41: 1 | D41: - | E41: 1 | F41: New Note | G41: 1 | H41: - | I41: 1 | J41: - | K41: 1 | L41: - | M41: 1 | N41: - | O41: 1 | P41: - | Q41: 1 | S41: Surfaces with smaller draft are considered parallel to the opening direction for parting line purposes.
B43: See the README tab for more information.

Sheet Bar & Tube Fab
B2: aPriori Release 23.1.1 Site Variable Settings for Minimal Cost Impact with Prior Cost Models
A4: ID | B4: Site Variable | C4: CMV 220 (23.1.1) | D4: Delta from CMV 210 to CMV 220 | E4: CMV 210 (23.1.0) | F4: Delta from CMV 200 to CMV 210 | G4: CMV 200 (22.1.1) | H4: Delta from CMV 190 to CMV 200 | I4: CMV 190 (22.1.0) | J4: Delta from CMV 180 to CMV 190 | K4: CMV 180 (21.1.2, 21.1.1) | L4: Delta from CMV 170 to CMV 180 | M4: CMV 170 (21.1.0) | N4: Delta from CMV 160 to CMV 170 | O4: CMV 160 (20.1.2, 20.1.1) | P4: Delta from CMV 150 to CMV 160 | Q4: CMV 150 (20.1.0) | R4: Comments | S4: 23.1.1 Notes
A5: 1 | B5: createRingedHole | D5: - | F5: - | H5: - | J5: - | L5: - | N5: Removed | P5: - | R5: Deprecated.
A6: 2 | B6: extractAllStockSurfaces | C6: TRUE | D6: - | E6: TRUE | F6: - | G6: TRUE | H6: - | I6: TRUE | J6: Added | K6: FALSE | L6: - | M6: FALSE | N6: - | O6: FALSE | P6: - | Q6: FALSE | R6: Values highlighted in red are required for cost model compatibility. | S6: If set to false, CurvedWall and CurvedSurface GCDs which lie on the extrusion cross-section will not be extracted.
A7: 3 | B7: maxChannelBottomToWallThicknessRatio | C7: 3 | D7: - | E7: 3 | F7: - | G7: 3 | H7: - | I7: 3 | J7: - | K7: 3 | L7: - | M7: 3 | N7: - | O7: 3 | P7: - | Q7: 3
A8: 4 | B8: maxDraftAngle | C8: 0 | D8: - | E8: 0 | F8: - | G8: 0 | H8: - | I8: 0 | J8: - | K8: 0 | L8: - | M8: 0 | N8: - | O8: 0 | P8: - | Q8: 0 | S8: Maximum angle between a surface and a setup axis to be machinable from that axis (degrees)
A9: 5 | B9: maxExtrusionDieDiameterMm | C9: 812.8 | D9: - | E9: 812.8 | F9: - | G9: 812.8 | H9: - | I9: 812.8 | J9: - | K9: 812.8 | L9: - | M9: 812.8 | N9: - | O9: 812.8 | P9: - | Q9: 812.8 | S9: Upper limit on the size of the generic extrusion cross-section. Set to -1 to disable this check.
A10: 6 | B10: maxIsAboutForPlaneObstructionPercent | C10: 10 | D10: - | E10: 10 | F10: - | G10: 10 | H10: - | I10: 10 | J10: - | K10: 10 | L10: - | M10: 10 | N10: New Value | O10: 5 | P10: - | Q10: 5 | S10: Don't create isAbout relations if more than X% of the plane cannot be turned
A11: 7 | B11: maxMediumRoundTubeOD | C11: 141.3 | D11: - | E11: 141.3 | F11: - | G11: 141.3 | H11: - | I11: 141.3 | J11: - | K11: 141.3 | L11: - | M11: 141.3 | N11: - | O11: 141.3 | P11: - | Q11: 141.3
A12: 8 | B12: maxStockToPartVolumeRatio | C12: 10 | D12: - | E12: 10 | F12: - | G12: 10 | H12: - | I12: 10 | J12: - | K12: 10 | L12: - | M12: 10 | N12: - | O12: 10 | P12: - | Q12: 10
A13: 9 | B13: maxThinRoundTubeOD | C13: 30.4 | D13: - | E13: 30.4 | F13: - | G13: 30.4 | H13: - | I13: 30.4 | J13: - | K13: 30.4 | L13: - | M13: 30.4 | N13: - | O13: 30.4 | P13: - | Q13: 30.4
A14: 10 | B14: maxThinRoundTubeThicknessToODRatio | C14: 0.15 | D14: - | E14: 0.15 | F14: - | G14: 0.15 | H14: - | I14: 0.15 | J14: - | K14: 0.15 | L14: Added | M14: 0.5 | N14: - | O14: 0.5 | P14: - | Q14: 0.5 | S14: If the ratio of tube wall thickness to tube outer diameter is less than or equal to this value, aPriori will choose Round Tube stock form over Round Bar.
A15: 11 | B15: mediumRoundTubeMinIDFactor | C15: 0.8 | D15: - | E15: 0.8 | F15: - | G15: 0.8 | H15: - | I15: 0.8 | J15: - | K15: 0.8 | L15: - | M15: 0.8 | N15: - | O15: 0.8 | P15: - | Q15: 0.8
A16: 12 | B16: mediumRoundTubeMinIDIntercept | C16: 14 | D16: - | E16: 14 | F16: - | G16: 14 | H16: - | I16: 14 | J16: - | K16: 14 | L16: - | M16: 14 | N16: - | O16: 14 | P16: - | Q16: 14
A17: 13 | B17: minCADTolerance | C17: 0.254 | D17: - | E17: 0.254 | F17: - | G17: 0.254 | H17: - | I17: 0.254 | J17: - | K17: 0.254 | L17: - | M17: 0.254 | N17: - | O17: 0.254 | P17: - | Q17: 0.254
A18: 14 | B18: roughnessDefault | C18: 1.6 | D18: - | E18: 1.6 | F18: - | G18: 1.6 | H18: - | I18: 1.6 | J18: - | K18: 1.6 | L18: - | M18: 1.6 | N18: - | O18: 1.6 | P18: - | Q18: 1.6
A19: 15 | B19: sourceComponentForTwoModel | C19: FALSE | D19: - | E19: FALSE | F19: - | G19: FALSE | H19: - | I19: FALSE | J19: - | K19: FALSE | L19: - | M19: FALSE | N19: - | O19: FALSE | P19: - | Q19: FALSE
A20: 16 | B20: thickRoundTubeMaxWallThickness | C20: 25.4 | D20: - | E20: 25.4 | F20: - | G20: 25.4 | H20: - | I20: 25.4 | J20: - | K20: 25.4 | L20: - | M20: 25.4 | N20: - | O20: 25.4 | P20: - | Q20: 25.4
A21: 17 | B21: toleranceDefault | C21: 7 | D21: - | E21: 7 | F21: - | G21: 7 | H21: - | I21: 7 | J21: - | K21: 7 | L21: - | M21: 7 | N21: - | O21: 7 | P21: - | Q21: 7
B23: See the README tab for more information.

Sheet Casting
A1: ID | B1: Site Variable | C1: Total Deltas | D1: CMV 100 (23.1.0) Value | E1: Same CMV | F1: CMV 100 (22.1.1) Value | G1: Same CMV | H1: CMV 100 (22.1.0) Value | I1: Delta from CMV 90 to CMV 100 | J1: CMV 90 (21.1.2) Value | K1: Same CMV | L1: CMV 90 (21.1.1) Value | M1: Same CMV | N1: CMV 90 (21.1.0) Value | O1: Same CMV | P1: CMV 90 (20.1.2) Value | Q1: Same CMV | R1: CMV 90 (20.1.1) Value | S1: Same CMV | T1: CMV 90 (20.1.0) Value | U1: Comments | V1: ID | W1: 23.1.0 Name | X1: 23.1.0 Type | Y1: 23.1.0 Value | Z1: 23.1.0 Unit Type Name | AA1: 23.1.0 Unit | AB1: 23.1.0 Notes | AC1: 23.1.0 Name Diff | AD1: 23.1.0 Value Diff | AE1: 23.1.0 Note Diff | AF1: 23.1.0 CMV Update Notes | AG1: 22.1.1 Name | AH1: 22.1.1 Type | AI1: 22.1.1 Value | AJ1: 22.1.1 Unit Type Name | AK1: 22.1.1 Unit | AL1: 22.1.1 Notes | AM1: 22.1.1 Name Diff | AN1: 22.1.1 Value Diff | AO1: 22.1.1 Note Diff | AP1: 22.1.1 CMV Update Notes | AQ1: 22.1.0 Name | AR1: 22.1.0 Type | AS1: 22.1.0 Value | AT1: 22.1.0 Unit Type Name | AU1: 22.1.0 Unit | AV1: 22.1.0 Notes | AW1: 22.1.0 Name Diff | AX1: 22.1.0 Value Diff | AY1: 22.1.0 Note Diff | AZ1: 22.1.0 CMV Update Notes | BA1: 21.1.2 Name | BB1: 21.1.2 Type | BC1: 21.1.2 Value | BD1: 21.1.2 Unit Type Name | BE1: 21.1.2 Unit | BF1: 21.1.2 Notes | BG1: 21.1.2 Name Diff | BH1: 21.1.2 Value Diff | BI1: 21.1.2 Note Diff | BJ1: 21.1.2 CMV Update Notes | BK1: 21.1.1 Name | BL1: 21.1.1 Type | BM1: 21.1.1 Value | BN1: 21.1.1 Unit Type Name | BO1: 21.1.1 Unit | BP1: 21.1.1 Notes | BQ1: 21.1.1 Name Diff | BR1: 21.1.1 Value Diff | BS1: 21.1.1 Note Diff | BT1: 21.1.1 CMV Update Notes | BU1: 21.1.0 Name | BV1: 21.1.0 Type | BW1: 21.1.0 Value | BX1: 21.1.0 Unit Type Name | BY1: 21.1.0 Unit | BZ1: 21.1.0 Notes | CA1: 21.1.0 Name Diff | CB1: 21.1.0 Value Diff | CC1: 21.1.0 Note Diff | CD1: 21.1.0 CMV Update Notes | CE1: 20.1.2 Name | CF1: 20.1.2 Type | CG1: 20.1.2 Value | CH1: 20.1.2 Unit Type Name | CI1: 20.1.2 Unit | CJ1: 20.1.2 Notes | CK1: 20.1.2 Name Diff | CL1: 20.1.2 Value Diff | CM1: 20.1.2 Note Diff | CN1: 20.1.2 CMV Update Notes | CO1: 20.1.1 Name | CP1: 20.1.1 Type | CQ1: 20.1.1 Value | CR1: 20.1.1 Unit Type Name | CS1: 20.1.1 Unit | CT1: 20.1.1 Notes | CU1: 20.1.1 Name Diff | CV1: 20.1.1 Value Diff | CW1: 20.1.1 Note Diff | CX1: 20.1.1 CMV Update Notes | CY1: 20.1.0 Name | CZ1: 20.1.0 Type | DA1: 20.1.0 Value | DB1: 20.1.0 Unit Type Name | DC1: 20.1.0 Unit | DD1: 20.1.0 Notes
A2: 1 | B2: =IF(W2>0,W2,IF(AG2>0,AG2,IF(AQ2>0,AQ2,IF(BA2>0,BA2,IF(BK2>0,BK2,IF(BU2>0,BU2,IF(CE2>0,CE2,IF(CO2>0,CO2,IF(CY2>0,CY2,"fix"))))))))) -> castThicknessAlgorithm | C2: =SUM(AC2:AE2,AM2:AO2,AW2:AY2,BG2:BI2,BQ2:BS2,CA2:CC2,CK2:CM2,CU2:CW2) -> 3 | D2: =Y2 -> Voxel-Based | E2: =IF(AF2>0,AF2,"-") -> - | F2: =AI2 -> Voxel-Based | G2: =IF(AP2>0,AP2,"-") -> - | H2: =AS2 -> Voxel-Based | I2: =IF(AZ2>0,AZ2,"-") -> Added | J2: =BC2 -> 0 | K2: =IF(BJ2>0,BJ2,"-") -> - | L2: =BM2 -> 0 | M2: =IF(BT2>0,BT2,"-") -> - | N2: =BW2 -> 0 | O2: =IF(CD2>0,CD2,"-") -> - | P2: =CG2 -> 0 | Q2: =IF(CN2>0,CN2,"-") -> - | R2: =CQ2 -> 0 | S2: =IF(CV2>0,CV2,"-") -> - | T2: =DA2 -> 0 | V2: =A2 -> 1 | W2: castThicknessAlgorithm | X2: CastThicknessAlgorithm | Y2: Voxel-Based | AB2: Possible values 'Voxel-Based' (default as of aP 2021 R2 baselines) or 'Legacy Voxel-Based' (earlier algorithm). | AC2: =IF(W2=AG2,0,1) -> 0 | AD2: =IF(Y2=AI2,0,1) -> 0 | AE2: =IF(AB2=AL2,0,1) -> 0 | AG2: castThicknessAlgorithm | AH2: CastThicknessAlgorithm | AI2: Voxel-Based | AL2: Possible values 'Voxel-Based' (default as of aP 2021 R2 baselines) or 'Legacy Voxel-Based' (earlier algorithm). | AM2: =IF(AG2=AQ2,0,1) -> 0 | AN2: =IF(AI2=AS2,0,1) -> 0 | AO2: =IF(AL2=AV2,0,1) -> 0 | AQ2: castThicknessAlgorithm | AR2: CastThicknessAlgorithm | AS2: Voxel-Based | AV2: Possible values 'Voxel-Based' (default as of aP 2021 R2 baselines) or 'Legacy Voxel-Based' (earlier algorithm). | AW2: =IF(AQ2=BA2,0,1) -> 1 | AX2: =IF(AS2=BC2,0,1) -> 1 | AY2: =IF(AV2=BF2,0,1) -> 1 | AZ2: Added | BG2: =IF(BA2=BK2,0,1) -> 0 | BH2: =IF(BC2=BM2,0,1) -> 0 | BI2: =IF(BF2=BP2,0,1) -> 0 | BQ2: =IF(BK2=BU2,0,1) -> 0 | BR2: =IF(BM2=BW2,0,1) -> 0 | BS2: =IF(BP2=BZ2,0,1) -> 0 | CA2: =IF(BU2=CE2,0,1) -> 0 | CB2: =IF(BW2=CG2,0,1) -> 0 | CC2: =IF(BZ2=CJ2,0,1) -> 0 | CK2: =IF(CE2=CO2,0,1) -> 0 | CL2: =IF(CG2=CQ2,0,1) -> 0 | CM2: =IF(CJ2=CT2,0,1) -> 0 | CU2: =IF(CO2=CY2,0,1) -> 0 | CV2: =IF(CQ2=DA2,0,1) -> 0 | CW2: =IF(CT2=DD2,0,1) -> 0
A3: 2 | B3: =IF(W3>0,W3,IF(AG3>0,AG3,IF(AQ3>0,AQ3,IF(BA3>0,BA3,IF(BK3>0,BK3,IF(BU3>0,BU3,IF(CE3>0,CE3,IF(CO3>0,CO3,IF(CY3>0,CY3,"fix"))))))))) -> drawDirAccessibleSheetFactor | C3: =SUM(AC3:AE3,AM3:AO3,AW3:AY3,BG3:BI3,BQ3:BS3,CA3:CC3,CK3:CM3,CU3:CW3) -> 1 | D3: =Y3 -> 0 | E3: =IF(AF3>0,AF3,"-") -> New Note | F3: =AI3 -> 0 | G3: =IF(AP3>0,AP3,"-") -> - | H3: =AS3 -> 0 | I3: =IF(AZ3>0,AZ3,"-") -> - | J3: =BC3 -> 0 | K3: =IF(BJ3>0,BJ3,"-") -> - | L3: =BM3 -> 0 | M3: =IF(BT3>0,BT3,"-") -> - | N3: =BW3 -> 0 | O3: =IF(CD3>0,CD3,"-") -> - | P3: =CG3 -> 0 | Q3: =IF(CN3>0,CN3,"-") -> - | R3: =CQ3 -> 0 | S3: =IF(CV3>0,CV3,"-") -> - | T3: =DA3 -> 0 | V3: =A3 -> 2 | W3: drawDirAccessibleSheetFactor | X3: Double | Y3: 0 | AB3: The weight coefficient for the ratio of sheet area accessible from the draw direction candidate to total area of this sheet. | AC3: =IF(W3=AG3,0,1) -> 0 | AD3: =IF(Y3=AI3,0,1) -> 0 | AE3: =IF(AB3=AL3,0,1) -> 1 | AF3: New Note | AG3: drawDirAccessibleSheetFactor | AH3: Double | AI3: 0 | AM3: =IF(AG3=AQ3,0,1) -> 0 | AN3: =IF(AI3=AS3,0,1) -> 0 | AO3: =IF(AL3=AV3,0,1) -> 0 | AQ3: drawDirAccessibleSheetFactor | AR3: Double | AS3: 0 | AW3: =IF(AQ3=BA3,0,1) -> 0 | AX3: =IF(AS3=BC3,0,1) -> 0 | AY3: =IF(AV3=BF3,0,1) -> 0 | BA3: drawDirAccessibleSheetFactor | BB3: Double | BC3: 0 | BG3: =IF(BA3=BK3,0,1) -> 0 | BH3: =IF(BC3=BM3,0,1) -> 0 | BI3: =IF(BF3=BP3,0,1) -> 0 | BK3: drawDirAccessibleSheetFactor | BL3: Double | BM3: 0 | BQ3: =IF(BK3=BU3,0,1) -> 0 | BR3: =IF(BM3=BW3,0,1) -> 0 | BS3: =IF(BP3=BZ3,0,1) -> 0 | BU3: drawDirAccessibleSheetFactor | BV3: Double | BW3: 0 | CA3: =IF(BU3=CE3,0,1) -> 0 | CB3: =IF(BW3=CG3,0,1) -> 0 | CC3: =IF(BZ3=CJ3,0,1) -> 0 | CE3: drawDirAccessibleSheetFactor | CF3: Double | CG3: 0 | CK3: =IF(CE3=CO3,0,1) -> 0 | CL3: =IF(CG3=CQ3,0,1) -> 0 | CM3: =IF(CJ3=CT3,0,1) -> 0 | CO3: drawDirAccessibleSheetFactor | CP3: Double | CQ3: 0 | CU3: =IF(CO3=CY3,0,1) -> 0 | CV3: =IF(CQ3=DA3,0,1) -> 0 | CW3: =IF(CT3=DD3,0,1) -> 0 | CY3: drawDirAccessibleSheetFactor | CZ3: Double | DA3: 0
A4: 3 | B4: =IF(W4>0,W4,IF(AG4>0,AG4,IF(AQ4>0,AQ4,IF(BA4>0,BA4,IF(BK4>0,BK4,IF(BU4>0,BU4,IF(CE4>0,CE4,IF(CO4>0,CO4,IF(CY4>0,CY4,"fix"))))))))) -> drawDirAnalyzeRibs | C4: =SUM(AC4:AE4,AM4:AO4,AW4:AY4,BG4:BI4,BQ4:BS4,CA4:CC4,CK4:CM4,CU4:CW4) -> 1 | D4: =Y4 -> FALSE | E4: =IF(AF4>0,AF4,"-") -> New Note | F4: =AI4 -> FALSE | G4: =IF(AP4>0,AP4,"-") -> - | H4: =AS4 -> FALSE | I4: =IF(AZ4>0,AZ4,"-") -> - | J4: =BC4 -> FALSE | K4: =IF(BJ4>0,BJ4,"-") -> - | L4: =BM4 -> FALSE | M4: =IF(BT4>0,BT4,"-") -> - | N4: =BW4 -> FALSE | O4: =IF(CD4>0,CD4,"-") -> - | P4: =CG4 -> FALSE | Q4: =IF(CN4>0,CN4,"-") -> - | R4: =CQ4 -> FALSE | S4: =IF(CV4>0,CV4,"-") -> - | T4: =DA4 -> FALSE | V4: =A4 -> 3 | W4: drawDirAnalyzeRibs | X4: Boolean | Y4: FALSE | AB4: If true, ribs are analyzed during draw direction computation. | AC4: =IF(W4=AG4,0,1) -> 0 | AD4: =IF(Y4=AI4,0,1) -> 0 | AE4: =IF(AB4=AL4,0,1) -> 1 | AF4: New Note | AG4: drawDirAnalyzeRibs | AH4: Boolean | AI4: FALSE | AM4: =IF(AG4=AQ4,0,1) -> 0 | AN4: =IF(AI4=AS4,0,1) -> 0 | AO4: =IF(AL4=AV4,0,1) -> 0 | AQ4: drawDirAnalyzeRibs | AR4: Boolean | AS4: FALSE | AW4: =IF(AQ4=BA4,0,1) -> 0 | AX4: =IF(AS4=BC4,0,1) -> 0 | AY4: =IF(AV4=BF4,0,1) -> 0 | BA4: drawDirAnalyzeRibs | BB4: Boolean | BC4: FALSE | BG4: =IF(BA4=BK4,0,1) -> 0 | BH4: =IF(BC4=BM4,0,1) -> 0 | BI4: =IF(BF4=BP4,0,1) -> 0 | BK4: drawDirAnalyzeRibs | BL4: Boolean | BM4: FALSE | BQ4: =IF(BK4=BU4,0,1) -> 0 | BR4: =IF(BM4=BW4,0,1) -> 0 | BS4: =IF(BP4=BZ4,0,1) -> 0 | BU4: drawDirAnalyzeRibs | BV4: Boolean | BW4: FALSE | CA4: =IF(BU4=CE4,0,1) -> 0 | CB4: =IF(BW4=CG4,0,1) -> 0 | CC4: =IF(BZ4=CJ4,0,1) -> 0 | CE4: drawDirAnalyzeRibs | CF4: Boolean | CG4: FALSE | CK4: =IF(CE4=CO4,0,1) -> 0 | CL4: =IF(CG4=CQ4,0,1) -> 0 | CM4: =IF(CJ4=CT4,0,1) -> 0 | CO4: drawDirAnalyzeRibs | CP4: Boolean | CQ4: FALSE | CU4: =IF(CO4=CY4,0,1) -> 0 | CV4: =IF(CQ4=DA4,0,1) -> 0 | CW4: =IF(CT4=DD4,0,1) -> 0 | CY4: drawDirAnalyzeRibs | CZ4: Boolean | DA4: FALSE
A5: 4 | B5: =IF(W5>0,W5,IF(AG5>0,AG5,IF(AQ5>0,AQ5,IF(BA5>0,BA5,IF(BK5>0,BK5,IF(BU5>0,BU5,IF(CE5>0,CE5,IF(CO5>0,CO5,IF(CY5>0,CY5,"fix"))))))))) -> drawDirAxisShareFactor | C5: =SUM(AC5:AE5,AM5:AO5,AW5:AY5,BG5:BI5,BQ5:BS5,CA5:CC5,CK5:CM5,CU5:CW5) -> 1 | D5: =Y5 -> 0.03 | E5: =IF(AF5>0,AF5,"-") -> New Note | F5: =AI5 -> 0.03 | G5: =IF(AP5>0,AP5,"-") -> - | H5: =AS5 -> 0.03 | I5: =IF(AZ5>0,AZ5,"-") -> - | J5: =BC5 -> 0.03 | K5: =IF(BJ5>0,BJ5,"-") -> - | L5: =BM5 -> 0.03 | M5: =IF(BT5>0,BT5,"-") -> - | N5: =BW5 -> 0.03 | O5: =IF(CD5>0,CD5,"-") -> - | P5: =CG5 -> 0.03 | Q5: =IF(CN5>0,CN5,"-") -> - | R5: =CQ5 -> 0.03 | S5: =IF(CV5>0,CV5,"-") -> - | T5: =DA5 -> 0.03 | V5: =A5 -> 4 | W5: drawDirAxisShareFactor | X5: Double | Y5: 0.03 | AB5: The weight coefficient for the ratio between number of holes aligned with the draw direction candidate and total number of holes. | AC5: =IF(W5=AG5,0,1) -> 0 | AD5: =IF(Y5=AI5,0,1) -> 0 | AE5: =IF(AB5=AL5,0,1) -> 1 | AF5: New Note | AG5: drawDirAxisShareFactor | AH5: Double | AI5: 0.03 | AM5: =IF(AG5=AQ5,0,1) -> 0 | AN5: =IF(AI5=AS5,0,1) -> 0 | AO5: =IF(AL5=AV5,0,1) -> 0 | AQ5: drawDirAxisShareFactor | AR5: Double | AS5: 0.03 | AW5: =IF(AQ5=BA5,0,1) -> 0 | AX5: =IF(AS5=BC5,0,1) -> 0 | AY5: =IF(AV5=BF5,0,1) -> 0 | BA5: drawDirAxisShareFactor | BB5: Double | BC5: 0.03 | BG5: =IF(BA5=BK5,0,1) -> 0 | BH5: =IF(BC5=BM5,0,1) -> 0 | BI5: =IF(BF5=BP5,0,1) -> 0 | BK5: drawDirAxisShareFactor | BL5: Double | BM5: 0.03 | BQ5: =IF(BK5=BU5,0,1) -> 0 | BR5: =IF(BM5=BW5,0,1) -> 0 | BS5: =IF(BP5=BZ5,0,1) -> 0 | BU5: drawDirAxisShareFactor | BV5: Double | BW5: 0.03 | CA5: =IF(BU5=CE5,0,1) -> 0 | CB5: =IF(BW5=CG5,0,1) -> 0 | CC5: =IF(BZ5=CJ5,0,1) -> 0 | CE5: drawDirAxisShareFactor | CF5: Double | CG5: 0.03 | CK5: =IF(CE5=CO5,0,1) -> 0 | CL5: =IF(CG5=CQ5,0,1) -> 0 | CM5: =IF(CJ5=CT5,0,1) -> 0 | CO5: drawDirAxisShareFactor | CP5: Double | CQ5: 0.03 | CU5: =IF(CO5=CY5,0,1) -> 0 | CV5: =IF(CQ5=DA5,0,1) -> 0 | CW5: =IF(CT5=DD5,0,1) -> 0 | CY5: drawDirAxisShareFactor | CZ5: Double | DA5: 0.03
A6: 5 | B6: =IF(W6>0,W6,IF(AG6>0,AG6,IF(AQ6>0,AQ6,IF(BA6>0,BA6,IF(BK6>0,BK6,IF(BU6>0,BU6,IF(CE6>0,CE6,IF(CO6>0,CO6,IF(CY6>0,CY6,"fix"))))))))) -> drawDirBoxHeightFactor | C6: =SUM(AC6:AE6,AM6:AO6,AW6:AY6,BG6:BI6,BQ6:BS6,CA6:CC6,CK6:CM6,CU6:CW6) -> 1 | D6: =Y6 -> 0.4 | E6: =IF(AF6>0,AF6,"-") -> New Note | F6: =AI6 -> 0.4 | G6: =IF(AP6>0,AP6,"-") -> - | H6: =AS6 -> 0.4 | I6: =IF(AZ6>0,AZ6,"-") -> - | J6: =BC6 -> 0.4 | K6: =IF(BJ6>0,BJ6,"-") -> - | L6: =BM6 -> 0.4 | M6: =IF(BT6>0,BT6,"-") -> - | N6: =BW6 -> 0.4 | O6: =IF(CD6>0,CD6,"-") -> - | P6: =CG6 -> 0.4 | Q6: =IF(CN6>0,CN6,"-") -> - | R6: =CQ6 -> 0.4 | S6: =IF(CV6>0,CV6,"-") -> - | T6: =DA6 -> 0.4 | V6: =A6 -> 5 | W6: drawDirBoxHeightFactor | X6: Double | Y6: 0.4 | AB6: The weight coefficient for draw direction computation based on dimensions of part bounding box aligned with the draw direction candidate. | AC6: =IF(W6=AG6,0,1) -> 0 | AD6: =IF(Y6=AI6,0,1) -> 0 | AE6: =IF(AB6=AL6,0,1) -> 1 | AF6: New Note | AG6: drawDirBoxHeightFactor | AH6: Double | AI6: 0.4 | AM6: =IF(AG6=AQ6,0,1) -> 0 | AN6: =IF(AI6=AS6,0,1) -> 0 | AO6: =IF(AL6=AV6,0,1) -> 0 | AQ6: drawDirBoxHeightFactor | AR6: Double | AS6: 0.4 | AW6: =IF(AQ6=BA6,0,1) -> 0 | AX6: =IF(AS6=BC6,0,1) -> 0 | AY6: =IF(AV6=BF6,0,1) -> 0 | BA6: drawDirBoxHeightFactor | BB6: Double | BC6: 0.4 | BG6: =IF(BA6=BK6,0,1) -> 0 | BH6: =IF(BC6=BM6,0,1) -> 0 | BI6: =IF(BF6=BP6,0,1) -> 0 | BK6: drawDirBoxHeightFactor | BL6: Double | BM6: 0.4 | BQ6: =IF(BK6=BU6,0,1) -> 0 | BR6: =IF(BM6=BW6,0,1) -> 0 | BS6: =IF(BP6=BZ6,0,1) -> 0 | BU6: drawDirBoxHeightFactor | BV6: Double | BW6: 0.4 | CA6: =IF(BU6=CE6,0,1) -> 0 | CB6: =IF(BW6=CG6,0,1) -> 0 | CC6: =IF(BZ6=CJ6,0,1) -> 0 | CE6: drawDirBoxHeightFactor | CF6: Double | CG6: 0.4 | CK6: =IF(CE6=CO6,0,1) -> 0 | CL6: =IF(CG6=CQ6,0,1) -> 0 | CM6: =IF(CJ6=CT6,0,1) -> 0 | CO6: drawDirBoxHeightFactor | CP6: Double | CQ6: 0.4 | CU6: =IF(CO6=CY6,0,1) -> 0 | CV6: =IF(CQ6=DA6,0,1) -> 0 | CW6: =IF(CT6=DD6,0,1) -> 0 | CY6: drawDirBoxHeightFactor | CZ6: Double | DA6: 0.4
A7: 6 | B7: =IF(W7>0,W7,IF(AG7>0,AG7,IF(AQ7>0,AQ7,IF(BA7>0,BA7,IF(BK7>0,BK7,IF(BU7>0,BU7,IF(CE7>0,CE7,IF(CO7>0,CO7,IF(CY7>0,CY7,"fix"))))))))) -> drawDirFlatPartingLineWeight | C7: =SUM(AC7:AE7,AM7:AO7,AW7:AY7,BG7:BI7,BQ7:BS7,CA7:CC7,CK7:CM7,CU7:CW7) -> 1 | D7: =Y7 -> 0.4 | E7: =IF(AF7>0,AF7,"-") -> New Note | F7: =AI7 -> 0.4 | G7: =IF(AP7>0,AP7,"-") -> - | H7: =AS7 -> 0.4 | I7: =IF(AZ7>0,AZ7,"-") -> - | J7: =BC7 -> 0.4 | K7: =IF(BJ7>0,BJ7,"-") -> - | L7: =BM7 -> 0.4 | M7: =IF(BT7>0,BT7,"-") -> - | N7: =BW7 -> 0.4 | O7: =IF(CD7>0,CD7,"-") -> - | P7: =CG7 -> 0.4 | Q7: =IF(CN7>0,CN7,"-") -> - | R7: =CQ7 -> 0.4 | S7: =IF(CV7>0,CV7,"-") -> - | T7: =DA7 -> 0.4 | V7: =A7 -> 6 | W7: drawDirFlatPartingLineWeight | X7: Double | Y7: 0.4 | AB7: Parting line flatness rating weight if parting line height for the draw direction candidate is negligible. | AC7: =IF(W7=AG7,0,1) -> 0 | AD7: =IF(Y7=AI7,0,1) -> 0 | AE7: =IF(AB7=AL7,0,1) -> 1 | AF7: New Note | AG7: drawDirFlatPartingLineWeight | AH7: Double | AI7: 0.4 | AM7: =IF(AG7=AQ7,0,1) -> 0 | AN7: =IF(AI7=AS7,0,1) -> 0 | AO7: =IF(AL7=AV7,0,1) -> 0 | AQ7: drawDirFlatPartingLineWeight | AR7: Double | AS7: 0.4 | AW7: =IF(AQ7=BA7,0,1) -> 0 | AX7: =IF(AS7=BC7,0,1) -> 0 | AY7: =IF(AV7=BF7,0,1) -> 0 | BA7: drawDirFlatPartingLineWeight | BB7: Double | BC7: 0.4 | BG7: =IF(BA7=BK7,0,1) -> 0 | BH7: =IF(BC7=BM7,0,1) -> 0 | BI7: =IF(BF7=BP7,0,1) -> 0 | BK7: drawDirFlatPartingLineWeight | BL7: Double | BM7: 0.4 | BQ7: =IF(BK7=BU7,0,1) -> 0 | BR7: =IF(BM7=BW7,0,1) -> 0 | BS7: =IF(BP7=BZ7,0,1) -> 0 | BU7: drawDirFlatPartingLineWeight | BV7: Double | BW7: 0.4 | CA7: =IF(BU7=CE7,0,1) -> 0 | CB7: =IF(BW7=CG7,0,1) -> 0 | CC7: =IF(BZ7=CJ7,0,1) -> 0 | CE7: drawDirFlatPartingLineWeight | CF7: Double | CG7: 0.4 | CK7: =IF(CE7=CO7,0,1) -> 0 | CL7: =IF(CG7=CQ7,0,1) -> 0 | CM7: =IF(CJ7=CT7,0,1) -> 0 | CO7: drawDirFlatPartingLineWeight | CP7: Double | CQ7: 0.4 | CU7: =IF(CO7=CY7,0,1) -> 0 | CV7: =IF(CQ7=DA7,0,1) -> 0 | CW7: =IF(CT7=DD7,0,1) -> 0 | CY7: drawDirFlatPartingLineWeight | CZ7: Double | DA7: 0.4
A8: 7 | B8: =IF(W8>0,W8,IF(AG8>0,AG8,IF(AQ8>0,AQ8,IF(BA8>0,BA8,IF(BK8>0,BK8,IF(BU8>0,BU8,IF(CE8>0,CE8,IF(CO8>0,CO8,IF(CY8>0,CY8,"fix"))))))))) -> drawDirGrillFactor | C8: =SUM(AC8:AE8,AM8:AO8,AW8:AY8,BG8:BI8,BQ8:BS8,CA8:CC8,CK8:CM8,CU8:CW8) -> 1 | D8: =Y8 -> 1 | E8: =IF(AF8>0,AF8,"-") -> New Note | F8: =AI8 -> 1 | G8: =IF(AP8>0,AP8,"-") -> - | H8: =AS8 -> 1 | I8: =IF(AZ8>0,AZ8,"-") -> - | J8: =BC8 -> 1 | K8: =IF(BJ8>0,BJ8,"-") -> - | L8: =BM8 -> 1 | M8: =IF(BT8>0,BT8,"-") -> - | N8: =BW8 -> 1 | O8: =IF(CD8>0,CD8,"-") -> - | P8: =CG8 -> 1 | Q8: =IF(CN8>0,CN8,"-") -> - | R8: =CQ8 -> 1 | S8: =IF(CV8>0,CV8,"-") -> - | T8: =DA8 -> 1 | V8: =A8 -> 7 | W8: drawDirGrillFactor | X8: Double | Y8: 1 | AB8: The weight coefficient for draw direction computation based on number of honeycomb cells aligned with the draw direction candidate in relation with the number of all honeycomb cells. | AC8: =IF(W8=AG8,0,1) -> 0 | AD8: =IF(Y8=AI8,0,1) -> 0 | AE8: =IF(AB8=AL8,0,1) -> 1 | AF8: New Note | AG8: drawDirGrillFactor | AH8: Double | AI8: 1 | AM8: =IF(AG8=AQ8,0,1) -> 0 | AN8: =IF(AI8=AS8,0,1) -> 0 | AO8: =IF(AL8=AV8,0,1) -> 0 | AQ8: drawDirGrillFactor | AR8: Double | AS8: 1 | AW8: =IF(AQ8=BA8,0,1) -> 0 | AX8: =IF(AS8=BC8,0,1) -> 0 | AY8: =IF(AV8=BF8,0,1) -> 0 | BA8: drawDirGrillFactor | BB8: Double | BC8: 1 | BG8: =IF(BA8=BK8,0,1) -> 0 | BH8: =IF(BC8=BM8,0,1) -> 0 | BI8: =IF(BF8=BP8,0,1) -> 0 | BK8: drawDirGrillFactor | BL8: Double | BM8: 1 | BQ8: =IF(BK8=BU8,0,1) -> 0 | BR8: =IF(BM8=BW8,0,1) -> 0 | BS8: =IF(BP8=BZ8,0,1) -> 0 | BU8: drawDirGrillFactor | BV8: Double | BW8: 1 | CA8: =IF(BU8=CE8,0,1) -> 0 | CB8: =IF(BW8=CG8,0,1) -> 0 | CC8: =IF(BZ8=CJ8,0,1) -> 0 | CE8: drawDirGrillFactor | CF8: Double | CG8: 1 | CK8: =IF(CE8=CO8,0,1) -> 0 | CL8: =IF(CG8=CQ8,0,1) -> 0 | CM8: =IF(CJ8=CT8,0,1) -> 0 | CO8: drawDirGrillFactor | CP8: Double | CQ8: 1 | CU8: =IF(CO8=CY8,0,1) -> 0 | CV8: =IF(CQ8=DA8,0,1) -> 0 | CW8: =IF(CT8=DD8,0,1) -> 0 | CY8: drawDirGrillFactor | CZ8: Double | DA8: 1
A9: 8 | B9: =IF(W9>0,W9,IF(AG9>0,AG9,IF(AQ9>0,AQ9,IF(BA9>0,BA9,IF(BK9>0,BK9,IF(BU9>0,BU9,IF(CE9>0,CE9,IF(CO9>0,CO9,IF(CY9>0,CY9,"fix"))))))))) -> drawDirIgnoreSimilarVoidVolume | C9: =SUM(AC9:AE9,AM9:AO9,AW9:AY9,BG9:BI9,BQ9:BS9,CA9:CC9,CK9:CM9,CU9:CW9) -> 1 | D9: =Y9 -> FALSE | E9: =IF(AF9>0,AF9,"-") -> New Note | F9: =AI9 -> FALSE | G9: =IF(AP9>0,AP9,"-") -> - | H9: =AS9 -> FALSE | I9: =IF(AZ9>0,AZ9,"-") -> - | J9: =BC9 -> FALSE | K9: =IF(BJ9>0,BJ9,"-") -> - | L9: =BM9 -> FALSE | M9: =IF(BT9>0,BT9,"-") -> - | N9: =BW9 -> FALSE | O9: =IF(CD9>0,CD9,"-") -> - | P9: =CG9 -> FALSE | Q9: =IF(CN9>0,CN9,"-") -> - | R9: =CQ9 -> FALSE | S9: =IF(CV9>0,CV9,"-") -> - | T9: =DA9 -> FALSE | V9: =A9 -> 8 | W9: drawDirIgnoreSimilarVoidVolume | X9: Boolean | Y9: FALSE | AB9: If true, number of misaligned undercuts impacts on draw direction computation. | AC9: =IF(W9=AG9,0,1) -> 0 | AD9: =IF(Y9=AI9,0,1) -> 0 | AE9: =IF(AB9=AL9,0,1) -> 1 | AF9: New Note | AG9: drawDirIgnoreSimilarVoidVolume | AH9: Boolean | AI9: FALSE | AM9: =IF(AG9=AQ9,0,1) -> 0 | AN9: =IF(AI9=AS9,0,1) -> 0 | AO9: =IF(AL9=AV9,0,1) -> 0 | AQ9: drawDirIgnoreSimilarVoidVolume | AR9: Boolean | AS9: FALSE | AW9: =IF(AQ9=BA9,0,1) -> 0 | AX9: =IF(AS9=BC9,0,1) -> 0 | AY9: =IF(AV9=BF9,0,1) -> 0 | BA9: drawDirIgnoreSimilarVoidVolume | BB9: Boolean | BC9: FALSE | BG9: =IF(BA9=BK9,0,1) -> 0 | BH9: =IF(BC9=BM9,0,1) -> 0 | BI9: =IF(BF9=BP9,0,1) -> 0 | BK9: drawDirIgnoreSimilarVoidVolume | BL9: Boolean | BM9: FALSE | BQ9: =IF(BK9=BU9,0,1) -> 0 | BR9: =IF(BM9=BW9,0,1) -> 0 | BS9: =IF(BP9=BZ9,0,1) -> 0 | BU9: drawDirIgnoreSimilarVoidVolume | BV9: Boolean | BW9: FALSE | CA9: =IF(BU9=CE9,0,1) -> 0 | CB9: =IF(BW9=CG9,0,1) -> 0 | CC9: =IF(BZ9=CJ9,0,1) -> 0 | CE9: drawDirIgnoreSimilarVoidVolume | CF9: Boolean | CG9: FALSE | CK9: =IF(CE9=CO9,0,1) -> 0 | CL9: =IF(CG9=CQ9,0,1) -> 0 | CM9: =IF(CJ9=CT9,0,1) -> 0 | CO9: drawDirIgnoreSimilarVoidVolume | CP9: Boolean | CQ9: FALSE | CU9: =IF(CO9=CY9,0,1) -> 0 | CV9: =IF(CQ9=DA9,0,1) -> 0 | CW9: =IF(CT9=DD9,0,1) -> 0 | CY9: drawDirIgnoreSimilarVoidVolume | CZ9: Boolean | DA9: FALSE
A10: 9 | B10: =IF(W10>0,W10,IF(AG10>0,AG10,IF(AQ10>0,AQ10,IF(BA10>0,BA10,IF(BK10>0,BK10,IF(BU10>0,BU10,IF(CE10>0,CE10,IF(CO10>0,CO10,IF(CY10>0,CY10,"fix"))))))))) -> drawDirMaxFlatPartingLineToBoxHeightRatio | C10: =SUM(AC10:AE10,AM10:AO10,AW10:AY10,BG10:BI10,BQ10:BS10,CA10:CC10,CK10:CM10,CU10:CW10) -> 1 | D10: =Y10 -> 0.1 | E10: =IF(AF10>0,AF10,"-") -> New Note | F10: =AI10 -> 0.1 | G10: =IF(AP10>0,AP10,"-") -> - | H10: =AS10 -> 0.1 | I10: =IF(AZ10>0,AZ10,"-") -> - | J10: =BC10 -> 0.1 | K10: =IF(BJ10>0,BJ10,"-") -> - | L10: =BM10 -> 0.1 | M10: =IF(BT10>0,BT10,"-") -> - | N10: =BW10 -> 0.1 | O10: =IF(CD10>0,CD10,"-") -> - | P10: =CG10 -> 0.1 | Q10: =IF(CN10>0,CN10,"-") -> - | R10: =CQ10 -> 0.1 | S10: =IF(CV10>0,CV10,"-") -> - | T10: =DA10 -> 0.1 | V10: =A10 -> 9 | W10: drawDirMaxFlatPartingLineToBoxHeightRatio | X10: Double | Y10: 0.1 | AB10: If this value is greater than the ratio of the parting line height to the total part height along the draw direction candidate, then the parting line height is considered negligible. | AC10: =IF(W10=AG10,0,1) -> 0 | AD10: =IF(Y10=AI10,0,1) -> 0 | AE10: =IF(AB10=AL10,0,1) -> 1 | AF10: New Note | AG10: drawDirMaxFlatPartingLineToBoxHeightRatio | AH10: Double | AI10: 0.1 | AM10: =IF(AG10=AQ10,0,1) -> 0 | AN10: =IF(AI10=AS10,0,1) -> 0 | AO10: =IF(AL10=AV10,0,1) -> 0 | AQ10: drawDirMaxFlatPartingLineToBoxHeightRatio | AR10: Double | AS10: 0.1 | AW10: =IF(AQ10=BA10,0,1) -> 0 | AX10: =IF(AS10=BC10,0,1) -> 0 | AY10: =IF(AV10=BF10,0,1) -> 0 | BA10: drawDirMaxFlatPartingLineToBoxHeightRatio | BB10: Double | BC10: 0.1 | BG10: =IF(BA10=BK10,0,1) -> 0 | BH10: =IF(BC10=BM10,0,1) -> 0 | BI10: =IF(BF10=BP10,0,1) -> 0 | BK10: drawDirMaxFlatPartingLineToBoxHeightRatio | BL10: Double | BM10: 0.1 | BQ10: =IF(BK10=BU10,0,1) -> 0 | BR10: =IF(BM10=BW10,0,1) -> 0 | BS10: =IF(BP10=BZ10,0,1) -> 0 | BU10: drawDirMaxFlatPartingLineToBoxHeightRatio | BV10: Double | BW10: 0.1 | CA10: =IF(BU10=CE10,0,1) -> 0 | CB10: =IF(BW10=CG10,0,1) -> 0 | CC10: =IF(BZ10=CJ10,0,1) -> 0 | CE10: drawDirMaxFlatPartingLineToBoxHeightRatio | CF10: Double | CG10: 0.1 | CK10: =IF(CE10=CO10,0,1) -> 0 | CL10: =IF(CG10=CQ10,0,1) -> 0 | CM10: =IF(CJ10=CT10,0,1) -> 0 | CO10: drawDirMaxFlatPartingLineToBoxHeightRatio | CP10: Double | CQ10: 0.1 | CU10: =IF(CO10=CY10,0,1) -> 0 | CV10: =IF(CQ10=DA10,0,1) -> 0 | CW10: =IF(CT10=DD10,0,1) -> 0 | CY10: drawDirMaxFlatPartingLineToBoxHeightRatio | CZ10: Double | DA10: 0.1
A11: 10 | B11: =IF(W11>0,W11,IF(AG11>0,AG11,IF(AQ11>0,AQ11,IF(BA11>0,BA11,IF(BK11>0,BK11,IF(BU11>0,BU11,IF(CE11>0,CE11,IF(CO11>0,CO11,IF(CY11>0,CY11,"fix"))))))))) -> drawDirMaxNegligibleUndercutToPartVolumeRatio | C11: =SUM(AC11:AE11,AM11:AO11,AW11:AY11,BG11:BI11,BQ11:BS11,CA11:CC11,CK11:CM11,CU11:CW11) -> 1 | D11: =Y11 -> 1e-06 | E11: =IF(AF11>0,AF11,"-") -> New Note | F11: =AI11 -> 1e-06 | G11: =IF(AP11>0,AP11,"-") -> - | H11: =AS11 -> 1e-06 | I11: =IF(AZ11>0,AZ11,"-") -> - | J11: =BC11 -> 1e-06 | K11: =IF(BJ11>0,BJ11,"-") -> - | L11: =BM11 -> 1e-06 | M11: =IF(BT11>0,BT11,"-") -> - | N11: =BW11 -> 1e-06 | O11: =IF(CD11>0,CD11,"-") -> - | P11: =CG11 -> 1e-06 | Q11: =IF(CN11>0,CN11,"-") -> - | R11: =CQ11 -> 1e-06 | S11: =IF(CV11>0,CV11,"-") -> - | T11: =DA11 -> 1e-06 | V11: =A11 -> 10 | W11: drawDirMaxNegligibleUndercutToPartVolumeRatio | X11: Double | Y11: 1e-06 | AB11: If this value is greater than the ratio of the undercut volume for the draw direction candidate to the total part volume, then the undercut volume is considered negligible. | AC11: =IF(W11=AG11,0,1) -> 0 | AD11: =IF(Y11=AI11,0,1) -> 0 | AE11: =IF(AB11=AL11,0,1) -> 1 | AF11: New Note | AG11: drawDirMaxNegligibleUndercutToPartVolumeRatio | AH11: Double | AI11: 1e-06 | AM11: =IF(AG11=AQ11,0,1) -> 0 | AN11: =IF(AI11=AS11,0,1) -> 0 | AO11: =IF(AL11=AV11,0,1) -> 0 | AQ11: drawDirMaxNegligibleUndercutToPartVolumeRatio | AR11: Double | AS11: 1e-06 | AW11: =IF(AQ11=BA11,0,1) -> 0 | AX11: =IF(AS11=BC11,0,1) -> 0 | AY11: =IF(AV11=BF11,0,1) -> 0 | BA11: drawDirMaxNegligibleUndercutToPartVolumeRatio | BB11: Double | BC11: 1e-06 | BG11: =IF(BA11=BK11,0,1) -> 0 | BH11: =IF(BC11=BM11,0,1) -> 0 | BI11: =IF(BF11=BP11,0,1) -> 0 | BK11: drawDirMaxNegligibleUndercutToPartVolumeRatio | BL11: Double | BM11: 1e-06 | BQ11: =IF(BK11=BU11,0,1) -> 0 | BR11: =IF(BM11=BW11,0,1) -> 0 | BS11: =IF(BP11=BZ11,0,1) -> 0 | BU11: drawDirMaxNegligibleUndercutToPartVolumeRatio | BV11: Double | BW11: 1e-06 | CA11: =IF(BU11=CE11,0,1) -> 0 | CB11: =IF(BW11=CG11,0,1) -> 0 | CC11: =IF(BZ11=CJ11,0,1) -> 0 | CE11: drawDirMaxNegligibleUndercutToPartVolumeRatio | CF11: Double | CG11: 1e-06 | CK11: =IF(CE11=CO11,0,1) -> 0 | CL11: =IF(CG11=CQ11,0,1) -> 0 | CM11: =IF(CJ11=CT11,0,1) -> 0 | CO11: drawDirMaxNegligibleUndercutToPartVolumeRatio | CP11: Double | CQ11: 1e-06 | CU11: =IF(CO11=CY11,0,1) -> 0 | CV11: =IF(CQ11=DA11,0,1) -> 0 | CW11: =IF(CT11=DD11,0,1) -> 0 | CY11: drawDirMaxNegligibleUndercutToPartVolumeRatio | CZ11: Double | DA11: 1e-06
A12: 11 | B12: =IF(W12>0,W12,IF(AG12>0,AG12,IF(AQ12>0,AQ12,IF(BA12>0,BA12,IF(BK12>0,BK12,IF(BU12>0,BU12,IF(CE12>0,CE12,IF(CO12>0,CO12,IF(CY12>0,CY12,"fix"))))))))) -> drawDirMaxRayDirs | C12: =SUM(AC12:AE12,AM12:AO12,AW12:AY12,BG12:BI12,BQ12:BS12,CA12:CC12,CK12:CM12,CU12:CW12) -> 1 | D12: =Y12 -> 20 | E12: =IF(AF12>0,AF12,"-") -> New Note | F12: =AI12 -> 20 | G12: =IF(AP12>0,AP12,"-") -> - | H12: =AS12 -> 20 | I12: =IF(AZ12>0,AZ12,"-") -> - | J12: =BC12 -> 20 | K12: =IF(BJ12>0,BJ12,"-") -> - | L12: =BM12 -> 20 | M12: =IF(BT12>0,BT12,"-") -> - | N12: =BW12 -> 20 | O12: =IF(CD12>0,CD12,"-") -> - | P12: =CG12 -> 20 | Q12: =IF(CN12>0,CN12,"-") -> - | R12: =CQ12 -> 20 | S12: =IF(CV12>0,CV12,"-") -> - | T12: =DA12 -> 20 | V12: =A12 -> 11 | W12: drawDirMaxRayDirs | X12: Integer | Y12: 20 | AB12: Maximum number of axes considered as draw direction candidate. | AC12: =IF(W12=AG12,0,1) -> 0 | AD12: =IF(Y12=AI12,0,1) -> 0 | AE12: =IF(AB12=AL12,0,1) -> 1 | AF12: New Note | AG12: drawDirMaxRayDirs | AH12: Integer | AI12: 20 | AM12: =IF(AG12=AQ12,0,1) -> 0 | AN12: =IF(AI12=AS12,0,1) -> 0 | AO12: =IF(AL12=AV12,0,1) -> 0 | AQ12: drawDirMaxRayDirs | AR12: Integer | AS12: 20 | AW12: =IF(AQ12=BA12,0,1) -> 0 | AX12: =IF(AS12=BC12,0,1) -> 0 | AY12: =IF(AV12=BF12,0,1) -> 0 | BA12: drawDirMaxRayDirs | BB12: Integer | BC12: 20 | BG12: =IF(BA12=BK12,0,1) -> 0 | BH12: =IF(BC12=BM12,0,1) -> 0 | BI12: =IF(BF12=BP12,0,1) -> 0 | BK12: drawDirMaxRayDirs | BL12: Integer | BM12: 20 | BQ12: =IF(BK12=BU12,0,1) -> 0 | BR12: =IF(BM12=BW12,0,1) -> 0 | BS12: =IF(BP12=BZ12,0,1) -> 0 | BU12: drawDirMaxRayDirs | BV12: Integer | BW12: 20 | CA12: =IF(BU12=CE12,0,1) -> 0 | CB12: =IF(BW12=CG12,0,1) -> 0 | CC12: =IF(BZ12=CJ12,0,1) -> 0 | CE12: drawDirMaxRayDirs | CF12: Integer | CG12: 20 | CK12: =IF(CE12=CO12,0,1) -> 0 | CL12: =IF(CG12=CQ12,0,1) -> 0 | CM12: =IF(CJ12=CT12,0,1) -> 0 | CO12: drawDirMaxRayDirs | CP12: Integer | CQ12: 20 | CU12: =IF(CO12=CY12,0,1) -> 0 | CV12: =IF(CQ12=DA12,0,1) -> 0 | CW12: =IF(CT12=DD12,0,1) -> 0 | CY12: drawDirMaxRayDirs | CZ12: Integer | DA12: 20
A13: 12 | B13: =IF(W13>0,W13,IF(AG13>0,AG13,IF(AQ13>0,AQ13,IF(BA13>0,BA13,IF(BK13>0,BK13,IF(BU13>0,BU13,IF(CE13>0,CE13,IF(CO13>0,CO13,IF(CY13>0,CY13,"fix"))))))))) -> drawDirMaxRays | C13: =SUM(AC13:AE13,AM13:AO13,AW13:AY13,BG13:BI13,BQ13:BS13,CA13:CC13,CK13:CM13,CU13:CW13) -> 1 | D13: =Y13 -> 90000 | E13: =IF(AF13>0,AF13,"-") -> New Note | F13: =AI13 -> 90000 | G13: =IF(AP13>0,AP13,"-") -> - | H13: =AS13 -> 90000 | I13: =IF(AZ13>0,AZ13,"-") -> - | J13: =BC13 -> 90000 | K13: =IF(BJ13>0,BJ13,"-") -> - | L13: =BM13 -> 90000 | M13: =IF(BT13>0,BT13,"-") -> - | N13: =BW13 -> 90000 | O13: =IF(CD13>0,CD13,"-") -> - | P13: =CG13 -> 90000 | Q13: =IF(CN13>0,CN13,"-") -> - | R13: =CQ13 -> 90000 | S13: =IF(CV13>0,CV13,"-") -> - | T13: =DA13 -> 90000 | V13: =A13 -> 12 | W13: drawDirMaxRays | X13: Integer | Y13: 90000 | AB13: Number of detector rays used for each draw direction candidate (controlled by drawDirMaxRayDirs) to compute undercuts. | AC13: =IF(W13=AG13,0,1) -> 0 | AD13: =IF(Y13=AI13,0,1) -> 0 | AE13: =IF(AB13=AL13,0,1) -> 1 | AF13: New Note | AG13: drawDirMaxRays | AH13: Integer | AI13: 90000 | AM13: =IF(AG13=AQ13,0,1) -> 0 | AN13: =IF(AI13=AS13,0,1) -> 0 | AO13: =IF(AL13=AV13,0,1) -> 0 | AQ13: drawDirMaxRays | AR13: Integer | AS13: 90000 | AW13: =IF(AQ13=BA13,0,1) -> 0 | AX13: =IF(AS13=BC13,0,1) -> 0 | AY13: =IF(AV13=BF13,0,1) -> 0 | BA13: drawDirMaxRays | BB13: Integer | BC13: 90000 | BG13: =IF(BA13=BK13,0,1) -> 0 | BH13: =IF(BC13=BM13,0,1) -> 0 | BI13: =IF(BF13=BP13,0,1) -> 0 | BK13: drawDirMaxRays | BL13: Integer | BM13: 90000 | BQ13: =IF(BK13=BU13,0,1) -> 0 | BR13: =IF(BM13=BW13,0,1) -> 0 | BS13: =IF(BP13=BZ13,0,1) -> 0 | BU13: drawDirMaxRays | BV13: Integer | BW13: 90000 | CA13: =IF(BU13=CE13,0,1) -> 0 | CB13: =IF(BW13=CG13,0,1) -> 0 | CC13: =IF(BZ13=CJ13,0,1) -> 0 | CE13: drawDirMaxRays | CF13: Integer | CG13: 90000 | CK13: =IF(CE13=CO13,0,1) -> 0 | CL13: =IF(CG13=CQ13,0,1) -> 0 | CM13: =IF(CJ13=CT13,0,1) -> 0 | CO13: drawDirMaxRays | CP13: Integer | CQ13: 90000 | CU13: =IF(CO13=CY13,0,1) -> 0 | CV13: =IF(CQ13=DA13,0,1) -> 0 | CW13: =IF(CT13=DD13,0,1) -> 0 | CY13: drawDirMaxRays | CZ13: Integer | DA13: 90000
A14: 13 | B14: =IF(W14>0,W14,IF(AG14>0,AG14,IF(AQ14>0,AQ14,IF(BA14>0,BA14,IF(BK14>0,BK14,IF(BU14>0,BU14,IF(CE14>0,CE14,IF(CO14>0,CO14,IF(CY14>0,CY14,"fix"))))))))) -> drawDirNoUndercutWeight | C14: =SUM(AC14:AE14,AM14:AO14,AW14:AY14,BG14:BI14,BQ14:BS14,CA14:CC14,CK14:CM14,CU14:CW14) -> 1 | D14: =Y14 -> 1 | E14: =IF(AF14>0,AF14,"-") -> New Note | F14: =AI14 -> 1 | G14: =IF(AP14>0,AP14,"-") -> - | H14: =AS14 -> 1 | I14: =IF(AZ14>0,AZ14,"-") -> - | J14: =BC14 -> 1 | K14: =IF(BJ14>0,BJ14,"-") -> - | L14: =BM14 -> 1 | M14: =IF(BT14>0,BT14,"-") -> - | N14: =BW14 -> 1 | O14: =IF(CD14>0,CD14,"-") -> - | P14: =CG14 -> 1 | Q14: =IF(CN14>0,CN14,"-") -> - | R14: =CQ14 -> 1 | S14: =IF(CV14>0,CV14,"-") -> - | T14: =DA14 -> 1 | V14: =A14 -> 13 | W14: drawDirNoUndercutWeight | X14: Double | Y14: 1 | AB14: Undercut rating weight if the undercut volume for the draw direction candidate is negligible. | AC14: =IF(W14=AG14,0,1) -> 0 | AD14: =IF(Y14=AI14,0,1) -> 0 | AE14: =IF(AB14=AL14,0,1) -> 1 | AF14: New Note | AG14: drawDirNoUndercutWeight | AH14: Double | AI14: 1 | AM14: =IF(AG14=AQ14,0,1) -> 0 | AN14: =IF(AI14=AS14,0,1) -> 0 | AO14: =IF(AL14=AV14,0,1) -> 0 | AQ14: drawDirNoUndercutWeight | AR14: Double | AS14: 1 | AW14: =IF(AQ14=BA14,0,1) -> 0 | AX14: =IF(AS14=BC14,0,1) -> 0 | AY14: =IF(AV14=BF14,0,1) -> 0 | BA14: drawDirNoUndercutWeight | BB14: Double | BC14: 1 | BG14: =IF(BA14=BK14,0,1) -> 0 | BH14: =IF(BC14=BM14,0,1) -> 0 | BI14: =IF(BF14=BP14,0,1) -> 0 | BK14: drawDirNoUndercutWeight | BL14: Double | BM14: 1 | BQ14: =IF(BK14=BU14,0,1) -> 0 | BR14: =IF(BM14=BW14,0,1) -> 0 | BS14: =IF(BP14=BZ14,0,1) -> 0 | BU14: drawDirNoUndercutWeight | BV14: Double | BW14: 1 | CA14: =IF(BU14=CE14,0,1) -> 0 | CB14: =IF(BW14=CG14,0,1) -> 0 | CC14: =IF(BZ14=CJ14,0,1) -> 0 | CE14: drawDirNoUndercutWeight | CF14: Double | CG14: 1 | CK14: =IF(CE14=CO14,0,1) -> 0 | CL14: =IF(CG14=CQ14,0,1) -> 0 | CM14: =IF(CJ14=CT14,0,1) -> 0 | CO14: drawDirNoUndercutWeight | CP14: Double | CQ14: 1 | CU14: =IF(CO14=CY14,0,1) -> 0 | CV14: =IF(CQ14=DA14,0,1) -> 0 | CW14: =IF(CT14=DD14,0,1) -> 0 | CY14: drawDirNoUndercutWeight | CZ14: Double | DA14: 1
A15: 14 | B15: =IF(W15>0,W15,IF(AG15>0,AG15,IF(AQ15>0,AQ15,IF(BA15>0,BA15,IF(BK15>0,BK15,IF(BU15>0,BU15,IF(CE15>0,CE15,IF(CO15>0,CO15,IF(CY15>0,CY15,"fix"))))))))) -> drawDirPartingLineFlatnessFactor | C15: =SUM(AC15:AE15,AM15:AO15,AW15:AY15,BG15:BI15,BQ15:BS15,CA15:CC15,CK15:CM15,CU15:CW15) -> 1 | D15: =Y15 -> 0.2 | E15: =IF(AF15>0,AF15,"-") -> New Note | F15: =AI15 -> 0.2 | G15: =IF(AP15>0,AP15,"-") -> - | H15: =AS15 -> 0.2 | I15: =IF(AZ15>0,AZ15,"-") -> - | J15: =BC15 -> 0.2 | K15: =IF(BJ15>0,BJ15,"-") -> - | L15: =BM15 -> 0.2 | M15: =IF(BT15>0,BT15,"-") -> - | N15: =BW15 -> 0.2 | O15: =IF(CD15>0,CD15,"-") -> - | P15: =CG15 -> 0.2 | Q15: =IF(CN15>0,CN15,"-") -> - | R15: =CQ15 -> 0.2 | S15: =IF(CV15>0,CV15,"-") -> - | T15: =DA15 -> 0.2 | V15: =A15 -> 14 | W15: drawDirPartingLineFlatnessFactor | X15: Double | Y15: 0.2 | AB15: The weight coefficient for the ratio of the projection length of the non-negligible parting line to its length. | AC15: =IF(W15=AG15,0,1) -> 0 | AD15: =IF(Y15=AI15,0,1) -> 0 | AE15: =IF(AB15=AL15,0,1) -> 1 | AF15: New Note | AG15: drawDirPartingLineFlatnessFactor | AH15: Double | AI15: 0.2 | AM15: =IF(AG15=AQ15,0,1) -> 0 | AN15: =IF(AI15=AS15,0,1) -> 0 | AO15: =IF(AL15=AV15,0,1) -> 0 | AQ15: drawDirPartingLineFlatnessFactor | AR15: Double | AS15: 0.2 | AW15: =IF(AQ15=BA15,0,1) -> 0 | AX15: =IF(AS15=BC15,0,1) -> 0 | AY15: =IF(AV15=BF15,0,1) -> 0 | BA15: drawDirPartingLineFlatnessFactor | BB15: Double | BC15: 0.2 | BG15: =IF(BA15=BK15,0,1) -> 0 | BH15: =IF(BC15=BM15,0,1) -> 0 | BI15: =IF(BF15=BP15,0,1) -> 0 | BK15: drawDirPartingLineFlatnessFactor | BL15: Double | BM15: 0.2 | BQ15: =IF(BK15=BU15,0,1) -> 0 | BR15: =IF(BM15=BW15,0,1) -> 0 | BS15: =IF(BP15=BZ15,0,1) -> 0 | BU15: drawDirPartingLineFlatnessFactor | BV15: Double | BW15: 0.2 | CA15: =IF(BU15=CE15,0,1) -> 0 | CB15: =IF(BW15=CG15,0,1) -> 0 | CC15: =IF(BZ15=CJ15,0,1) -> 0 | CE15: drawDirPartingLineFlatnessFactor | CF15: Double | CG15: 0.2 | CK15: =IF(CE15=CO15,0,1) -> 0 | CL15: =IF(CG15=CQ15,0,1) -> 0 | CM15: =IF(CJ15=CT15,0,1) -> 0 | CO15: drawDirPartingLineFlatnessFactor | CP15: Double | CQ15: 0.2 | CU15: =IF(CO15=CY15,0,1) -> 0 | CV15: =IF(CQ15=DA15,0,1) -> 0 | CW15: =IF(CT15=DD15,0,1) -> 0 | CY15: drawDirPartingLineFlatnessFactor | CZ15: Double | DA15: 0.2
A16: 15 | B16: =IF(W16>0,W16,IF(AG16>0,AG16,IF(AQ16>0,AQ16,IF(BA16>0,BA16,IF(BK16>0,BK16,IF(BU16>0,BU16,IF(CE16>0,CE16,IF(CO16>0,CO16,IF(CY16>0,CY16,"fix"))))))))) -> drawDirPinHoleFactor | C16: =SUM(AC16:AE16,AM16:AO16,AW16:AY16,BG16:BI16,BQ16:BS16,CA16:CC16,CK16:CM16,CU16:CW16) -> 2 | D16: =Y16 -> 0.25 | E16: =IF(AF16>0,AF16,"-") -> New Note | F16: =AI16 -> 0.25 | G16: =IF(AP16>0,AP16,"-") -> New Value | H16: =AS16 -> 1 | I16: =IF(AZ16>0,AZ16,"-") -> - | J16: =BC16 -> 1 | K16: =IF(BJ16>0,BJ16,"-") -> - | L16: =BM16 -> 1 | M16: =IF(BT16>0,BT16,"-") -> - | N16: =BW16 -> 1 | O16: =IF(CD16>0,CD16,"-") -> - | P16: =CG16 -> 1 | Q16: =IF(CN16>0,CN16,"-") -> - | R16: =CQ16 -> 1 | S16: =IF(CV16>0,CV16,"-") -> - | T16: =DA16 -> 1 | V16: =A16 -> 15 | W16: drawDirPinHoleFactor | X16: Double | Y16: 0.25 | AB16: The weight coefficient for the draw direction computation based on number of pin holes. | AC16: =IF(W16=AG16,0,1) -> 0 | AD16: =IF(Y16=AI16,0,1) -> 0 | AE16: =IF(AB16=AL16,0,1) -> 1 | AF16: New Note | AG16: drawDirPinHoleFactor | AH16: Double | AI16: 0.25 | AM16: =IF(AG16=AQ16,0,1) -> 0 | AN16: =IF(AI16=AS16,0,1) -> 1 | AO16: =IF(AL16=AV16,0,1) -> 0 | AP16: New Value | AQ16: drawDirPinHoleFactor | AR16: Double | AS16: 1 | AW16: =IF(AQ16=BA16,0,1) -> 0 | AX16: =IF(AS16=BC16,0,1) -> 0 | AY16: =IF(AV16=BF16,0,1) -> 0 | BA16: drawDirPinHoleFactor | BB16: Double | BC16: 1 | BG16: =IF(BA16=BK16,0,1) -> 0 | BH16: =IF(BC16=BM16,0,1) -> 0 | BI16: =IF(BF16=BP16,0,1) -> 0 | BK16: drawDirPinHoleFactor | BL16: Double | BM16: 1 | BQ16: =IF(BK16=BU16,0,1) -> 0 | BR16: =IF(BM16=BW16,0,1) -> 0 | BS16: =IF(BP16=BZ16,0,1) -> 0 | BU16: drawDirPinHoleFactor | BV16: Double | BW16: 1 | CA16: =IF(BU16=CE16,0,1) -> 0 | CB16: =IF(BW16=CG16,0,1) -> 0 | CC16: =IF(BZ16=CJ16,0,1) -> 0 | CE16: drawDirPinHoleFactor | CF16: Double | CG16: 1 | CK16: =IF(CE16=CO16,0,1) -> 0 | CL16: =IF(CG16=CQ16,0,1) -> 0 | CM16: =IF(CJ16=CT16,0,1) -> 0 | CO16: drawDirPinHoleFactor | CP16: Double | CQ16: 1 | CU16: =IF(CO16=CY16,0,1) -> 0 | CV16: =IF(CQ16=DA16,0,1) -> 0 | CW16: =IF(CT16=DD16,0,1) -> 0 | CY16: drawDirPinHoleFactor | CZ16: Double | DA16: 1
A17: 16 | B17: =IF(W17>0,W17,IF(AG17>0,AG17,IF(AQ17>0,AQ17,IF(BA17>0,BA17,IF(BK17>0,BK17,IF(BU17>0,BU17,IF(CE17>0,CE17,IF(CO17>0,CO17,IF(CY17>0,CY17,"fix"))))))))) -> drawDirRibFactor | C17: =SUM(AC17:AE17,AM17:AO17,AW17:AY17,BG17:BI17,BQ17:BS17,CA17:CC17,CK17:CM17,CU17:CW17) -> 1 | D17: =Y17 -> 0 | E17: =IF(AF17>0,AF17,"-") -> New Note | F17: =AI17 -> 0 | G17: =IF(AP17>0,AP17,"-") -> - | H17: =AS17 -> 0 | I17: =IF(AZ17>0,AZ17,"-") -> - | J17: =BC17 -> 0 | K17: =IF(BJ17>0,BJ17,"-") -> - | L17: =BM17 -> 0 | M17: =IF(BT17>0,BT17,"-") -> - | N17: =BW17 -> 0 | O17: =IF(CD17>0,CD17,"-") -> - | P17: =CG17 -> 0 | Q17: =IF(CN17>0,CN17,"-") -> - | R17: =CQ17 -> 0 | S17: =IF(CV17>0,CV17,"-") -> - | T17: =DA17 -> 0 | V17: =A17 -> 16 | W17: drawDirRibFactor | X17: Double | Y17: 0 | AB17: The weight coefficient for the ratio between the area of parallel to the draw direction candidate ribs and total area of all potential ribs. | AC17: =IF(W17=AG17,0,1) -> 0 | AD17: =IF(Y17=AI17,0,1) -> 0 | AE17: =IF(AB17=AL17,0,1) -> 1 | AF17: New Note | AG17: drawDirRibFactor | AH17: Double | AI17: 0 | AM17: =IF(AG17=AQ17,0,1) -> 0 | AN17: =IF(AI17=AS17,0,1) -> 0 | AO17: =IF(AL17=AV17,0,1) -> 0 | AQ17: drawDirRibFactor | AR17: Double | AS17: 0 | AW17: =IF(AQ17=BA17,0,1) -> 0 | AX17: =IF(AS17=BC17,0,1) -> 0 | AY17: =IF(AV17=BF17,0,1) -> 0 | BA17: drawDirRibFactor | BB17: Double | BC17: 0 | BG17: =IF(BA17=BK17,0,1) -> 0 | BH17: =IF(BC17=BM17,0,1) -> 0 | BI17: =IF(BF17=BP17,0,1) -> 0 | BK17: drawDirRibFactor | BL17: Double | BM17: 0 | BQ17: =IF(BK17=BU17,0,1) -> 0 | BR17: =IF(BM17=BW17,0,1) -> 0 | BS17: =IF(BP17=BZ17,0,1) -> 0 | BU17: drawDirRibFactor | BV17: Double | BW17: 0 | CA17: =IF(BU17=CE17,0,1) -> 0 | CB17: =IF(BW17=CG17,0,1) -> 0 | CC17: =IF(BZ17=CJ17,0,1) -> 0 | CE17: drawDirRibFactor | CF17: Double | CG17: 0 | CK17: =IF(CE17=CO17,0,1) -> 0 | CL17: =IF(CG17=CQ17,0,1) -> 0 | CM17: =IF(CJ17=CT17,0,1) -> 0 | CO17: drawDirRibFactor | CP17: Double | CQ17: 0 | CU17: =IF(CO17=CY17,0,1) -> 0 | CV17: =IF(CQ17=DA17,0,1) -> 0 | CW17: =IF(CT17=DD17,0,1) -> 0 | CY17: drawDirRibFactor | CZ17: Double | DA17: 0
A18: 17 | B18: =IF(W18>0,W18,IF(AG18>0,AG18,IF(AQ18>0,AQ18,IF(BA18>0,BA18,IF(BK18>0,BK18,IF(BU18>0,BU18,IF(CE18>0,CE18,IF(CO18>0,CO18,IF(CY18>0,CY18,"fix"))))))))) -> drawDirUndercutPresenceFactor | C18: =SUM(AC18:AE18,AM18:AO18,AW18:AY18,BG18:BI18,BQ18:BS18,CA18:CC18,CK18:CM18,CU18:CW18) -> 1 | D18: =Y18 -> 1 | E18: =IF(AF18>0,AF18,"-") -> New Note | F18: =AI18 -> 1 | G18: =IF(AP18>0,AP18,"-") -> - | H18: =AS18 -> 1 | I18: =IF(AZ18>0,AZ18,"-") -> - | J18: =BC18 -> 1 | K18: =IF(BJ18>0,BJ18,"-") -> - | L18: =BM18 -> 1 | M18: =IF(BT18>0,BT18,"-") -> - | N18: =BW18 -> 1 | O18: =IF(CD18>0,CD18,"-") -> - | P18: =CG18 -> 1 | Q18: =IF(CN18>0,CN18,"-") -> - | R18: =CQ18 -> 1 | S18: =IF(CV18>0,CV18,"-") -> - | T18: =DA18 -> 1 | V18: =A18 -> 17 | W18: drawDirUndercutPresenceFactor | X18: Double | Y18: 1 | AB18: The weight coefficient for the undercut rating based on non-negligible undercut volume in relation to the total part volume. | AC18: =IF(W18=AG18,0,1) -> 0 | AD18: =IF(Y18=AI18,0,1) -> 0 | AE18: =IF(AB18=AL18,0,1) -> 1 | AF18: New Note | AG18: drawDirUndercutPresenceFactor | AH18: Double | AI18: 1 | AM18: =IF(AG18=AQ18,0,1) -> 0 | AN18: =IF(AI18=AS18,0,1) -> 0 | AO18: =IF(AL18=AV18,0,1) -> 0 | AQ18: drawDirUndercutPresenceFactor | AR18: Double | AS18: 1 | AW18: =IF(AQ18=BA18,0,1) -> 0 | AX18: =IF(AS18=BC18,0,1) -> 0 | AY18: =IF(AV18=BF18,0,1) -> 0 | BA18: drawDirUndercutPresenceFactor | BB18: Double | BC18: 1 | BG18: =IF(BA18=BK18,0,1) -> 0 | BH18: =IF(BC18=BM18,0,1) -> 0 | BI18: =IF(BF18=BP18,0,1) -> 0 | BK18: drawDirUndercutPresenceFactor | BL18: Double | BM18: 1 | BQ18: =IF(BK18=BU18,0,1) -> 0 | BR18: =IF(BM18=BW18,0,1) -> 0 | BS18: =IF(BP18=BZ18,0,1) -> 0 | BU18: drawDirUndercutPresenceFactor | BV18: Double | BW18: 1 | CA18: =IF(BU18=CE18,0,1) -> 0 | CB18: =IF(BW18=CG18,0,1) -> 0 | CC18: =IF(BZ18=CJ18,0,1) -> 0 | CE18: drawDirUndercutPresenceFactor | CF18: Double | CG18: 1 | CK18: =IF(CE18=CO18,0,1) -> 0 | CL18: =IF(CG18=CQ18,0,1) -> 0 | CM18: =IF(CJ18=CT18,0,1) -> 0 | CO18: drawDirUndercutPresenceFactor | CP18: Double | CQ18: 1 | CU18: =IF(CO18=CY18,0,1) -> 0 | CV18: =IF(CQ18=DA18,0,1) -> 0 | CW18: =IF(CT18=DD18,0,1) -> 0 | CY18: drawDirUndercutPresenceFactor | CZ18: Double | DA18: 1
A19: 18 | B19: =IF(W19>0,W19,IF(AG19>0,AG19,IF(AQ19>0,AQ19,IF(BA19>0,BA19,IF(BK19>0,BK19,IF(BU19>0,BU19,IF(CE19>0,CE19,IF(CO19>0,CO19,IF(CY19>0,CY19,"fix"))))))))) -> drawDirVoidAlignmentFactor | C19: =SUM(AC19:AE19,AM19:AO19,AW19:AY19,BG19:BI19,BQ19:BS19,CA19:CC19,CK19:CM19,CU19:CW19) -> 1 | D19: =Y19 -> 0 | E19: =IF(AF19>0,AF19,"-") -> New Note | F19: =AI19 -> 0 | G19: =IF(AP19>0,AP19,"-") -> - | H19: =AS19 -> 0 | I19: =IF(AZ19>0,AZ19,"-") -> - | J19: =BC19 -> 0 | K19: =IF(BJ19>0,BJ19,"-") -> - | L19: =BM19 -> 0 | M19: =IF(BT19>0,BT19,"-") -> - | N19: =BW19 -> 0 | O19: =IF(CD19>0,CD19,"-") -> - | P19: =CG19 -> 0 | Q19: =IF(CN19>0,CN19,"-") -> - | R19: =CQ19 -> 0 | S19: =IF(CV19>0,CV19,"-") -> - | T19: =DA19 -> 0 | V19: =A19 -> 18 | W19: drawDirVoidAlignmentFactor | X19: Double | Y19: 0 | AB19: The weight coefficient for the ratio of number of aligned with the draw direction candidate undercuts to total number of undercuts. | AC19: =IF(W19=AG19,0,1) -> 0 | AD19: =IF(Y19=AI19,0,1) -> 0 | AE19: =IF(AB19=AL19,0,1) -> 1 | AF19: New Note | AG19: drawDirVoidAlignmentFactor | AH19: Double | AI19: 0 | AM19: =IF(AG19=AQ19,0,1) -> 0 | AN19: =IF(AI19=AS19,0,1) -> 0 | AO19: =IF(AL19=AV19,0,1) -> 0 | AQ19: drawDirVoidAlignmentFactor | AR19: Double | AS19: 0 | AW19: =IF(AQ19=BA19,0,1) -> 0 | AX19: =IF(AS19=BC19,0,1) -> 0 | AY19: =IF(AV19=BF19,0,1) -> 0 | BA19: drawDirVoidAlignmentFactor | BB19: Double | BC19: 0 | BG19: =IF(BA19=BK19,0,1) -> 0 | BH19: =IF(BC19=BM19,0,1) -> 0 | BI19: =IF(BF19=BP19,0,1) -> 0 | BK19: drawDirVoidAlignmentFactor | BL19: Double | BM19: 0 | BQ19: =IF(BK19=BU19,0,1) -> 0 | BR19: =IF(BM19=BW19,0,1) -> 0 | BS19: =IF(BP19=BZ19,0,1) -> 0 | BU19: drawDirVoidAlignmentFactor | BV19: Double | BW19: 0 | CA19: =IF(BU19=CE19,0,1) -> 0 | CB19: =IF(BW19=CG19,0,1) -> 0 | CC19: =IF(BZ19=CJ19,0,1) -> 0 | CE19: drawDirVoidAlignmentFactor | CF19: Double | CG19: 0 | CK19: =IF(CE19=CO19,0,1) -> 0 | CL19: =IF(CG19=CQ19,0,1) -> 0 | CM19: =IF(CJ19=CT19,0,1) -> 0 | CO19: drawDirVoidAlignmentFactor | CP19: Double | CQ19: 0 | CU19: =IF(CO19=CY19,0,1) -> 0 | CV19: =IF(CQ19=DA19,0,1) -> 0 | CW19: =IF(CT19=DD19,0,1) -> 0 | CY19: drawDirVoidAlignmentFactor | CZ19: Double | DA19: 0
A20: 19 | B20: =IF(W20>0,W20,IF(AG20>0,AG20,IF(AQ20>0,AQ20,IF(BA20>0,BA20,IF(BK20>0,BK20,IF(BU20>0,BU20,IF(CE20>0,CE20,IF(CO20>0,CO20,IF(CY20>0,CY20,"fix"))))))))) -> greenSandLargeHoleAspect | C20: =SUM(AC20:AE20,AM20:AO20,AW20:AY20,BG20:BI20,BQ20:BS20,CA20:CC20,CK20:CM20,CU20:CW20) -> 0 | D20: =Y20 -> 1 | E20: =IF(AF20>0,AF20,"-") -> - | F20: =AI20 -> 1 | G20: =IF(AP20>0,AP20,"-") -> - | H20: =AS20 -> 1 | I20: =IF(AZ20>0,AZ20,"-") -> - | J20: =BC20 -> 1 | K20: =IF(BJ20>0,BJ20,"-") -> - | L20: =BM20 -> 1 | M20: =IF(BT20>0,BT20,"-") -> - | N20: =BW20 -> 1 | O20: =IF(CD20>0,CD20,"-") -> - | P20: =CG20 -> 1 | Q20: =IF(CN20>0,CN20,"-") -> - | R20: =CQ20 -> 1 | S20: =IF(CV20>0,CV20,"-") -> - | T20: =DA20 -> 1 | V20: =A20 -> 19 | W20: greenSandLargeHoleAspect | X20: Double | Y20: 1 | AC20: =IF(W20=AG20,0,1) -> 0 | AD20: =IF(Y20=AI20,0,1) -> 0 | AE20: =IF(AB20=AL20,0,1) -> 0 | AG20: greenSandLargeHoleAspect | AH20: Double | AI20: 1 | AM20: =IF(AG20=AQ20,0,1) -> 0 | AN20: =IF(AI20=AS20,0,1) -> 0 | AO20: =IF(AL20=AV20,0,1) -> 0 | AQ20: greenSandLargeHoleAspect | AR20: Double | AS20: 1 | AW20: =IF(AQ20=BA20,0,1) -> 0 | AX20: =IF(AS20=BC20,0,1) -> 0 | AY20: =IF(AV20=BF20,0,1) -> 0 | BA20: greenSandLargeHoleAspect | BB20: Double | BC20: 1 | BG20: =IF(BA20=BK20,0,1) -> 0 | BH20: =IF(BC20=BM20,0,1) -> 0 | BI20: =IF(BF20=BP20,0,1) -> 0 | BK20: greenSandLargeHoleAspect | BL20: Double | BM20: 1 | BQ20: =IF(BK20=BU20,0,1) -> 0 | BR20: =IF(BM20=BW20,0,1) -> 0 | BS20: =IF(BP20=BZ20,0,1) -> 0 | BU20: greenSandLargeHoleAspect | BV20: Double | BW20: 1 | CA20: =IF(BU20=CE20,0,1) -> 0 | CB20: =IF(BW20=CG20,0,1) -> 0 | CC20: =IF(BZ20=CJ20,0,1) -> 0 | CE20: greenSandLargeHoleAspect | CF20: Double | CG20: 1 | CK20: =IF(CE20=CO20,0,1) -> 0 | CL20: =IF(CG20=CQ20,0,1) -> 0 | CM20: =IF(CJ20=CT20,0,1) -> 0 | CO20: greenSandLargeHoleAspect | CP20: Double | CQ20: 1 | CU20: =IF(CO20=CY20,0,1) -> 0 | CV20: =IF(CQ20=DA20,0,1) -> 0 | CW20: =IF(CT20=DD20,0,1) -> 0 | CY20: greenSandLargeHoleAspect | CZ20: Double | DA20: 1
A21: 20 | B21: =IF(W21>0,W21,IF(AG21>0,AG21,IF(AQ21>0,AQ21,IF(BA21>0,BA21,IF(BK21>0,BK21,IF(BU21>0,BU21,IF(CE21>0,CE21,IF(CO21>0,CO21,IF(CY21>0,CY21,"fix"))))))))) -> greenSandLargeVoidAspect | C21: =SUM(AC21:AE21,AM21:AO21,AW21:AY21,BG21:BI21,BQ21:BS21,CA21:CC21,CK21:CM21,CU21:CW21) -> 2 | D21: =Y21 -> 0 | E21: =IF(AF21>0,AF21,"-") -> Removed | F21: =AI21 -> 1 | G21: =IF(AP21>0,AP21,"-") -> - | H21: =AS21 -> 1 | I21: =IF(AZ21>0,AZ21,"-") -> - | J21: =BC21 -> 1 | K21: =IF(BJ21>0,BJ21,"-") -> - | L21: =BM21 -> 1 | M21: =IF(BT21>0,BT21,"-") -> - | N21: =BW21 -> 1 | O21: =IF(CD21>0,CD21,"-") -> - | P21: =CG21 -> 1 | Q21: =IF(CN21>0,CN21,"-") -> - | R21: =CQ21 -> 1 | S21: =IF(CV21>0,CV21,"-") -> - | T21: =DA21 -> 1 | V21: =A21 -> 20 | AC21: =IF(W21=AG21,0,1) -> 1 | AD21: =IF(Y21=AI21,0,1) -> 1 | AE21: =IF(AB21=AL21,0,1) -> 0 | AF21: Removed | AG21: greenSandLargeVoidAspect | AH21: Double | AI21: 1 | AM21: =IF(AG21=AQ21,0,1) -> 0 | AN21: =IF(AI21=AS21,0,1) -> 0 | AO21: =IF(AL21=AV21,0,1) -> 0 | AQ21: greenSandLargeVoidAspect | AR21: Double | AS21: 1 | AW21: =IF(AQ21=BA21,0,1) -> 0 | AX21: =IF(AS21=BC21,0,1) -> 0 | AY21: =IF(AV21=BF21,0,1) -> 0 | BA21: greenSandLargeVoidAspect | BB21: Double | BC21: 1 | BG21: =IF(BA21=BK21,0,1) -> 0 | BH21: =IF(BC21=BM21,0,1) -> 0 | BI21: =IF(BF21=BP21,0,1) -> 0 | BK21: greenSandLargeVoidAspect | BL21: Double | BM21: 1 | BQ21: =IF(BK21=BU21,0,1) -> 0 | BR21: =IF(BM21=BW21,0,1) -> 0 | BS21: =IF(BP21=BZ21,0,1) -> 0 | BU21: greenSandLargeVoidAspect | BV21: Double | BW21: 1 | CA21: =IF(BU21=CE21,0,1) -> 0 | CB21: =IF(BW21=CG21,0,1) -> 0 | CC21: =IF(BZ21=CJ21,0,1) -> 0 | CE21: greenSandLargeVoidAspect | CF21: Double | CG21: 1 | CK21: =IF(CE21=CO21,0,1) -> 0 | CL21: =IF(CG21=CQ21,0,1) -> 0 | CM21: =IF(CJ21=CT21,0,1) -> 0 | CO21: greenSandLargeVoidAspect | CP21: Double | CQ21: 1 | CU21: =IF(CO21=CY21,0,1) -> 0 | CV21: =IF(CQ21=DA21,0,1) -> 0 | CW21: =IF(CT21=DD21,0,1) -> 0 | CY21: greenSandLargeVoidAspect | CZ21: Double | DA21: 1
A22: 21 | B22: =IF(W22>0,W22,IF(AG22>0,AG22,IF(AQ22>0,AQ22,IF(BA22>0,BA22,IF(BK22>0,BK22,IF(BU22>0,BU22,IF(CE22>0,CE22,IF(CO22>0,CO22,IF(CY22>0,CY22,"fix"))))))))) -> greenSandSmallHoleAspect | C22: =SUM(AC22:AE22,AM22:AO22,AW22:AY22,BG22:BI22,BQ22:BS22,CA22:CC22,CK22:CM22,CU22:CW22) -> 0 | D22: =Y22 -> 0.5 | E22: =IF(AF22>0,AF22,"-") -> - | F22: =AI22 -> 0.5 | G22: =IF(AP22>0,AP22,"-") -> - | H22: =AS22 -> 0.5 | I22: =IF(AZ22>0,AZ22,"-") -> - | J22: =BC22 -> 0.5 | K22: =IF(BJ22>0,BJ22,"-") -> - | L22: =BM22 -> 0.5 | M22: =IF(BT22>0,BT22,"-") -> - | N22: =BW22 -> 0.5 | O22: =IF(CD22>0,CD22,"-") -> - | P22: =CG22 -> 0.5 | Q22: =IF(CN22>0,CN22,"-") -> - | R22: =CQ22 -> 0.5 | S22: =IF(CV22>0,CV22,"-") -> - | T22: =DA22 -> 0.5 | V22: =A22 -> 21 | W22: greenSandSmallHoleAspect | X22: Double | Y22: 0.5 | AC22: =IF(W22=AG22,0,1) -> 0 | AD22: =IF(Y22=AI22,0,1) -> 0 | AE22: =IF(AB22=AL22,0,1) -> 0 | AG22: greenSandSmallHoleAspect | AH22: Double | AI22: 0.5 | AM22: =IF(AG22=AQ22,0,1) -> 0 | AN22: =IF(AI22=AS22,0,1) -> 0 | AO22: =IF(AL22=AV22,0,1) -> 0 | AQ22: greenSandSmallHoleAspect | AR22: Double | AS22: 0.5 | AW22: =IF(AQ22=BA22,0,1) -> 0 | AX22: =IF(AS22=BC22,0,1) -> 0 | AY22: =IF(AV22=BF22,0,1) -> 0 | BA22: greenSandSmallHoleAspect | BB22: Double | BC22: 0.5 | BG22: =IF(BA22=BK22,0,1) -> 0 | BH22: =IF(BC22=BM22,0,1) -> 0 | BI22: =IF(BF22=BP22,0,1) -> 0 | BK22: greenSandSmallHoleAspect | BL22: Double | BM22: 0.5 | BQ22: =IF(BK22=BU22,0,1) -> 0 | BR22: =IF(BM22=BW22,0,1) -> 0 | BS22: =IF(BP22=BZ22,0,1) -> 0 | BU22: greenSandSmallHoleAspect | BV22: Double | BW22: 0.5 | CA22: =IF(BU22=CE22,0,1) -> 0 | CB22: =IF(BW22=CG22,0,1) -> 0 | CC22: =IF(BZ22=CJ22,0,1) -> 0 | CE22: greenSandSmallHoleAspect | CF22: Double | CG22: 0.5 | CK22: =IF(CE22=CO22,0,1) -> 0 | CL22: =IF(CG22=CQ22,0,1) -> 0 | CM22: =IF(CJ22=CT22,0,1) -> 0 | CO22: greenSandSmallHoleAspect | CP22: Double | CQ22: 0.5 | CU22: =IF(CO22=CY22,0,1) -> 0 | CV22: =IF(CQ22=DA22,0,1) -> 0 | CW22: =IF(CT22=DD22,0,1) -> 0 | CY22: greenSandSmallHoleAspect | CZ22: Double | DA22: 0.5
A23: 22 | B23: =IF(W23>0,W23,IF(AG23>0,AG23,IF(AQ23>0,AQ23,IF(BA23>0,BA23,IF(BK23>0,BK23,IF(BU23>0,BU23,IF(CE23>0,CE23,IF(CO23>0,CO23,IF(CY23>0,CY23,"fix"))))))))) -> greenSandSmallHoleDia | C23: =SUM(AC23:AE23,AM23:AO23,AW23:AY23,BG23:BI23,BQ23:BS23,CA23:CC23,CK23:CM23,CU23:CW23) -> 0 | D23: =Y23 -> 25.4 | E23: =IF(AF23>0,AF23,"-") -> - | F23: =AI23 -> 25.4 | G23: =IF(AP23>0,AP23,"-") -> - | H23: =AS23 -> 25.4 | I23: =IF(AZ23>0,AZ23,"-") -> - | J23: =BC23 -> 25.4 | K23: =IF(BJ23>0,BJ23,"-") -> - | L23: =BM23 -> 25.4 | M23: =IF(BT23>0,BT23,"-") -> - | N23: =BW23 -> 25.4 | O23: =IF(CD23>0,CD23,"-") -> - | P23: =CG23 -> 25.4 | Q23: =IF(CN23>0,CN23,"-") -> - | R23: =CQ23 -> 25.4 | S23: =IF(CV23>0,CV23,"-") -> - | T23: =DA23 -> 25.4 | V23: =A23 -> 22 | W23: greenSandSmallHoleDia | X23: Double | Y23: 25.4 | AC23: =IF(W23=AG23,0,1) -> 0 | AD23: =IF(Y23=AI23,0,1) -> 0 | AE23: =IF(AB23=AL23,0,1) -> 0 | AG23: greenSandSmallHoleDia | AH23: Double | AI23: 25.4 | AM23: =IF(AG23=AQ23,0,1) -> 0 | AN23: =IF(AI23=AS23,0,1) -> 0 | AO23: =IF(AL23=AV23,0,1) -> 0 | AQ23: greenSandSmallHoleDia | AR23: Double | AS23: 25.4 | AW23: =IF(AQ23=BA23,0,1) -> 0 | AX23: =IF(AS23=BC23,0,1) -> 0 | AY23: =IF(AV23=BF23,0,1) -> 0 | BA23: greenSandSmallHoleDia | BB23: Double | BC23: 25.4 | BG23: =IF(BA23=BK23,0,1) -> 0 | BH23: =IF(BC23=BM23,0,1) -> 0 | BI23: =IF(BF23=BP23,0,1) -> 0 | BK23: greenSandSmallHoleDia | BL23: Double | BM23: 25.4 | BQ23: =IF(BK23=BU23,0,1) -> 0 | BR23: =IF(BM23=BW23,0,1) -> 0 | BS23: =IF(BP23=BZ23,0,1) -> 0 | BU23: greenSandSmallHoleDia | BV23: Double | BW23: 25.4 | CA23: =IF(BU23=CE23,0,1) -> 0 | CB23: =IF(BW23=CG23,0,1) -> 0 | CC23: =IF(BZ23=CJ23,0,1) -> 0 | CE23: greenSandSmallHoleDia | CF23: Double | CG23: 25.4 | CK23: =IF(CE23=CO23,0,1) -> 0 | CL23: =IF(CG23=CQ23,0,1) -> 0 | CM23: =IF(CJ23=CT23,0,1) -> 0 | CO23: greenSandSmallHoleDia | CP23: Double | CQ23: 25.4 | CU23: =IF(CO23=CY23,0,1) -> 0 | CV23: =IF(CQ23=DA23,0,1) -> 0 | CW23: =IF(CT23=DD23,0,1) -> 0 | CY23: greenSandSmallHoleDia | CZ23: Double | DA23: 25.4
A24: 23 | B24: =IF(W24>0,W24,IF(AG24>0,AG24,IF(AQ24>0,AQ24,IF(BA24>0,BA24,IF(BK24>0,BK24,IF(BU24>0,BU24,IF(CE24>0,CE24,IF(CO24>0,CO24,IF(CY24>0,CY24,"fix"))))))))) -> greenSandSmallVoidAspect | C24: =SUM(AC24:AE24,AM24:AO24,AW24:AY24,BG24:BI24,BQ24:BS24,CA24:CC24,CK24:CM24,CU24:CW24) -> 0 | D24: =Y24 -> 0.5 | E24: =IF(AF24>0,AF24,"-") -> - | F24: =AI24 -> 0.5 | G24: =IF(AP24>0,AP24,"-") -> - | H24: =AS24 -> 0.5 | I24: =IF(AZ24>0,AZ24,"-") -> - | J24: =BC24 -> 0.5 | K24: =IF(BJ24>0,BJ24,"-") -> - | L24: =BM24 -> 0.5 | M24: =IF(BT24>0,BT24,"-") -> - | N24: =BW24 -> 0.5 | O24: =IF(CD24>0,CD24,"-") -> - | P24: =CG24 -> 0.5 | Q24: =IF(CN24>0,CN24,"-") -> - | R24: =CQ24 -> 0.5 | S24: =IF(CV24>0,CV24,"-") -> - | T24: =DA24 -> 0.5 | V24: =A24 -> 23 | W24: greenSandSmallVoidAspect | X24: Double | Y24: 0.5 | AC24: =IF(W24=AG24,0,1) -> 0 | AD24: =IF(Y24=AI24,0,1) -> 0 | AE24: =IF(AB24=AL24,0,1) -> 0 | AG24: greenSandSmallVoidAspect | AH24: Double | AI24: 0.5 | AM24: =IF(AG24=AQ24,0,1) -> 0 | AN24: =IF(AI24=AS24,0,1) -> 0 | AO24: =IF(AL24=AV24,0,1) -> 0 | AQ24: greenSandSmallVoidAspect | AR24: Double | AS24: 0.5 | AW24: =IF(AQ24=BA24,0,1) -> 0 | AX24: =IF(AS24=BC24,0,1) -> 0 | AY24: =IF(AV24=BF24,0,1) -> 0 | BA24: greenSandSmallVoidAspect | BB24: Double | BC24: 0.5 | BG24: =IF(BA24=BK24,0,1) -> 0 | BH24: =IF(BC24=BM24,0,1) -> 0 | BI24: =IF(BF24=BP24,0,1) -> 0 | BK24: greenSandSmallVoidAspect | BL24: Double | BM24: 0.5 | BQ24: =IF(BK24=BU24,0,1) -> 0 | BR24: =IF(BM24=BW24,0,1) -> 0 | BS24: =IF(BP24=BZ24,0,1) -> 0 | BU24: greenSandSmallVoidAspect | BV24: Double | BW24: 0.5 | CA24: =IF(BU24=CE24,0,1) -> 0 | CB24: =IF(BW24=CG24,0,1) -> 0 | CC24: =IF(BZ24=CJ24,0,1) -> 0 | CE24: greenSandSmallVoidAspect | CF24: Double | CG24: 0.5 | CK24: =IF(CE24=CO24,0,1) -> 0 | CL24: =IF(CG24=CQ24,0,1) -> 0 | CM24: =IF(CJ24=CT24,0,1) -> 0 | CO24: greenSandSmallVoidAspect | CP24: Double | CQ24: 0.5 | CU24: =IF(CO24=CY24,0,1) -> 0 | CV24: =IF(CQ24=DA24,0,1) -> 0 | CW24: =IF(CT24=DD24,0,1) -> 0 | CY24: greenSandSmallVoidAspect | CZ24: Double | DA24: 0.5
A25: 24 | B25: =IF(W25>0,W25,IF(AG25>0,AG25,IF(AQ25>0,AQ25,IF(BA25>0,BA25,IF(BK25>0,BK25,IF(BU25>0,BU25,IF(CE25>0,CE25,IF(CO25>0,CO25,IF(CY25>0,CY25,"fix"))))))))) -> holeProximityDistanceFactor | C25: =SUM(AC25:AE25,AM25:AO25,AW25:AY25,BG25:BI25,BQ25:BS25,CA25:CC25,CK25:CM25,CU25:CW25) -> 1 | D25: =Y25 -> 2 | E25: =IF(AF25>0,AF25,"-") -> New Note | F25: =AI25 -> 2 | G25: =IF(AP25>0,AP25,"-") -> - | H25: =AS25 -> 2 | I25: =IF(AZ25>0,AZ25,"-") -> - | J25: =BC25 -> 2 | K25: =IF(BJ25>0,BJ25,"-") -> - | L25: =BM25 -> 2 | M25: =IF(BT25>0,BT25,"-") -> - | N25: =BW25 -> 2 | O25: =IF(CD25>0,CD25,"-") -> - | P25: =CG25 -> 2 | Q25: =IF(CN25>0,CN25,"-") -> - | R25: =CQ25 -> 2 | S25: =IF(CV25>0,CV25,"-") -> - | T25: =DA25 -> 2 | V25: =A25 -> 24 | W25: holeProximityDistanceFactor | X25: Double | Y25: 2 | AB25: Faces that are further from a hole axis than (holeProximityDistanceFactor * holeDiameter + holeRadius) cannot form LiesNear relations with this hole. | AC25: =IF(W25=AG25,0,1) -> 0 | AD25: =IF(Y25=AI25,0,1) -> 0 | AE25: =IF(AB25=AL25,0,1) -> 1 | AF25: New Note | AG25: holeProximityDistanceFactor | AH25: Double | AI25: 2 | AM25: =IF(AG25=AQ25,0,1) -> 0 | AN25: =IF(AI25=AS25,0,1) -> 0 | AO25: =IF(AL25=AV25,0,1) -> 0 | AQ25: holeProximityDistanceFactor | AR25: Double | AS25: 2 | AW25: =IF(AQ25=BA25,0,1) -> 0 | AX25: =IF(AS25=BC25,0,1) -> 0 | AY25: =IF(AV25=BF25,0,1) -> 0 | BA25: holeProximityDistanceFactor | BB25: Double | BC25: 2 | BG25: =IF(BA25=BK25,0,1) -> 0 | BH25: =IF(BC25=BM25,0,1) -> 0 | BI25: =IF(BF25=BP25,0,1) -> 0 | BK25: holeProximityDistanceFactor | BL25: Double | BM25: 2 | BQ25: =IF(BK25=BU25,0,1) -> 0 | BR25: =IF(BM25=BW25,0,1) -> 0 | BS25: =IF(BP25=BZ25,0,1) -> 0 | BU25: holeProximityDistanceFactor | BV25: Double | BW25: 2 | CA25: =IF(BU25=CE25,0,1) -> 0 | CB25: =IF(BW25=CG25,0,1) -> 0 | CC25: =IF(BZ25=CJ25,0,1) -> 0 | CE25: holeProximityDistanceFactor | CF25: Double | CG25: 2 | CK25: =IF(CE25=CO25,0,1) -> 0 | CL25: =IF(CG25=CQ25,0,1) -> 0 | CM25: =IF(CJ25=CT25,0,1) -> 0 | CO25: holeProximityDistanceFactor | CP25: Double | CQ25: 2 | CU25: =IF(CO25=CY25,0,1) -> 0 | CV25: =IF(CQ25=DA25,0,1) -> 0 | CW25: =IF(CT25=DD25,0,1) -> 0 | CY25: holeProximityDistanceFactor | CZ25: Double | DA25: 2
A26: 25 | B26: =IF(W26>0,W26,IF(AG26>0,AG26,IF(AQ26>0,AQ26,IF(BA26>0,BA26,IF(BK26>0,BK26,IF(BU26>0,BU26,IF(CE26>0,CE26,IF(CO26>0,CO26,IF(CY26>0,CY26,"fix"))))))))) -> holeProximityWallAngleDegrees | C26: =SUM(AC26:AE26,AM26:AO26,AW26:AY26,BG26:BI26,BQ26:BS26,CA26:CC26,CK26:CM26,CU26:CW26) -> 1 | D26: =Y26 -> 20 | E26: =IF(AF26>0,AF26,"-") -> New Note | F26: =AI26 -> 20 | G26: =IF(AP26>0,AP26,"-") -> - | H26: =AS26 -> 20 | I26: =IF(AZ26>0,AZ26,"-") -> - | J26: =BC26 -> 20 | K26: =IF(BJ26>0,BJ26,"-") -> - | L26: =BM26 -> 20 | M26: =IF(BT26>0,BT26,"-") -> - | N26: =BW26 -> 20 | O26: =IF(CD26>0,CD26,"-") -> - | P26: =CG26 -> 20 | Q26: =IF(CN26>0,CN26,"-") -> - | R26: =CQ26 -> 20 | S26: =IF(CV26>0,CV26,"-") -> - | T26: =DA26 -> 20 | V26: =A26 -> 25 | W26: holeProximityWallAngleDegrees | X26: Double | Y26: 20 | AB26: Maximum draft angle of a hole wall triangle during LiesNear relations computation. | AC26: =IF(W26=AG26,0,1) -> 0 | AD26: =IF(Y26=AI26,0,1) -> 0 | AE26: =IF(AB26=AL26,0,1) -> 1 | AF26: New Note | AG26: holeProximityWallAngleDegrees | AH26: Double | AI26: 20 | AM26: =IF(AG26=AQ26,0,1) -> 0 | AN26: =IF(AI26=AS26,0,1) -> 0 | AO26: =IF(AL26=AV26,0,1) -> 0 | AQ26: holeProximityWallAngleDegrees | AR26: Double | AS26: 20 | AW26: =IF(AQ26=BA26,0,1) -> 0 | AX26: =IF(AS26=BC26,0,1) -> 0 | AY26: =IF(AV26=BF26,0,1) -> 0 | BA26: holeProximityWallAngleDegrees | BB26: Double | BC26: 20 | BG26: =IF(BA26=BK26,0,1) -> 0 | BH26: =IF(BC26=BM26,0,1) -> 0 | BI26: =IF(BF26=BP26,0,1) -> 0 | BK26: holeProximityWallAngleDegrees | BL26: Double | BM26: 20 | BQ26: =IF(BK26=BU26,0,1) -> 0 | BR26: =IF(BM26=BW26,0,1) -> 0 | BS26: =IF(BP26=BZ26,0,1) -> 0 | BU26: holeProximityWallAngleDegrees | BV26: Double | BW26: 20 | CA26: =IF(BU26=CE26,0,1) -> 0 | CB26: =IF(BW26=CG26,0,1) -> 0 | CC26: =IF(BZ26=CJ26,0,1) -> 0 | CE26: holeProximityWallAngleDegrees | CF26: Double | CG26: 20 | CK26: =IF(CE26=CO26,0,1) -> 0 | CL26: =IF(CG26=CQ26,0,1) -> 0 | CM26: =IF(CJ26=CT26,0,1) -> 0 | CO26: holeProximityWallAngleDegrees | CP26: Double | CQ26: 20 | CU26: =IF(CO26=CY26,0,1) -> 0 | CV26: =IF(CQ26=DA26,0,1) -> 0 | CW26: =IF(CT26=DD26,0,1) -> 0 | CY26: holeProximityWallAngleDegrees | CZ26: Double | DA26: 20
A27: 26 | B27: =IF(W27>0,W27,IF(AG27>0,AG27,IF(AQ27>0,AQ27,IF(BA27>0,BA27,IF(BK27>0,BK27,IF(BU27>0,BU27,IF(CE27>0,CE27,IF(CO27>0,CO27,IF(CY27>0,CY27,"fix"))))))))) -> isToolMinThicknessComputationEnabled | C27: =SUM(AC27:AE27,AM27:AO27,AW27:AY27,BG27:BI27,BQ27:BS27,CA27:CC27,CK27:CM27,CU27:CW27) -> 1 | D27: =Y27 -> FALSE | E27: =IF(AF27>0,AF27,"-") -> New Note | F27: =AI27 -> FALSE | G27: =IF(AP27>0,AP27,"-") -> - | H27: =AS27 -> FALSE | I27: =IF(AZ27>0,AZ27,"-") -> - | J27: =BC27 -> FALSE | K27: =IF(BJ27>0,BJ27,"-") -> - | L27: =BM27 -> FALSE | M27: =IF(BT27>0,BT27,"-") -> - | N27: =BW27 -> FALSE | O27: =IF(CD27>0,CD27,"-") -> - | P27: =CG27 -> FALSE | Q27: =IF(CN27>0,CN27,"-") -> - | R27: =CQ27 -> FALSE | S27: =IF(CV27>0,CV27,"-") -> - | T27: =DA27 -> FALSE | V27: =A27 -> 26 | W27: isToolMinThicknessComputationEnabled | X27: Boolean | Y27: FALSE | AB27: Enables Tool Min Thickness computation. | AC27: =IF(W27=AG27,0,1) -> 0 | AD27: =IF(Y27=AI27,0,1) -> 0 | AE27: =IF(AB27=AL27,0,1) -> 1 | AF27: New Note | AG27: isToolMinThicknessComputationEnabled | AH27: Boolean | AI27: FALSE | AM27: =IF(AG27=AQ27,0,1) -> 0 | AN27: =IF(AI27=AS27,0,1) -> 0 | AO27: =IF(AL27=AV27,0,1) -> 0 | AQ27: isToolMinThicknessComputationEnabled | AR27: Boolean | AS27: FALSE | AW27: =IF(AQ27=BA27,0,1) -> 0 | AX27: =IF(AS27=BC27,0,1) -> 0 | AY27: =IF(AV27=BF27,0,1) -> 0 | BA27: isToolMinThicknessComputationEnabled | BB27: Boolean | BC27: FALSE | BG27: =IF(BA27=BK27,0,1) -> 0 | BH27: =IF(BC27=BM27,0,1) -> 0 | BI27: =IF(BF27=BP27,0,1) -> 0 | BK27: isToolMinThicknessComputationEnabled | BL27: Boolean | BM27: FALSE | BQ27: =IF(BK27=BU27,0,1) -> 0 | BR27: =IF(BM27=BW27,0,1) -> 0 | BS27: =IF(BP27=BZ27,0,1) -> 0 | BU27: isToolMinThicknessComputationEnabled | BV27: Boolean | BW27: FALSE | CA27: =IF(BU27=CE27,0,1) -> 0 | CB27: =IF(BW27=CG27,0,1) -> 0 | CC27: =IF(BZ27=CJ27,0,1) -> 0 | CE27: isToolMinThicknessComputationEnabled | CF27: Boolean | CG27: FALSE | CK27: =IF(CE27=CO27,0,1) -> 0 | CL27: =IF(CG27=CQ27,0,1) -> 0 | CM27: =IF(CJ27=CT27,0,1) -> 0 | CO27: isToolMinThicknessComputationEnabled | CP27: Boolean | CQ27: FALSE | CU27: =IF(CO27=CY27,0,1) -> 0 | CV27: =IF(CQ27=DA27,0,1) -> 0 | CW27: =IF(CT27=DD27,0,1) -> 0 | CY27: isToolMinThicknessComputationEnabled | CZ27: Boolean | DA27: FALSE
A28: 27 | B28: =IF(W28>0,W28,IF(AG28>0,AG28,IF(AQ28>0,AQ28,IF(BA28>0,BA28,IF(BK28>0,BK28,IF(BU28>0,BU28,IF(CE28>0,CE28,IF(CO28>0,CO28,IF(CY28>0,CY28,"fix"))))))))) -> maxAngleBetweenWalls | C28: =SUM(AC28:AE28,AM28:AO28,AW28:AY28,BG28:BI28,BQ28:BS28,CA28:CC28,CK28:CM28,CU28:CW28) -> 1 | D28: =Y28 -> 10 | E28: =IF(AF28>0,AF28,"-") -> New Note | F28: =AI28 -> 10 | G28: =IF(AP28>0,AP28,"-") -> - | H28: =AS28 -> 10 | I28: =IF(AZ28>0,AZ28,"-") -> - | J28: =BC28 -> 10 | K28: =IF(BJ28>0,BJ28,"-") -> - | L28: =BM28 -> 10 | M28: =IF(BT28>0,BT28,"-") -> - | N28: =BW28 -> 10 | O28: =IF(CD28>0,CD28,"-") -> - | P28: =CG28 -> 10 | Q28: =IF(CN28>0,CN28,"-") -> - | R28: =CQ28 -> 10 | S28: =IF(CV28>0,CV28,"-") -> - | T28: =DA28 -> 10 | V28: =A28 -> 27 | W28: maxAngleBetweenWalls | X28: Double | Y28: 10 | AB28: Maximum angle between two triangles forming a valid wall during Legacy Voxel-Based thickness computation. | AC28: =IF(W28=AG28,0,1) -> 0 | AD28: =IF(Y28=AI28,0,1) -> 0 | AE28: =IF(AB28=AL28,0,1) -> 1 | AF28: New Note | AG28: maxAngleBetweenWalls | AH28: Double | AI28: 10 | AM28: =IF(AG28=AQ28,0,1) -> 0 | AN28: =IF(AI28=AS28,0,1) -> 0 | AO28: =IF(AL28=AV28,0,1) -> 0 | AQ28: maxAngleBetweenWalls | AR28: Double | AS28: 10 | AW28: =IF(AQ28=BA28,0,1) -> 0 | AX28: =IF(AS28=BC28,0,1) -> 0 | AY28: =IF(AV28=BF28,0,1) -> 0 | BA28: maxAngleBetweenWalls | BB28: Double | BC28: 10 | BG28: =IF(BA28=BK28,0,1) -> 0 | BH28: =IF(BC28=BM28,0,1) -> 0 | BI28: =IF(BF28=BP28,0,1) -> 0 | BK28: maxAngleBetweenWalls | BL28: Double | BM28: 10 | BQ28: =IF(BK28=BU28,0,1) -> 0 | BR28: =IF(BM28=BW28,0,1) -> 0 | BS28: =IF(BP28=BZ28,0,1) -> 0 | BU28: maxAngleBetweenWalls | BV28: Double | BW28: 10 | CA28: =IF(BU28=CE28,0,1) -> 0 | CB28: =IF(BW28=CG28,0,1) -> 0 | CC28: =IF(BZ28=CJ28,0,1) -> 0 | CE28: maxAngleBetweenWalls | CF28: Double | CG28: 10 | CK28: =IF(CE28=CO28,0,1) -> 0 | CL28: =IF(CG28=CQ28,0,1) -> 0 | CM28: =IF(CJ28=CT28,0,1) -> 0 | CO28: maxAngleBetweenWalls | CP28: Double | CQ28: 10 | CU28: =IF(CO28=CY28,0,1) -> 0 | CV28: =IF(CQ28=DA28,0,1) -> 0 | CW28: =IF(CT28=DD28,0,1) -> 0 | CY28: maxAngleBetweenWalls | CZ28: Double | DA28: 10
A29: 28 | B29: =IF(W29>0,W29,IF(AG29>0,AG29,IF(AQ29>0,AQ29,IF(BA29>0,BA29,IF(BK29>0,BK29,IF(BU29>0,BU29,IF(CE29>0,CE29,IF(CO29>0,CO29,IF(CY29>0,CY29,"fix"))))))))) -> maxCoreAspectRatio | C29: =SUM(AC29:AE29,AM29:AO29,AW29:AY29,BG29:BI29,BQ29:BS29,CA29:CC29,CK29:CM29,CU29:CW29) -> 0 | D29: =Y29 -> 18 | E29: =IF(AF29>0,AF29,"-") -> - | F29: =AI29 -> 18 | G29: =IF(AP29>0,AP29,"-") -> - | H29: =AS29 -> 18 | I29: =IF(AZ29>0,AZ29,"-") -> - | J29: =BC29 -> 18 | K29: =IF(BJ29>0,BJ29,"-") -> - | L29: =BM29 -> 18 | M29: =IF(BT29>0,BT29,"-") -> - | N29: =BW29 -> 18 | O29: =IF(CD29>0,CD29,"-") -> - | P29: =CG29 -> 18 | Q29: =IF(CN29>0,CN29,"-") -> - | R29: =CQ29 -> 18 | S29: =IF(CV29>0,CV29,"-") -> - | T29: =DA29 -> 18 | V29: =A29 -> 28 | W29: maxCoreAspectRatio | X29: Double | Y29: 18 | AC29: =IF(W29=AG29,0,1) -> 0 | AD29: =IF(Y29=AI29,0,1) -> 0 | AE29: =IF(AB29=AL29,0,1) -> 0 | AG29: maxCoreAspectRatio | AH29: Double | AI29: 18 | AM29: =IF(AG29=AQ29,0,1) -> 0 | AN29: =IF(AI29=AS29,0,1) -> 0 | AO29: =IF(AL29=AV29,0,1) -> 0 | AQ29: maxCoreAspectRatio | AR29: Double | AS29: 18 | AW29: =IF(AQ29=BA29,0,1) -> 0 | AX29: =IF(AS29=BC29,0,1) -> 0 | AY29: =IF(AV29=BF29,0,1) -> 0 | BA29: maxCoreAspectRatio | BB29: Double | BC29: 18 | BG29: =IF(BA29=BK29,0,1) -> 0 | BH29: =IF(BC29=BM29,0,1) -> 0 | BI29: =IF(BF29=BP29,0,1) -> 0 | BK29: maxCoreAspectRatio | BL29: Double | BM29: 18 | BQ29: =IF(BK29=BU29,0,1) -> 0 | BR29: =IF(BM29=BW29,0,1) -> 0 | BS29: =IF(BP29=BZ29,0,1) -> 0 | BU29: maxCoreAspectRatio | BV29: Double | BW29: 18 | CA29: =IF(BU29=CE29,0,1) -> 0 | CB29: =IF(BW29=CG29,0,1) -> 0 | CC29: =IF(BZ29=CJ29,0,1) -> 0 | CE29: maxCoreAspectRatio | CF29: Double | CG29: 18 | CK29: =IF(CE29=CO29,0,1) -> 0 | CL29: =IF(CG29=CQ29,0,1) -> 0 | CM29: =IF(CJ29=CT29,0,1) -> 0 | CO29: maxCoreAspectRatio | CP29: Double | CQ29: 18 | CU29: =IF(CO29=CY29,0,1) -> 0 | CV29: =IF(CQ29=DA29,0,1) -> 0 | CW29: =IF(CT29=DD29,0,1) -> 0 | CY29: maxCoreAspectRatio | CZ29: Double | DA29: 18
A30: 29 | B30: =IF(W30>0,W30,IF(AG30>0,AG30,IF(AQ30>0,AQ30,IF(BA30>0,BA30,IF(BK30>0,BK30,IF(BU30>0,BU30,IF(CE30>0,CE30,IF(CO30>0,CO30,IF(CY30>0,CY30,"fix"))))))))) -> maxIsAboutForPlaneObstructionPercent | C30: =SUM(AC30:AE30,AM30:AO30,AW30:AY30,BG30:BI30,BQ30:BS30,CA30:CC30,CK30:CM30,CU30:CW30) -> 1 | D30: =Y30 -> 10 | E30: =IF(AF30>0,AF30,"-") -> - | F30: =AI30 -> 10 | G30: =IF(AP30>0,AP30,"-") -> - | H30: =AS30 -> 10 | I30: =IF(AZ30>0,AZ30,"-") -> - | J30: =BC30 -> 10 | K30: =IF(BJ30>0,BJ30,"-") -> - | L30: =BM30 -> 10 | M30: =IF(BT30>0,BT30,"-") -> - | N30: =BW30 -> 10 | O30: =IF(CD30>0,CD30,"-") -> New Value | P30: =CG30 -> 5 | Q30: =IF(CN30>0,CN30,"-") -> - | R30: =CQ30 -> 5 | S30: =IF(CV30>0,CV30,"-") -> - | T30: =DA30 -> 5 | V30: =A30 -> 29 | W30: maxIsAboutForPlaneObstructionPercent | X30: Double | Y30: 10 | AB30: Don't create isAbout relations if more than X% of the plane cannot be turned | AC30: =IF(W30=AG30,0,1) -> 0 | AD30: =IF(Y30=AI30,0,1) -> 0 | AE30: =IF(AB30=AL30,0,1) -> 0 | AG30: maxIsAboutForPlaneObstructionPercent | AH30: Double | AI30: 10 | AL30: Don't create isAbout relations if more than X% of the plane cannot be turned | AM30: =IF(AG30=AQ30,0,1) -> 0 | AN30: =IF(AI30=AS30,0,1) -> 0 | AO30: =IF(AL30=AV30,0,1) -> 0 | AQ30: maxIsAboutForPlaneObstructionPercent | AR30: Double | AS30: 10 | AV30: Don't create isAbout relations if more than X% of the plane cannot be turned | AW30: =IF(AQ30=BA30,0,1) -> 0 | AX30: =IF(AS30=BC30,0,1) -> 0 | AY30: =IF(AV30=BF30,0,1) -> 0 | BA30: maxIsAboutForPlaneObstructionPercent | BB30: Double | BC30: 10 | BF30: Don't create isAbout relations if more than X% of the plane cannot be turned | BG30: =IF(BA30=BK30,0,1) -> 0 | BH30: =IF(BC30=BM30,0,1) -> 0 | BI30: =IF(BF30=BP30,0,1) -> 0 | BK30: maxIsAboutForPlaneObstructionPercent | BL30: Double | BM30: 10 | BP30: Don't create isAbout relations if more than X% of the plane cannot be turned | BQ30: =IF(BK30=BU30,0,1) -> 0 | BR30: =IF(BM30=BW30,0,1) -> 0 | BS30: =IF(BP30=BZ30,0,1) -> 0 | BU30: maxIsAboutForPlaneObstructionPercent | BV30: Double | BW30: 10 | BZ30: Don't create isAbout relations if more than X% of the plane cannot be turned | CA30: =IF(BU30=CE30,0,1) -> 0 | CB30: =IF(BW30=CG30,0,1) -> 1 | CC30: =IF(BZ30=CJ30,0,1) -> 0 | CD30: New Value | CE30: maxIsAboutForPlaneObstructionPercent | CF30: Double | CG30: 5 | CJ30: Don't create isAbout relations if more than X% of the plane cannot be turned | CK30: =IF(CE30=CO30,0,1) -> 0 | CL30: =IF(CG30=CQ30,0,1) -> 0 | CM30: =IF(CJ30=CT30,0,1) -> 0 | CO30: maxIsAboutForPlaneObstructionPercent | CP30: Double | CQ30: 5 | CT30: Don't create isAbout relations if more than X% of the plane cannot be turned | CU30: =IF(CO30=CY30,0,1) -> 0 | CV30: =IF(CQ30=DA30,0,1) -> 0 | CW30: =IF(CT30=DD30,0,1) -> 0 | CY30: maxIsAboutForPlaneObstructionPercent | CZ30: Double | DA30: 5 | DD30: Don't create isAbout relations if more than X% of the plane cannot be turned
A31: 30 | B31: =IF(W31>0,W31,IF(AG31>0,AG31,IF(AQ31>0,AQ31,IF(BA31>0,BA31,IF(BK31>0,BK31,IF(BU31>0,BU31,IF(CE31>0,CE31,IF(CO31>0,CO31,IF(CY31>0,CY31,"fix"))))))))) -> maxNumTurningAxes | C31: =SUM(AC31:AE31,AM31:AO31,AW31:AY31,BG31:BI31,BQ31:BS31,CA31:CC31,CK31:CM31,CU31:CW31) -> 0 | D31: =Y31 -> 1 | E31: =IF(AF31>0,AF31,"-") -> - | F31: =AI31 -> 1 | G31: =IF(AP31>0,AP31,"-") -> - | H31: =AS31 -> 1 | I31: =IF(AZ31>0,AZ31,"-") -> - | J31: =BC31 -> 1 | K31: =IF(BJ31>0,BJ31,"-") -> - | L31: =BM31 -> 1 | M31: =IF(BT31>0,BT31,"-") -> - | N31: =BW31 -> 1 | O31: =IF(CD31>0,CD31,"-") -> - | P31: =CG31 -> 1 | Q31: =IF(CN31>0,CN31,"-") -> - | R31: =CQ31 -> 1 | S31: =IF(CV31>0,CV31,"-") -> - | T31: =DA31 -> 1 | V31: =A31 -> 30 | W31: maxNumTurningAxes | X31: Integer | Y31: 1 | AC31: =IF(W31=AG31,0,1) -> 0 | AD31: =IF(Y31=AI31,0,1) -> 0 | AE31: =IF(AB31=AL31,0,1) -> 0 | AG31: maxNumTurningAxes | AH31: Integer | AI31: 1 | AM31: =IF(AG31=AQ31,0,1) -> 0 | AN31: =IF(AI31=AS31,0,1) -> 0 | AO31: =IF(AL31=AV31,0,1) -> 0 | AQ31: maxNumTurningAxes | AR31: Integer | AS31: 1 | AW31: =IF(AQ31=BA31,0,1) -> 0 | AX31: =IF(AS31=BC31,0,1) -> 0 | AY31: =IF(AV31=BF31,0,1) -> 0 | BA31: maxNumTurningAxes | BB31: Integer | BC31: 1 | BG31: =IF(BA31=BK31,0,1) -> 0 | BH31: =IF(BC31=BM31,0,1) -> 0 | BI31: =IF(BF31=BP31,0,1) -> 0 | BK31: maxNumTurningAxes | BL31: Integer | BM31: 1 | BQ31: =IF(BK31=BU31,0,1) -> 0 | BR31: =IF(BM31=BW31,0,1) -> 0 | BS31: =IF(BP31=BZ31,0,1) -> 0 | BU31: maxNumTurningAxes | BV31: Integer | BW31: 1 | CA31: =IF(BU31=CE31,0,1) -> 0 | CB31: =IF(BW31=CG31,0,1) -> 0 | CC31: =IF(BZ31=CJ31,0,1) -> 0 | CE31: maxNumTurningAxes | CF31: Integer | CG31: 1 | CK31: =IF(CE31=CO31,0,1) -> 0 | CL31: =IF(CG31=CQ31,0,1) -> 0 | CM31: =IF(CJ31=CT31,0,1) -> 0 | CO31: maxNumTurningAxes | CP31: Integer | CQ31: 1 | CU31: =IF(CO31=CY31,0,1) -> 0 | CV31: =IF(CQ31=DA31,0,1) -> 0 | CW31: =IF(CT31=DD31,0,1) -> 0 | CY31: maxNumTurningAxes | CZ31: Integer | DA31: 1
A32: 31 | B32: =IF(W32>0,W32,IF(AG32>0,AG32,IF(AQ32>0,AQ32,IF(BA32>0,BA32,IF(BK32>0,BK32,IF(BU32>0,BU32,IF(CE32>0,CE32,IF(CO32>0,CO32,IF(CY32>0,CY32,"fix"))))))))) -> maxObscuredVoidRayGridSize | C32: =SUM(AC32:AE32,AM32:AO32,AW32:AY32,BG32:BI32,BQ32:BS32,CA32:CC32,CK32:CM32,CU32:CW32) -> 1 | D32: =Y32 -> 1000 | E32: =IF(AF32>0,AF32,"-") -> New Note | F32: =AI32 -> 1000 | G32: =IF(AP32>0,AP32,"-") -> - | H32: =AS32 -> 1000 | I32: =IF(AZ32>0,AZ32,"-") -> - | J32: =BC32 -> 1000 | K32: =IF(BJ32>0,BJ32,"-") -> - | L32: =BM32 -> 1000 | M32: =IF(BT32>0,BT32,"-") -> - | N32: =BW32 -> 1000 | O32: =IF(CD32>0,CD32,"-") -> - | P32: =CG32 -> 1000 | Q32: =IF(CN32>0,CN32,"-") -> - | R32: =CQ32 -> 1000 | S32: =IF(CV32>0,CV32,"-") -> - | T32: =DA32 -> 1000 | V32: =A32 -> 31 | W32: maxObscuredVoidRayGridSize | X32: Integer | Y32: 1000 | AB32: Maximum number of small, obscured void detector rays in each grid dimension. If the value of maxObscuredVoidRayGridSize is 0, ray grid size will be unlimited. | AC32: =IF(W32=AG32,0,1) -> 0 | AD32: =IF(Y32=AI32,0,1) -> 0 | AE32: =IF(AB32=AL32,0,1) -> 1 | AF32: New Note | AG32: maxObscuredVoidRayGridSize | AH32: Integer | AI32: 1000 | AM32: =IF(AG32=AQ32,0,1) -> 0 | AN32: =IF(AI32=AS32,0,1) -> 0 | AO32: =IF(AL32=AV32,0,1) -> 0 | AQ32: maxObscuredVoidRayGridSize | AR32: Integer | AS32: 1000 | AW32: =IF(AQ32=BA32,0,1) -> 0 | AX32: =IF(AS32=BC32,0,1) -> 0 | AY32: =IF(AV32=BF32,0,1) -> 0 | BA32: maxObscuredVoidRayGridSize | BB32: Integer | BC32: 1000 | BG32: =IF(BA32=BK32,0,1) -> 0 | BH32: =IF(BC32=BM32,0,1) -> 0 | BI32: =IF(BF32=BP32,0,1) -> 0 | BK32: maxObscuredVoidRayGridSize | BL32: Integer | BM32: 1000 | BQ32: =IF(BK32=BU32,0,1) -> 0 | BR32: =IF(BM32=BW32,0,1) -> 0 | BS32: =IF(BP32=BZ32,0,1) -> 0 | BU32: maxObscuredVoidRayGridSize | BV32: Integer | BW32: 1000 | CA32: =IF(BU32=CE32,0,1) -> 0 | CB32: =IF(BW32=CG32,0,1) -> 0 | CC32: =IF(BZ32=CJ32,0,1) -> 0 | CE32: maxObscuredVoidRayGridSize | CF32: Integer | CG32: 1000 | CK32: =IF(CE32=CO32,0,1) -> 0 | CL32: =IF(CG32=CQ32,0,1) -> 0 | CM32: =IF(CJ32=CT32,0,1) -> 0 | CO32: maxObscuredVoidRayGridSize | CP32: Integer | CQ32: 1000 | CU32: =IF(CO32=CY32,0,1) -> 0 | CV32: =IF(CQ32=DA32,0,1) -> 0 | CW32: =IF(CT32=DD32,0,1) -> 0 | CY32: maxObscuredVoidRayGridSize | CZ32: Integer | DA32: 1000
A33: 32 | B33: =IF(W33>0,W33,IF(AG33>0,AG33,IF(AQ33>0,AQ33,IF(BA33>0,BA33,IF(BK33>0,BK33,IF(BU33>0,BU33,IF(CE33>0,CE33,IF(CO33>0,CO33,IF(CY33>0,CY33,"fix"))))))))) -> maxTurningAxisEccentricity | C33: =SUM(AC33:AE33,AM33:AO33,AW33:AY33,BG33:BI33,BQ33:BS33,CA33:CC33,CK33:CM33,CU33:CW33) -> 0 | D33: =Y33 -> 0.05 | E33: =IF(AF33>0,AF33,"-") -> - | F33: =AI33 -> 0.05 | G33: =IF(AP33>0,AP33,"-") -> - | H33: =AS33 -> 0.05 | I33: =IF(AZ33>0,AZ33,"-") -> - | J33: =BC33 -> 0.05 | K33: =IF(BJ33>0,BJ33,"-") -> - | L33: =BM33 -> 0.05 | M33: =IF(BT33>0,BT33,"-") -> - | N33: =BW33 -> 0.05 | O33: =IF(CD33>0,CD33,"-") -> - | P33: =CG33 -> 0.05 | Q33: =IF(CN33>0,CN33,"-") -> - | R33: =CQ33 -> 0.05 | S33: =IF(CV33>0,CV33,"-") -> - | T33: =DA33 -> 0.05 | V33: =A33 -> 32 | W33: maxTurningAxisEccentricity | X33: Double | Y33: 0.05 | AB33: Controls the how far and skewed a turning axis can be from ideal. Valid values are positive. | AC33: =IF(W33=AG33,0,1) -> 0 | AD33: =IF(Y33=AI33,0,1) -> 0 | AE33: =IF(AB33=AL33,0,1) -> 0 | AG33: maxTurningAxisEccentricity | AH33: Double | AI33: 0.05 | AL33: Controls the how far and skewed a turning axis can be from ideal. Valid values are positive. | AM33: =IF(AG33=AQ33,0,1) -> 0 | AN33: =IF(AI33=AS33,0,1) -> 0 | AO33: =IF(AL33=AV33,0,1) -> 0 | AQ33: maxTurningAxisEccentricity | AR33: Double | AS33: 0.05 | AV33: Controls the how far and skewed a turning axis can be from ideal. Valid values are positive. | AW33: =IF(AQ33=BA33,0,1) -> 0 | AX33: =IF(AS33=BC33,0,1) -> 0 | AY33: =IF(AV33=BF33,0,1) -> 0 | BA33: maxTurningAxisEccentricity | BB33: Double | BC33: 0.05 | BF33: Controls the how far and skewed a turning axis can be from ideal. Valid values are positive. | BG33: =IF(BA33=BK33,0,1) -> 0 | BH33: =IF(BC33=BM33,0,1) -> 0 | BI33: =IF(BF33=BP33,0,1) -> 0 | BK33: maxTurningAxisEccentricity | BL33: Double | BM33: 0.05 | BP33: Controls the how far and skewed a turning axis can be from ideal. Valid values are positive. | BQ33: =IF(BK33=BU33,0,1) -> 0 | BR33: =IF(BM33=BW33,0,1) -> 0 | BS33: =IF(BP33=BZ33,0,1) -> 0 | BU33: maxTurningAxisEccentricity | BV33: Double | BW33: 0.05 | BZ33: Controls the how far and skewed a turning axis can be from ideal. Valid values are positive. | CA33: =IF(BU33=CE33,0,1) -> 0 | CB33: =IF(BW33=CG33,0,1) -> 0 | CC33: =IF(BZ33=CJ33,0,1) -> 0 | CE33: maxTurningAxisEccentricity | CF33: Double | CG33: 0.05 | CJ33: Controls the how far and skewed a turning axis can be from ideal. Valid values are positive. | CK33: =IF(CE33=CO33,0,1) -> 0 | CL33: =IF(CG33=CQ33,0,1) -> 0 | CM33: =IF(CJ33=CT33,0,1) -> 0 | CO33: maxTurningAxisEccentricity | CP33: Double | CQ33: 0.05 | CT33: Controls the how far and skewed a turning axis can be from ideal. Valid values are positive. | CU33: =IF(CO33=CY33,0,1) -> 0 | CV33: =IF(CQ33=DA33,0,1) -> 0 | CW33: =IF(CT33=DD33,0,1) -> 0 | CY33: maxTurningAxisEccentricity | CZ33: Double | DA33: 0.05 | DD33: Controls the how far and skewed a turning axis can be from ideal. Valid values are positive.
A34: 33 | B34: =IF(W34>0,W34,IF(AG34>0,AG34,IF(AQ34>0,AQ34,IF(BA34>0,BA34,IF(BK34>0,BK34,IF(BU34>0,BU34,IF(CE34>0,CE34,IF(CO34>0,CO34,IF(CY34>0,CY34,"fix"))))))))) -> minCADTolerance | C34: =SUM(AC34:AE34,AM34:AO34,AW34:AY34,BG34:BI34,BQ34:BS34,CA34:CC34,CK34:CM34,CU34:CW34) -> 0 | D34: =Y34 -> 0.254 | E34: =IF(AF34>0,AF34,"-") -> - | F34: =AI34 -> 0.254 | G34: =IF(AP34>0,AP34,"-") -> - | H34: =AS34 -> 0.254 | I34: =IF(AZ34>0,AZ34,"-") -> - | J34: =BC34 -> 0.254 | K34: =IF(BJ34>0,BJ34,"-") -> - | L34: =BM34 -> 0.254 | M34: =IF(BT34>0,BT34,"-") -> - | N34: =BW34 -> 0.254 | O34: =IF(CD34>0,CD34,"-") -> - | P34: =CG34 -> 0.254 | Q34: =IF(CN34>0,CN34,"-") -> - | R34: =CQ34 -> 0.254 | S34: =IF(CV34>0,CV34,"-") -> - | T34: =DA34 -> 0.254 | V34: =A34 -> 33 | W34: minCADTolerance | X34: Double | Y34: 0.254 | AC34: =IF(W34=AG34,0,1) -> 0 | AD34: =IF(Y34=AI34,0,1) -> 0 | AE34: =IF(AB34=AL34,0,1) -> 0 | AG34: minCADTolerance | AH34: Double | AI34: 0.254 | AM34: =IF(AG34=AQ34,0,1) -> 0 | AN34: =IF(AI34=AS34,0,1) -> 0 | AO34: =IF(AL34=AV34,0,1) -> 0 | AQ34: minCADTolerance | AR34: Double | AS34: 0.254 | AW34: =IF(AQ34=BA34,0,1) -> 0 | AX34: =IF(AS34=BC34,0,1) -> 0 | AY34: =IF(AV34=BF34,0,1) -> 0 | BA34: minCADTolerance | BB34: Double | BC34: 0.254 | BG34: =IF(BA34=BK34,0,1) -> 0 | BH34: =IF(BC34=BM34,0,1) -> 0 | BI34: =IF(BF34=BP34,0,1) -> 0 | BK34: minCADTolerance | BL34: Double | BM34: 0.254 | BQ34: =IF(BK34=BU34,0,1) -> 0 | BR34: =IF(BM34=BW34,0,1) -> 0 | BS34: =IF(BP34=BZ34,0,1) -> 0 | BU34: minCADTolerance | BV34: Double | BW34: 0.254 | CA34: =IF(BU34=CE34,0,1) -> 0 | CB34: =IF(BW34=CG34,0,1) -> 0 | CC34: =IF(BZ34=CJ34,0,1) -> 0 | CE34: minCADTolerance | CF34: Double | CG34: 0.254 | CK34: =IF(CE34=CO34,0,1) -> 0 | CL34: =IF(CG34=CQ34,0,1) -> 0 | CM34: =IF(CJ34=CT34,0,1) -> 0 | CO34: minCADTolerance | CP34: Double | CQ34: 0.254 | CU34: =IF(CO34=CY34,0,1) -> 0 | CV34: =IF(CQ34=DA34,0,1) -> 0 | CW34: =IF(CT34=DD34,0,1) -> 0 | CY34: minCADTolerance | CZ34: Double | DA34: 0.254
A35: 34 | B35: =IF(W35>0,W35,IF(AG35>0,AG35,IF(AQ35>0,AQ35,IF(BA35>0,BA35,IF(BK35>0,BK35,IF(BU35>0,BU35,IF(CE35>0,CE35,IF(CO35>0,CO35,IF(CY35>0,CY35,"fix"))))))))) -> minCastableHoleDiameter | C35: =SUM(AC35:AE35,AM35:AO35,AW35:AY35,BG35:BI35,BQ35:BS35,CA35:CC35,CK35:CM35,CU35:CW35) -> 0 | D35: =Y35 -> 6.4 | E35: =IF(AF35>0,AF35,"-") -> - | F35: =AI35 -> 6.4 | G35: =IF(AP35>0,AP35,"-") -> - | H35: =AS35 -> 6.4 | I35: =IF(AZ35>0,AZ35,"-") -> - | J35: =BC35 -> 6.4 | K35: =IF(BJ35>0,BJ35,"-") -> - | L35: =BM35 -> 6.4 | M35: =IF(BT35>0,BT35,"-") -> - | N35: =BW35 -> 6.4 | O35: =IF(CD35>0,CD35,"-") -> - | P35: =CG35 -> 6.4 | Q35: =IF(CN35>0,CN35,"-") -> - | R35: =CQ35 -> 6.4 | S35: =IF(CV35>0,CV35,"-") -> - | T35: =DA35 -> 6.4 | V35: =A35 -> 34 | W35: minCastableHoleDiameter | X35: Double | Y35: 6.4 | AC35: =IF(W35=AG35,0,1) -> 0 | AD35: =IF(Y35=AI35,0,1) -> 0 | AE35: =IF(AB35=AL35,0,1) -> 0 | AG35: minCastableHoleDiameter | AH35: Double | AI35: 6.4 | AM35: =IF(AG35=AQ35,0,1) -> 0 | AN35: =IF(AI35=AS35,0,1) -> 0 | AO35: =IF(AL35=AV35,0,1) -> 0 | AQ35: minCastableHoleDiameter | AR35: Double | AS35: 6.4 | AW35: =IF(AQ35=BA35,0,1) -> 0 | AX35: =IF(AS35=BC35,0,1) -> 0 | AY35: =IF(AV35=BF35,0,1) -> 0 | BA35: minCastableHoleDiameter | BB35: Double | BC35: 6.4 | BG35: =IF(BA35=BK35,0,1) -> 0 | BH35: =IF(BC35=BM35,0,1) -> 0 | BI35: =IF(BF35=BP35,0,1) -> 0 | BK35: minCastableHoleDiameter | BL35: Double | BM35: 6.4 | BQ35: =IF(BK35=BU35,0,1) -> 0 | BR35: =IF(BM35=BW35,0,1) -> 0 | BS35: =IF(BP35=BZ35,0,1) -> 0 | BU35: minCastableHoleDiameter | BV35: Double | BW35: 6.4 | CA35: =IF(BU35=CE35,0,1) -> 0 | CB35: =IF(BW35=CG35,0,1) -> 0 | CC35: =IF(BZ35=CJ35,0,1) -> 0 | CE35: minCastableHoleDiameter | CF35: Double | CG35: 6.4 | CK35: =IF(CE35=CO35,0,1) -> 0 | CL35: =IF(CG35=CQ35,0,1) -> 0 | CM35: =IF(CJ35=CT35,0,1) -> 0 | CO35: minCastableHoleDiameter | CP35: Double | CQ35: 6.4 | CU35: =IF(CO35=CY35,0,1) -> 0 | CV35: =IF(CQ35=DA35,0,1) -> 0 | CW35: =IF(CT35=DD35,0,1) -> 0 | CY35: minCastableHoleDiameter | CZ35: Double | DA35: 6.4
A36: 35 | B36: =IF(W36>0,W36,IF(AG36>0,AG36,IF(AQ36>0,AQ36,IF(BA36>0,BA36,IF(BK36>0,BK36,IF(BU36>0,BU36,IF(CE36>0,CE36,IF(CO36>0,CO36,IF(CY36>0,CY36,"fix"))))))))) -> minCastableHoleWallThickness | C36: =SUM(AC36:AE36,AM36:AO36,AW36:AY36,BG36:BI36,BQ36:BS36,CA36:CC36,CK36:CM36,CU36:CW36) -> 0 | D36: =Y36 -> 5 | E36: =IF(AF36>0,AF36,"-") -> - | F36: =AI36 -> 5 | G36: =IF(AP36>0,AP36,"-") -> - | H36: =AS36 -> 5 | I36: =IF(AZ36>0,AZ36,"-") -> - | J36: =BC36 -> 5 | K36: =IF(BJ36>0,BJ36,"-") -> - | L36: =BM36 -> 5 | M36: =IF(BT36>0,BT36,"-") -> - | N36: =BW36 -> 5 | O36: =IF(CD36>0,CD36,"-") -> - | P36: =CG36 -> 5 | Q36: =IF(CN36>0,CN36,"-") -> - | R36: =CQ36 -> 5 | S36: =IF(CV36>0,CV36,"-") -> - | T36: =DA36 -> 5 | V36: =A36 -> 35 | W36: minCastableHoleWallThickness | X36: Double | Y36: 5 | AC36: =IF(W36=AG36,0,1) -> 0 | AD36: =IF(Y36=AI36,0,1) -> 0 | AE36: =IF(AB36=AL36,0,1) -> 0 | AG36: minCastableHoleWallThickness | AH36: Double | AI36: 5 | AM36: =IF(AG36=AQ36,0,1) -> 0 | AN36: =IF(AI36=AS36,0,1) -> 0 | AO36: =IF(AL36=AV36,0,1) -> 0 | AQ36: minCastableHoleWallThickness | AR36: Double | AS36: 5 | AW36: =IF(AQ36=BA36,0,1) -> 0 | AX36: =IF(AS36=BC36,0,1) -> 0 | AY36: =IF(AV36=BF36,0,1) -> 0 | BA36: minCastableHoleWallThickness | BB36: Double | BC36: 5 | BG36: =IF(BA36=BK36,0,1) -> 0 | BH36: =IF(BC36=BM36,0,1) -> 0 | BI36: =IF(BF36=BP36,0,1) -> 0 | BK36: minCastableHoleWallThickness | BL36: Double | BM36: 5 | BQ36: =IF(BK36=BU36,0,1) -> 0 | BR36: =IF(BM36=BW36,0,1) -> 0 | BS36: =IF(BP36=BZ36,0,1) -> 0 | BU36: minCastableHoleWallThickness | BV36: Double | BW36: 5 | CA36: =IF(BU36=CE36,0,1) -> 0 | CB36: =IF(BW36=CG36,0,1) -> 0 | CC36: =IF(BZ36=CJ36,0,1) -> 0 | CE36: minCastableHoleWallThickness | CF36: Double | CG36: 5 | CK36: =IF(CE36=CO36,0,1) -> 0 | CL36: =IF(CG36=CQ36,0,1) -> 0 | CM36: =IF(CJ36=CT36,0,1) -> 0 | CO36: minCastableHoleWallThickness | CP36: Double | CQ36: 5 | CU36: =IF(CO36=CY36,0,1) -> 0 | CV36: =IF(CQ36=DA36,0,1) -> 0 | CW36: =IF(CT36=DD36,0,1) -> 0 | CY36: minCastableHoleWallThickness | CZ36: Double | DA36: 5
A37: 36 | B37: =IF(W37>0,W37,IF(AG37>0,AG37,IF(AQ37>0,AQ37,IF(BA37>0,BA37,IF(BK37>0,BK37,IF(BU37>0,BU37,IF(CE37>0,CE37,IF(CO37>0,CO37,IF(CY37>0,CY37,"fix"))))))))) -> minCastableKeywayWidth | C37: =SUM(AC37:AE37,AM37:AO37,AW37:AY37,BG37:BI37,BQ37:BS37,CA37:CC37,CK37:CM37,CU37:CW37) -> 2 | D37: =Y37 -> 0 | E37: =IF(AF37>0,AF37,"-") -> - | F37: =AI37 -> 0 | G37: =IF(AP37>0,AP37,"-") -> - | H37: =AS37 -> 0 | I37: =IF(AZ37>0,AZ37,"-") -> Removed | J37: =BC37 -> 6.4 | K37: =IF(BJ37>0,BJ37,"-") -> - | L37: =BM37 -> 6.4 | M37: =IF(BT37>0,BT37,"-") -> - | N37: =BW37 -> 6.4 | O37: =IF(CD37>0,CD37,"-") -> - | P37: =CG37 -> 6.4 | Q37: =IF(CN37>0,CN37,"-") -> - | R37: =CQ37 -> 6.4 | S37: =IF(CV37>0,CV37,"-") -> - | T37: =DA37 -> 6.4 | V37: =A37 -> 36 | AC37: =IF(W37=AG37,0,1) -> 0 | AD37: =IF(Y37=AI37,0,1) -> 0 | AE37: =IF(AB37=AL37,0,1) -> 0 | AM37: =IF(AG37=AQ37,0,1) -> 0 | AN37: =IF(AI37=AS37,0,1) -> 0 | AO37: =IF(AL37=AV37,0,1) -> 0 | AW37: =IF(AQ37=BA37,0,1) -> 1 | AX37: =IF(AS37=BC37,0,1) -> 1 | AY37: =IF(AV37=BF37,0,1) -> 0 | AZ37: Removed | BA37: minCastableKeywayWidth | BB37: Double | BC37: 6.4 | BG37: =IF(BA37=BK37,0,1) -> 0 | BH37: =IF(BC37=BM37,0,1) -> 0 | BI37: =IF(BF37=BP37,0,1) -> 0 | BK37: minCastableKeywayWidth | BL37: Double | BM37: 6.4 | BQ37: =IF(BK37=BU37,0,1) -> 0 | BR37: =IF(BM37=BW37,0,1) -> 0 | BS37: =IF(BP37=BZ37,0,1) -> 0 | BU37: minCastableKeywayWidth | BV37: Double | BW37: 6.4 | CA37: =IF(BU37=CE37,0,1) -> 0 | CB37: =IF(BW37=CG37,0,1) -> 0 | CC37: =IF(BZ37=CJ37,0,1) -> 0 | CE37: minCastableKeywayWidth | CF37: Double | CG37: 6.4 | CK37: =IF(CE37=CO37,0,1) -> 0 | CL37: =IF(CG37=CQ37,0,1) -> 0 | CM37: =IF(CJ37=CT37,0,1) -> 0 | CO37: minCastableKeywayWidth | CP37: Double | CQ37: 6.4 | CU37: =IF(CO37=CY37,0,1) -> 0 | CV37: =IF(CQ37=DA37,0,1) -> 0 | CW37: =IF(CT37=DD37,0,1) -> 0 | CY37: minCastableKeywayWidth | CZ37: Double | DA37: 6.4
A38: 37 | B38: =IF(W38>0,W38,IF(AG38>0,AG38,IF(AQ38>0,AQ38,IF(BA38>0,BA38,IF(BK38>0,BK38,IF(BU38>0,BU38,IF(CE38>0,CE38,IF(CO38>0,CO38,IF(CY38>0,CY38,"fix"))))))))) -> minCastableRingWidth | C38: =SUM(AC38:AE38,AM38:AO38,AW38:AY38,BG38:BI38,BQ38:BS38,CA38:CC38,CK38:CM38,CU38:CW38) -> 0 | D38: =Y38 -> 6.4 | E38: =IF(AF38>0,AF38,"-") -> - | F38: =AI38 -> 6.4 | G38: =IF(AP38>0,AP38,"-") -> - | H38: =AS38 -> 6.4 | I38: =IF(AZ38>0,AZ38,"-") -> - | J38: =BC38 -> 6.4 | K38: =IF(BJ38>0,BJ38,"-") -> - | L38: =BM38 -> 6.4 | M38: =IF(BT38>0,BT38,"-") -> - | N38: =BW38 -> 6.4 | O38: =IF(CD38>0,CD38,"-") -> - | P38: =CG38 -> 6.4 | Q38: =IF(CN38>0,CN38,"-") -> - | R38: =CQ38 -> 6.4 | S38: =IF(CV38>0,CV38,"-") -> - | T38: =DA38 -> 6.4 | V38: =A38 -> 37 | W38: minCastableRingWidth | X38: Double | Y38: 6.4 | AC38: =IF(W38=AG38,0,1) -> 0 | AD38: =IF(Y38=AI38,0,1) -> 0 | AE38: =IF(AB38=AL38,0,1) -> 0 | AG38: minCastableRingWidth | AH38: Double | AI38: 6.4 | AM38: =IF(AG38=AQ38,0,1) -> 0 | AN38: =IF(AI38=AS38,0,1) -> 0 | AO38: =IF(AL38=AV38,0,1) -> 0 | AQ38: minCastableRingWidth | AR38: Double | AS38: 6.4 | AW38: =IF(AQ38=BA38,0,1) -> 0 | AX38: =IF(AS38=BC38,0,1) -> 0 | AY38: =IF(AV38=BF38,0,1) -> 0 | BA38: minCastableRingWidth | BB38: Double | BC38: 6.4 | BG38: =IF(BA38=BK38,0,1) -> 0 | BH38: =IF(BC38=BM38,0,1) -> 0 | BI38: =IF(BF38=BP38,0,1) -> 0 | BK38: minCastableRingWidth | BL38: Double | BM38: 6.4 | BQ38: =IF(BK38=BU38,0,1) -> 0 | BR38: =IF(BM38=BW38,0,1) -> 0 | BS38: =IF(BP38=BZ38,0,1) -> 0 | BU38: minCastableRingWidth | BV38: Double | BW38: 6.4 | CA38: =IF(BU38=CE38,0,1) -> 0 | CB38: =IF(BW38=CG38,0,1) -> 0 | CC38: =IF(BZ38=CJ38,0,1) -> 0 | CE38: minCastableRingWidth | CF38: Double | CG38: 6.4 | CK38: =IF(CE38=CO38,0,1) -> 0 | CL38: =IF(CG38=CQ38,0,1) -> 0 | CM38: =IF(CJ38=CT38,0,1) -> 0 | CO38: minCastableRingWidth | CP38: Double | CQ38: 6.4 | CU38: =IF(CO38=CY38,0,1) -> 0 | CV38: =IF(CQ38=DA38,0,1) -> 0 | CW38: =IF(CT38=DD38,0,1) -> 0 | CY38: minCastableRingWidth | CZ38: Double | DA38: 6.4
A39: 38 | B39: =IF(W39>0,W39,IF(AG39>0,AG39,IF(AQ39>0,AQ39,IF(BA39>0,BA39,IF(BK39>0,BK39,IF(BU39>0,BU39,IF(CE39>0,CE39,IF(CO39>0,CO39,IF(CY39>0,CY39,"fix"))))))))) -> minGreenSandWidth | C39: =SUM(AC39:AE39,AM39:AO39,AW39:AY39,BG39:BI39,BQ39:BS39,CA39:CC39,CK39:CM39,CU39:CW39) -> 1 | D39: =Y39 -> 25.4 | E39: =IF(AF39>0,AF39,"-") -> New Note | F39: =AI39 -> 25.4 | G39: =IF(AP39>0,AP39,"-") -> - | H39: =AS39 -> 25.4 | I39: =IF(AZ39>0,AZ39,"-") -> - | J39: =BC39 -> 25.4 | K39: =IF(BJ39>0,BJ39,"-") -> - | L39: =BM39 -> 25.4 | M39: =IF(BT39>0,BT39,"-") -> - | N39: =BW39 -> 25.4 | O39: =IF(CD39>0,CD39,"-") -> - | P39: =CG39 -> 25.4 | Q39: =IF(CN39>0,CN39,"-") -> - | R39: =CQ39 -> 25.4 | S39: =IF(CV39>0,CV39,"-") -> - | T39: =DA39 -> 25.4 | V39: =A39 -> 38 | W39: minGreenSandWidth | X39: Double | Y39: 25.4 | AB39: Minimum possible distance between two different breakaway voids. If the distance between two breakaway voids is smaller, they will be merged. | AC39: =IF(W39=AG39,0,1) -> 0 | AD39: =IF(Y39=AI39,0,1) -> 0 | AE39: =IF(AB39=AL39,0,1) -> 1 | AF39: New Note | AG39: minGreenSandWidth | AH39: Double | AI39: 25.4 | AM39: =IF(AG39=AQ39,0,1) -> 0 | AN39: =IF(AI39=AS39,0,1) -> 0 | AO39: =IF(AL39=AV39,0,1) -> 0 | AQ39: minGreenSandWidth | AR39: Double | AS39: 25.4 | AW39: =IF(AQ39=BA39,0,1) -> 0 | AX39: =IF(AS39=BC39,0,1) -> 0 | AY39: =IF(AV39=BF39,0,1) -> 0 | BA39: minGreenSandWidth | BB39: Double | BC39: 25.4 | BG39: =IF(BA39=BK39,0,1) -> 0 | BH39: =IF(BC39=BM39,0,1) -> 0 | BI39: =IF(BF39=BP39,0,1) -> 0 | BK39: minGreenSandWidth | BL39: Double | BM39: 25.4 | BQ39: =IF(BK39=BU39,0,1) -> 0 | BR39: =IF(BM39=BW39,0,1) -> 0 | BS39: =IF(BP39=BZ39,0,1) -> 0 | BU39: minGreenSandWidth | BV39: Double | BW39: 25.4 | CA39: =IF(BU39=CE39,0,1) -> 0 | CB39: =IF(BW39=CG39,0,1) -> 0 | CC39: =IF(BZ39=CJ39,0,1) -> 0 | CE39: minGreenSandWidth | CF39: Double | CG39: 25.4 | CK39: =IF(CE39=CO39,0,1) -> 0 | CL39: =IF(CG39=CQ39,0,1) -> 0 | CM39: =IF(CJ39=CT39,0,1) -> 0 | CO39: minGreenSandWidth | CP39: Double | CQ39: 25.4 | CU39: =IF(CO39=CY39,0,1) -> 0 | CV39: =IF(CQ39=DA39,0,1) -> 0 | CW39: =IF(CT39=DD39,0,1) -> 0 | CY39: minGreenSandWidth | CZ39: Double | DA39: 25.4
A40: 39 | B40: =IF(W40>0,W40,IF(AG40>0,AG40,IF(AQ40>0,AQ40,IF(BA40>0,BA40,IF(BK40>0,BK40,IF(BU40>0,BU40,IF(CE40>0,CE40,IF(CO40>0,CO40,IF(CY40>0,CY40,"fix"))))))))) -> roughnessDefault | C40: =SUM(AC40:AE40,AM40:AO40,AW40:AY40,BG40:BI40,BQ40:BS40,CA40:CC40,CK40:CM40,CU40:CW40) -> 0 | D40: =Y40 -> 25 | E40: =IF(AF40>0,AF40,"-") -> - | F40: =AI40 -> 25 | G40: =IF(AP40>0,AP40,"-") -> - | H40: =AS40 -> 25 | I40: =IF(AZ40>0,AZ40,"-") -> - | J40: =BC40 -> 25 | K40: =IF(BJ40>0,BJ40,"-") -> - | L40: =BM40 -> 25 | M40: =IF(BT40>0,BT40,"-") -> - | N40: =BW40 -> 25 | O40: =IF(CD40>0,CD40,"-") -> - | P40: =CG40 -> 25 | Q40: =IF(CN40>0,CN40,"-") -> - | R40: =CQ40 -> 25 | S40: =IF(CV40>0,CV40,"-") -> - | T40: =DA40 -> 25 | V40: =A40 -> 39 | W40: roughnessDefault | X40: Double | Y40: 25 | AC40: =IF(W40=AG40,0,1) -> 0 | AD40: =IF(Y40=AI40,0,1) -> 0 | AE40: =IF(AB40=AL40,0,1) -> 0 | AG40: roughnessDefault | AH40: Double | AI40: 25 | AM40: =IF(AG40=AQ40,0,1) -> 0 | AN40: =IF(AI40=AS40,0,1) -> 0 | AO40: =IF(AL40=AV40,0,1) -> 0 | AQ40: roughnessDefault | AR40: Double | AS40: 25 | AW40: =IF(AQ40=BA40,0,1) -> 0 | AX40: =IF(AS40=BC40,0,1) -> 0 | AY40: =IF(AV40=BF40,0,1) -> 0 | BA40: roughnessDefault | BB40: Double | BC40: 25 | BG40: =IF(BA40=BK40,0,1) -> 0 | BH40: =IF(BC40=BM40,0,1) -> 0 | BI40: =IF(BF40=BP40,0,1) -> 0 | BK40: roughnessDefault | BL40: Double | BM40: 25 | BQ40: =IF(BK40=BU40,0,1) -> 0 | BR40: =IF(BM40=BW40,0,1) -> 0 | BS40: =IF(BP40=BZ40,0,1) -> 0 | BU40: roughnessDefault | BV40: Double | BW40: 25 | CA40: =IF(BU40=CE40,0,1) -> 0 | CB40: =IF(BW40=CG40,0,1) -> 0 | CC40: =IF(BZ40=CJ40,0,1) -> 0 | CE40: roughnessDefault | CF40: Double | CG40: 25 | CK40: =IF(CE40=CO40,0,1) -> 0 | CL40: =IF(CG40=CQ40,0,1) -> 0 | CM40: =IF(CJ40=CT40,0,1) -> 0 | CO40: roughnessDefault | CP40: Double | CQ40: 25 | CU40: =IF(CO40=CY40,0,1) -> 0 | CV40: =IF(CQ40=DA40,0,1) -> 0 | CW40: =IF(CT40=DD40,0,1) -> 0 | CY40: roughnessDefault | CZ40: Double | DA40: 25
A41: 40 | B41: =IF(W41>0,W41,IF(AG41>0,AG41,IF(AQ41>0,AQ41,IF(BA41>0,BA41,IF(BK41>0,BK41,IF(BU41>0,BU41,IF(CE41>0,CE41,IF(CO41>0,CO41,IF(CY41>0,CY41,"fix"))))))))) -> sharpEdgeDraftAngle | C41: =SUM(AC41:AE41,AM41:AO41,AW41:AY41,BG41:BI41,BQ41:BS41,CA41:CC41,CK41:CM41,CU41:CW41) -> 1 | D41: =Y41 -> 6 | E41: =IF(AF41>0,AF41,"-") -> New Note | F41: =AI41 -> 6 | G41: =IF(AP41>0,AP41,"-") -> - | H41: =AS41 -> 6 | I41: =IF(AZ41>0,AZ41,"-") -> - | J41: =BC41 -> 6 | K41: =IF(BJ41>0,BJ41,"-") -> - | L41: =BM41 -> 6 | M41: =IF(BT41>0,BT41,"-") -> - | N41: =BW41 -> 6 | O41: =IF(CD41>0,CD41,"-") -> - | P41: =CG41 -> 6 | Q41: =IF(CN41>0,CN41,"-") -> - | R41: =CQ41 -> 6 | S41: =IF(CV41>0,CV41,"-") -> - | T41: =DA41 -> 6 | V41: =A41 -> 40 | W41: sharpEdgeDraftAngle | X41: Double | Y41: 6 | AB41: Edges where the angle between the adjoined faces is more than sharpEdgeDraftAngle away from PI are considered sharp edges. | AC41: =IF(W41=AG41,0,1) -> 0 | AD41: =IF(Y41=AI41,0,1) -> 0 | AE41: =IF(AB41=AL41,0,1) -> 1 | AF41: New Note | AG41: sharpEdgeDraftAngle | AH41: Double | AI41: 6 | AM41: =IF(AG41=AQ41,0,1) -> 0 | AN41: =IF(AI41=AS41,0,1) -> 0 | AO41: =IF(AL41=AV41,0,1) -> 0 | AQ41: sharpEdgeDraftAngle | AR41: Double | AS41: 6 | AW41: =IF(AQ41=BA41,0,1) -> 0 | AX41: =IF(AS41=BC41,0,1) -> 0 | AY41: =IF(AV41=BF41,0,1) -> 0 | BA41: sharpEdgeDraftAngle | BB41: Double | BC41: 6 | BG41: =IF(BA41=BK41,0,1) -> 0 | BH41: =IF(BC41=BM41,0,1) -> 0 | BI41: =IF(BF41=BP41,0,1) -> 0 | BK41: sharpEdgeDraftAngle | BL41: Double | BM41: 6 | BQ41: =IF(BK41=BU41,0,1) -> 0 | BR41: =IF(BM41=BW41,0,1) -> 0 | BS41: =IF(BP41=BZ41,0,1) -> 0 | BU41: sharpEdgeDraftAngle | BV41: Double | BW41: 6 | CA41: =IF(BU41=CE41,0,1) -> 0 | CB41: =IF(BW41=CG41,0,1) -> 0 | CC41: =IF(BZ41=CJ41,0,1) -> 0 | CE41: sharpEdgeDraftAngle | CF41: Double | CG41: 6 | CK41: =IF(CE41=CO41,0,1) -> 0 | CL41: =IF(CG41=CQ41,0,1) -> 0 | CM41: =IF(CJ41=CT41,0,1) -> 0 | CO41: sharpEdgeDraftAngle | CP41: Double | CQ41: 6 | CU41: =IF(CO41=CY41,0,1) -> 0 | CV41: =IF(CQ41=DA41,0,1) -> 0 | CW41: =IF(CT41=DD41,0,1) -> 0 | CY41: sharpEdgeDraftAngle | CZ41: Double | DA41: 6
A42: 41 | B42: =IF(W42>0,W42,IF(AG42>0,AG42,IF(AQ42>0,AQ42,IF(BA42>0,BA42,IF(BK42>0,BK42,IF(BU42>0,BU42,IF(CE42>0,CE42,IF(CO42>0,CO42,IF(CY42>0,CY42,"fix"))))))))) -> sharpEdgeRadius | C42: =SUM(AC42:AE42,AM42:AO42,AW42:AY42,BG42:BI42,BQ42:BS42,CA42:CC42,CK42:CM42,CU42:CW42) -> 1 | D42: =Y42 -> 3.175 | E42: =IF(AF42>0,AF42,"-") -> New Note | F42: =AI42 -> 3.175 | G42: =IF(AP42>0,AP42,"-") -> - | H42: =AS42 -> 3.175 | I42: =IF(AZ42>0,AZ42,"-") -> - | J42: =BC42 -> 3.175 | K42: =IF(BJ42>0,BJ42,"-") -> - | L42: =BM42 -> 3.175 | M42: =IF(BT42>0,BT42,"-") -> - | N42: =BW42 -> 3.175 | O42: =IF(CD42>0,CD42,"-") -> - | P42: =CG42 -> 3.175 | Q42: =IF(CN42>0,CN42,"-") -> - | R42: =CQ42 -> 3.175 | S42: =IF(CV42>0,CV42,"-") -> - | T42: =DA42 -> 3.175 | V42: =A42 -> 41 | W42: sharpEdgeRadius | X42: Double | Y42: 3.175 | AB42: Surfaces with radius of curvature less than sharpEdgeRadius are considered sharp fillets. | AC42: =IF(W42=AG42,0,1) -> 0 | AD42: =IF(Y42=AI42,0,1) -> 0 | AE42: =IF(AB42=AL42,0,1) -> 1 | AF42: New Note | AG42: sharpEdgeRadius | AH42: Double | AI42: 3.175 | AM42: =IF(AG42=AQ42,0,1) -> 0 | AN42: =IF(AI42=AS42,0,1) -> 0 | AO42: =IF(AL42=AV42,0,1) -> 0 | AQ42: sharpEdgeRadius | AR42: Double | AS42: 3.175 | AW42: =IF(AQ42=BA42,0,1) -> 0 | AX42: =IF(AS42=BC42,0,1) -> 0 | AY42: =IF(AV42=BF42,0,1) -> 0 | BA42: sharpEdgeRadius | BB42: Double | BC42: 3.175 | BG42: =IF(BA42=BK42,0,1) -> 0 | BH42: =IF(BC42=BM42,0,1) -> 0 | BI42: =IF(BF42=BP42,0,1) -> 0 | BK42: sharpEdgeRadius | BL42: Double | BM42: 3.175 | BQ42: =IF(BK42=BU42,0,1) -> 0 | BR42: =IF(BM42=BW42,0,1) -> 0 | BS42: =IF(BP42=BZ42,0,1) -> 0 | BU42: sharpEdgeRadius | BV42: Double | BW42: 3.175 | CA42: =IF(BU42=CE42,0,1) -> 0 | CB42: =IF(BW42=CG42,0,1) -> 0 | CC42: =IF(BZ42=CJ42,0,1) -> 0 | CE42: sharpEdgeRadius | CF42: Double | CG42: 3.175 | CK42: =IF(CE42=CO42,0,1) -> 0 | CL42: =IF(CG42=CQ42,0,1) -> 0 | CM42: =IF(CJ42=CT42,0,1) -> 0 | CO42: sharpEdgeRadius | CP42: Double | CQ42: 3.175 | CU42: =IF(CO42=CY42,0,1) -> 0 | CV42: =IF(CQ42=DA42,0,1) -> 0 | CW42: =IF(CT42=DD42,0,1) -> 0 | CY42: sharpEdgeRadius | CZ42: Double | DA42: 3.175
A43: 42 | B43: =IF(W43>0,W43,IF(AG43>0,AG43,IF(AQ43>0,AQ43,IF(BA43>0,BA43,IF(BK43>0,BK43,IF(BU43>0,BU43,IF(CE43>0,CE43,IF(CO43>0,CO43,IF(CY43>0,CY43,"fix"))))))))) -> shellCoreAspectRatio | C43: =SUM(AC43:AE43,AM43:AO43,AW43:AY43,BG43:BI43,BQ43:BS43,CA43:CC43,CK43:CM43,CU43:CW43) -> 0 | D43: =Y43 -> 30 | E43: =IF(AF43>0,AF43,"-") -> - | F43: =AI43 -> 30 | G43: =IF(AP43>0,AP43,"-") -> - | H43: =AS43 -> 30 | I43: =IF(AZ43>0,AZ43,"-") -> - | J43: =BC43 -> 30 | K43: =IF(BJ43>0,BJ43,"-") -> - | L43: =BM43 -> 30 | M43: =IF(BT43>0,BT43,"-") -> - | N43: =BW43 -> 30 | O43: =IF(CD43>0,CD43,"-") -> - | P43: =CG43 -> 30 | Q43: =IF(CN43>0,CN43,"-") -> - | R43: =CQ43 -> 30 | S43: =IF(CV43>0,CV43,"-") -> - | T43: =DA43 -> 30 | V43: =A43 -> 42 | W43: shellCoreAspectRatio | X43: Double | Y43: 30 | AC43: =IF(W43=AG43,0,1) -> 0 | AD43: =IF(Y43=AI43,0,1) -> 0 | AE43: =IF(AB43=AL43,0,1) -> 0 | AG43: shellCoreAspectRatio | AH43: Double | AI43: 30 | AM43: =IF(AG43=AQ43,0,1) -> 0 | AN43: =IF(AI43=AS43,0,1) -> 0 | AO43: =IF(AL43=AV43,0,1) -> 0 | AQ43: shellCoreAspectRatio | AR43: Double | AS43: 30 | AW43: =IF(AQ43=BA43,0,1) -> 0 | AX43: =IF(AS43=BC43,0,1) -> 0 | AY43: =IF(AV43=BF43,0,1) -> 0 | BA43: shellCoreAspectRatio | BB43: Double | BC43: 30 | BG43: =IF(BA43=BK43,0,1) -> 0 | BH43: =IF(BC43=BM43,0,1) -> 0 | BI43: =IF(BF43=BP43,0,1) -> 0 | BK43: shellCoreAspectRatio | BL43: Double | BM43: 30 | BQ43: =IF(BK43=BU43,0,1) -> 0 | BR43: =IF(BM43=BW43,0,1) -> 0 | BS43: =IF(BP43=BZ43,0,1) -> 0 | BU43: shellCoreAspectRatio | BV43: Double | BW43: 30 | CA43: =IF(BU43=CE43,0,1) -> 0 | CB43: =IF(BW43=CG43,0,1) -> 0 | CC43: =IF(BZ43=CJ43,0,1) -> 0 | CE43: shellCoreAspectRatio | CF43: Double | CG43: 30 | CK43: =IF(CE43=CO43,0,1) -> 0 | CL43: =IF(CG43=CQ43,0,1) -> 0 | CM43: =IF(CJ43=CT43,0,1) -> 0 | CO43: shellCoreAspectRatio | CP43: Double | CQ43: 30 | CU43: =IF(CO43=CY43,0,1) -> 0 | CV43: =IF(CQ43=DA43,0,1) -> 0 | CW43: =IF(CT43=DD43,0,1) -> 0 | CY43: shellCoreAspectRatio | CZ43: Double | DA43: 30
